{"text_format":"1","workbook":"xlsx","n_sheets":2,"sheets":["دیده بان","Coveredcall List"],"not_rendered":{"charts":0,"images":1,"macros":1,"external_links":0,"defined_names":1,"comments":0,"pivot_tables":0},"unopened":[],"bounds":{"document_bytes":16777216,"sheet_cells":100000,"rows_first":2000,"rows_last":500,"rows_between":2000,"halvings":0,"cell_chars":16384,"cell_head_chars":4096},"cells_cut":0,"cells_raw":0,"read":"whole","date_system":"1900"}

{"sheet":"دیده بان","index":0,"n_rows":442,"n_cols":26,"rows_kept":442,"cut":false,"hidden":false,"merged":[]}
["نماد","قیمت اعمال","قیمت سهم پایه","تاریخ سررسید","روز","موقعیت های باز","حجم معاملات","ارزش معاملات","آخرین قیمت","درصد آخرین قیمت","قیمت پایانی","درصد قیمت پایانی","سر به سر","بلک شولز","اختلاف تا بلک شولز","وضعیت","اهرم","کمترین قیمت","بیشترین قیمت","وجه تضمین","دلتا","تتا","گاما","وگا","رو","نوسان پذیری ضمنی"]
[" ضخود1122",3000,2829,"1402/11/11",24," 3,719,590 (7.7%)","3M","251.81B",75,-2.6,84,9.09,3075,66,0.13189999999999999,"در ضرر",15,70,101,524000,0.38600000000000001,-1007.942,1.5E-3,281.00900000000001,68.396000000000001,"undefined"]
[" ضخود1120",2600,2829,"1402/11/11",24," 988,113 (0.4%)",246354,"78.96B",310,2.65,320,5.96,2910,318,-2.64E-2,"در سود",8,280,365,900000,0.90400000000000003,-900.30100000000004,6.9999999999999999E-4,124.94199999999999,149.33199999999999,"undefined"]
[" ضسپا1001",2400,2469,"1402/10/20",3," 1,368,934 (-2.2%)",884899,"68.23B",65,-15.58,77,0,2465,104,-0.37229999999999996,"در سود",34,59,117,577000,0.90400000000000003,-1358.915,2.2000000000000001E-3,38.56,17.684999999999999,"undefined"]
[" ضهرم1219",13000,20340,"1402/12/23",66," 325,667 (0.6%)",6599,"54.96B",8222,-0.95,8328,0.33,21222,8065,1.95E-2,"در سود",2,8125,8660,12428000,1,-3113.989,0,9.5190000000000001,2245.6469999999999,"undefined"]
[" ضهرم1224",20000,20340,"1402/12/23",66," 265,808 (1.3%)",16232,"42.03B",2489,-5.83,2589,-2.04,22489,1987,0.25269999999999998,"در سود",6,2422,2830,6689000,0.70599999999999996,-6024.5119999999997,1E-4,3003.125,2255.268,"undefined"]
[" ضسپا1000",2200,2469,"1402/10/20",3," 1,296,454 (-4.2%)",145555,"37.14B",242,-5.84,255,-0.78,2442,300,-0.192,"در سود",10,235,315,755000,1,-549.39,0,2.5000000000000001E-2,18.045000000000002,"undefined"]
[" ضخود1121",2800,2829,"1402/11/11",24," 627,844 (2.5%)",211944,"35.05B",150,-3.23,165,6.45,2950,165,-8.9399999999999993E-2,"در سود",13,146,204,745000,0.68400000000000005,-1143.7639999999999,1.4E-3,261.12200000000001,118.04,"undefined"]
[" ضخود1218",2600,2829,"1402/12/02",45," 625,855 (0.6%)",80845,"31.26B",374,-1.32,387,2.11,2974,368,1.4999999999999999E-2,"در سود",7,370,429,967000,0.86399999999999999,-837.86400000000003,5.9999999999999995E-4,219.27500000000001,259.70100000000002,"undefined"]
[" ضخود1217",2400,2829,"1402/12/02",45," 632,500 (0.9%)",54594,"30.42B",541,3.44,557,6.5,2941,543,-3.3E-3,"در سود",5,504,595,1137000,0.96,-674.697,2.0000000000000001E-4,86.686999999999998,272.04599999999999,"undefined"]
[" ضسپا1002",2600,2469,"1402/10/20",3," 4,312,110 (2.7%)","2M","28.13B",9,-50,15,-16.670000000000002,2609,4,1.1333,"در ضرر",31,6,27,415000,0.112,-983.01599999999996,2.3999999999999998E-3,42.951999999999998,2.2519999999999998,"undefined"]
[" ضتوان1201",16000,18431,"1402/12/14",57," 18,566 (53.8%)",7485,"26.28B",3500,-0.11,3511,0.2,19500,3196,9.5100000000000004E-2,"در سود",5,3420,3550,7211000,0.91800000000000004,-4679.7849999999999,1E-4,1102.1289999999999,2151.7719999999999,"undefined"]
[" ضستا1216",1212,1244,"1402/12/09",52," 3,961,662 (0.3%)",197286,"23.56B",117,-2.5,119,-0.83,1329,108,8.0799999999999997E-2,"در سود",7,116,131,369000,0.70499999999999996,-391.53399999999999,2.0999999999999999E-3,162.124,109.634,"undefined"]
[" ضتوان1203",18000,18431,"1402/12/14",57," 18,857 (17.8%)",9384,"19.17B",2000,-2.63,2043,-0.54,20000,1681,0.18960000000000002,"در سود",7,2000,2102,5743000,0.70599999999999996,-5661.6859999999997,1E-4,2514.6509999999998,1776.3589999999999,"undefined"]
[" ضسپا1219",2200,2469,"1402/12/23",66," 133,359 (16.5%)",43490,"18.51B",391,0.26,426,9.23,2591,413,-5.4199999999999998E-2,"در سود",6,391,500,926000,0.88900000000000001,-645.20799999999997,5.0000000000000001E-4,200.21,326.524,"undefined"]
[" ضهرم1225",22000,20340,"1402/12/23",66," 88,018 (5.9%)",11059,"18.16B",1586,-3.76,1642,-0.36,23586,981,0.61640000000000006,"در ضرر",6,1535,1839,4232000,0.46,-5460.1570000000002,1E-4,3458.7809999999999,1528.117,"undefined"]
[" ضسپا1220",2400,2469,"1402/12/23",66," 176,493 (32.8%)",64230,"17.10B",255,-1.54,266,2.7,2655,265,-3.6200000000000003E-2,"در سود",7,255,314,766000,0.73899999999999999,-728.53599999999994,8.9999999999999998E-4,345.1,285.37099999999998,"undefined"]
[" ضهرم3000",12000,20340,"1403/03/23",157," 30,680 (4.0%)",1475,"16.32B",10360,-1.88,11066,4.8,22360,9716,6.6299999999999998E-2,"در سود",2,10152,14000,15166000,0.998,-2715.5949999999998,0,76.790999999999997,4618.5569999999998,"undefined"]
[" ضهرم3006",20000,20340,"1403/03/23",157," 47,148 (5.1%)",3352,"15.52B",4550,0.22,4631,2,24550,3301,0.37829999999999997,"در سود",3,4420,4765,8731000,0.754,-4760.2460000000001,1E-4,4229.2780000000002,5229.7380000000003,"undefined"]
[" ضسپا1221",2600,2469,"1402/12/23",66," 281,386 (19.3%)",92178,"15.43B",157,5.37,167,12.08,2757,153,2.7999999999999997E-2,"در ضرر",8,156,199,567000,0.54,-706.36800000000005,1.1000000000000001E-3,421.09800000000001,216.13900000000001,"undefined"]
[" ضستا1215",1112,1244,"1402/12/09",52," 1,997,896 (2.0%)",71198,"14.15B",196,-2,199,-0.5,1308,182,7.7699999999999991E-2,"در سود",6,193,230,449000,0.88300000000000001,-342.73599999999999,1.1999999999999999E-3,92.256,130.733,"undefined"]
[" ضذوب1122",4000,4546,"1402/11/02",15," 345,008 (-0.4%)",19502,"12.83B",640,-0.78,658,2.02,4640,641,-1.1999999999999999E-3,"در سود",7,620,698,1578000,0.98399999999999999,-1129.925,1E-4,37.347000000000001,159.59800000000001,"undefined"]
[" ضستا1217",1312,1244,"1402/12/09",52," 1,683,181 (8.1%)",189518,"12.32B",61,-11.59,65,-5.8,1373,56,8.72E-2,"در ضرر",10,60,75,255000,0.47599999999999998,-363.86599999999999,2.3999999999999998E-3,187.12100000000001,76.369,"undefined"]
[" ضخود1219",2800,2829,"1402/12/02",45," 516,267 (0.5%)",49277,"12.20B",241,2.5499999999999998,248,5.53,3041,224,7.6600000000000001E-2,"در سود",8,230,270,828000,0.69,-941.65899999999999,1E-3,354.72300000000001,216.07400000000001,"undefined"]
[" ضخپارس1200",1200,1234,"1402/12/20",63," 1,090,908 (1.0%)",64698,"11.45B",167,-4.0199999999999996,177,1.72,1367,128,0.30299999999999999,"در سود",5,156,198,427000,0.73499999999999999,-368.81900000000002,1.8E-3,169.53899999999999,135.959,"undefined"]
[" ضستا1214",1012,1244,"1402/12/09",52," 2,450,758 (0.3%)",39288,"11.40B",290,0,290,0,1302,270,7.2900000000000006E-2,"در سود",4,287,294,540000,0.97199999999999998,-272.40100000000001,4.0000000000000002E-4,30.591999999999999,133.81700000000001,"undefined"]
[" ضستا1213",912,1244,"1402/12/09",52," 325,118 (-7.2%)",29749,"11.39B",385,1.32,383,0.79,1297,365,5.45E-2,"در سود",3,380,385,633000,0.996,-225.02099999999999,1E-4,5.008,124.726,"undefined"]
[" ضخود1123",3250,2829,"1402/11/11",24," 615,306 (39.0%)",430606,"9.90B",20,-16.670000000000002,23,-4.17,3270,14,0.38479999999999998,"در ضرر",17,17,33,353000,0.11899999999999999,-469.839,8.0000000000000004E-4,145.917,21.431999999999999,"undefined"]
[" ضسپا1222",2800,2469,"1402/12/23",66," 386,740 (15.9%)",91819,"9.09B",94,-5.05,99,0,2894,79,0.18329999999999999,"در ضرر",9,91,110,389000,0.34599999999999997,-574.44299999999998,1E-3,391.22199999999998,141.63200000000001,"undefined"]
[" ضسپا1012",1900,2469,"1402/10/20",3," 599,399 (-1.7%)",16142,"9.08B",542,0.37,563,4.26,2442,599,-9.5000000000000001E-2,"در سود",5,537,597,1063000,1,-474.02499999999998,0,0,15.584,"undefined"]
[" ضدی1100",800,1110,"1402/11/18",31," 304,771 (0.0%)",25618,"8.32B",340,8.6300000000000008,325,3.83,1140,311,9.3900000000000011E-2,"در سود",3,282,350,545000,1,-196.708,0,0.501,66.475999999999999,"undefined"]
[" ضخود1216",2200,2829,"1402/12/02",45," 55,218 (-3.9%)",9933,"7.04B",729,6.89,709,3.96,2929,732,-3.5999999999999999E-3,"در سود",4,692,730,1289000,0.99299999999999999,-555.83399999999995,1E-4,19.536000000000001,260.435,"undefined"]
[" ضهرم1226",24000,20340,"1402/12/23",66," 103,347 (3.6%)",7158,"7.03B",987,-1.6,982,-2.09,24987,416,1.3711000000000002,"در ضرر",5,964,1200,3392000,0.247,-3822.6889999999999,1E-4,2750.5079999999998,839.54899999999998,"undefined"]
[" ضخاور118",3080,3807,"1403/01/15",87," 186,210 (1.5%)",6261,"6.42B",1022,-1.92,1026,-1.54,4102,957,6.8000000000000005E-2,"در سود",4,1009,1150,1796000,0.95899999999999996,-804.79300000000001,1E-4,166.196,650.97199999999998,"undefined"]
[" ضدی1107",1300,1110,"1402/11/18",31," 1,022,388 (0.0%)",194173,"5.84B",36,24.14,30,3.45,1336,4,8.8337000000000003,"در ضرر",2,13,45,170000,7.5999999999999998E-2,-113.85299999999999,1.2999999999999999E-3,45.606999999999999,6.7539999999999996,"undefined"]
[" ضستا1212",812,1244,"1402/12/09",52," 1,907,545 (-0.3%)",11635,"5.55B",473,0,477,0.85,1285,461,2.5099999999999997E-2,"در سود",3,452,488,727000,1,-196.232,0,0.31900000000000001,111.602,"undefined"]
[" ضخود1215",2000,2829,"1402/12/02",45," 187,873 (-1.3%)",5787,"5.32B",909,3.06,920,4.3099999999999996,2909,925,-1.7000000000000001E-2,"در سود",3,870,959,1500000,0.999,-487.42200000000003,0,2.149,238.869,"undefined"]
[" ضخود1119",2400,2829,"1402/11/11",24," 107,046 (0.2%)",8582,"4.39B",488,-1.41,511,3.23,2888,504,-3.2599999999999997E-2,"در سود",6,481,590,1091000,0.98599999999999999,-649.60199999999998,1E-4,26.2,152.51400000000001,"undefined"]
[" ضستا1220",1612,1244,"1402/12/09",52," 7,358,662 (0.7%)",220916,"4.08B",17,-5.56,18,0,1629,3,3.8944000000000001,"در ضرر",4,17,21,188000,5.2999999999999999E-2,-77.522000000000006,6.9999999999999999E-4,50.481000000000002,8.84,"undefined"]
[" ضهرم1222",16000,20340,"1402/12/23",66," 45,208 (1.3%)",730,"4.07B",5450,-4.32,5575,-2.12,21450,5222,4.3700000000000003E-2,"در سود",4,5401,5721,9675000,0.97899999999999998,-4131.0630000000001,0,433.82600000000002,2684.268,"undefined"]
[" ضذوب1121",3750,4546,"1402/11/02",15," 132,417 (-0.1%)",4436,"3.98B",852,-2.96,897,2.16,4602,886,-3.8800000000000001E-2,"در سود",5,851,900,1817000,0.999,-941.55,0,3.5129999999999999,152.316,"undefined"]
[" ضستا1209",512,1244,"1402/12/09",52," 350,089 (-1.1%)",5019,"3.80B",760,-5.24,758,-5.49,1272,751,1.21E-2,"در سود",2,669,767,1008000,1,-123.521,0,0,70.39,"undefined"]
[" ضخود1220",3000,2829,"1402/12/02",45," 279,424 (4.6%)",21920,"3.71B",147,-5.77,169,8.33,3147,120,0.22409999999999999,"در ضرر",9,141,200,609000,0.47399999999999998,-877.59699999999998,1.1000000000000001E-3,400.33,152.55699999999999,"undefined"]
[" ضخپارس403",1050,1234,"1403/04/10",175," 25,184 (39.8%)",7466,"2.84B",385,-6.33,380,-7.54,1435,329,0.16969999999999999,"در سود",3,375,521,630000,0.90700000000000003,-252.64699999999999,5.9999999999999995E-4,143.65199999999999,383.971,"undefined"]
[" ضفصبا300",4800,6290,"1403/03/20",154," 12,061 (19.8%)",2170,"2.78B",1280,-5.19,1279,-5.26,6080,2110,-0.39350000000000002,"در سود",5,1270,1300,2569000,0.96799999999999997,-1147.8230000000001,0,300.09899999999999,1727.079,"undefined"]
[" ضموج407",13500,12542,"1403/04/03",168," 6,721 (19.6%)",1100,"2.54B",2300,-7.52,2308,-7.2,15800,1468,0.56659999999999999,"در ضرر",3,2300,2540,3928000,0.623,-2828.3580000000002,1E-4,3247.6439999999998,2933.9270000000001,"undefined"]
[" ضموج401",8500,12542,"1403/04/03",168," 255 (0.0%)",464,"2.44B",5900,589900,5249,524800,14400,5035,0.17180000000000001,"در سود",2,4900,5900,7769000,0.98799999999999999,-1953.981,0,265,3411.9659999999999,"undefined"]
[" ضروز1203",24000,27700,"1402/12/16",59," 1,679 (0.1%)",334,"2.27B",6772,14.28,6809,14.9,30772,4883,0.38670000000000004,"در سود",4,6772,6850,12369000,0.91900000000000004,-6978.3320000000003,0,1679.46,3336.395,"undefined"]
[" ضخود1221",3250,2829,"1402/12/02",45," 99,405 (16.8%)",24692,"2.08B",63,-32.26,84,-9.68,3313,46,0.36729999999999996,"در ضرر",11,63,105,414000,0.23699999999999999,-598.55700000000002,8.9999999999999998E-4,310.34300000000002,77.938999999999993,"undefined"]
[" ضتوان1205",20000,18431,"1402/12/14",57," 16,156 (1.1%)",2033,"2.08B",990,0,1024,3.43,20990,707,0.40049999999999997,"در ضرر",8,980,1100,3204000,0.41299999999999998,-4921.3999999999996,2.0000000000000001E-4,2844.9169999999999,1082.748,"undefined"]
[" ضسپا1218",2000,2469,"1402/12/23",66," 14,932 (8.3%)",3139,"1.94B",584,-16.21,618,-11.33,2584,588,-7.0999999999999995E-3,"در سود",4,584,670,1118000,0.96899999999999997,-529.37199999999996,2.0000000000000001E-4,74.494,330.74200000000002,"undefined"]
[" ضکرمان1200",898,1323,"1402/12/14",57," 199,219 (-0.2%)",3760,"1.82B",451,-2.17,483,4.7699999999999996,1349,469,-3.9199999999999999E-2,"در سود",3,450,515,753000,0.999,-217.047,0,1.226,134.721,"undefined"]
[" ضدی1105",1100,1110,"1402/11/18",31," 275,495 (0.0%)",24408,"1.79B",84,27.27,73,10.61,1184,53,0.57799999999999996,"در ضرر",8,52,93,293000,0.58099999999999996,-402.31299999999999,3.5000000000000001E-3,124.53400000000001,49.502000000000002,"undefined"]
[" ضهرم1227",26000,20340,"1402/12/23",66," 28,529 (1.6%)",2233,"1.51B",611,-8.4,676,1.35,26611,154,2.9737,"در ضرر",4,611,700,3286000,0.111,-2123.6849999999999,1E-4,1647.3630000000001,382.88099999999997,"undefined"]
[" ضسپا1013",2000,2469,"1402/10/20",3," 72,973 (-1.0%)",3294,"1.47B",435,-7.45,446,-5.1100000000000003,2435,499,-0.12839999999999999,"در سود",6,432,482,946000,1,-498.97399999999999,0,0,16.405000000000001,"undefined"]
[" ضجهش0202",7500,11320,"1403/02/12",115," 12,598 (0.2%)",285,"1.35B",4665,-6.79,4745,-5.19,12165,4451,4.8000000000000001E-2,"در سود",2,4665,4804,7025000,0.996,-1765.2750000000001,0,82.024000000000001,2167.3130000000001,"undefined"]
[" ضصاد1136",1807,1851,"1402/11/11",24," 37,519 (33.2%)",11297,"1.32B",100,-43.5,106,-40.11,1907,110,-8.72E-2,"در سود",13,95,180,527000,0.69399999999999995,-737.65899999999999,2.0999999999999999E-3,166.601,77.393000000000001,"undefined"]
[" ضستا1218",1412,1244,"1402/12/09",52," 517,385 (4.5%)",35940,"1.30B",35,-7.89,36,-5.26,1447,25,0.3856,"در ضرر",10,35,40,186000,0.26900000000000002,-267.62900000000002,2E-3,154.96299999999999,44.036999999999999,"undefined"]
[" ضدی1104",1000,1110,"1402/11/18",31," 60,802 (0.0%)",8096,"1.18B",161,26.77,146,14.96,1161,122,0.31530000000000002,"در سود",6,120,169,366000,0.873,-344.97399999999999,1.9E-3,66.417000000000002,70.703999999999994,"undefined"]
[" ضبساما204",9500,9700,"1403/02/23",126," 1,200 (0.0%)",1335,"1.07B",850,84900,798,79700,10350,1281,-0.33649999999999997,"در سود",8,700,900,2728000,0.71899999999999997,-2371.9899999999998,2.0000000000000001E-4,1905.4929999999999,1941.451,"undefined"]
[" ضفصبا1100",4800,6290,"1402/11/18",31," 28,308 (3.3%)",986,"1.02B",968,-7.81,1030,-1.9,5768,1711,-0.43430000000000002,"در سود",6,968,1050,2320000,0.999,-1185.942,0,6.2,398.55500000000001,"undefined"]
[" ضهرم1223",18000,20340,"1402/12/23",66," 70,558 (0.2%)",248,"969.75M",3750,-5.18,3910,-1.1399999999999999,21750,3450,8.6800000000000002E-2,"در سود",5,3749,4050,8010000,0.89400000000000002,-5260.1490000000003,1E-4,1593.998,2688.8020000000001,"undefined"]
[" ضصاد1137",1988,1851,"1402/11/11",24," 69,067 (14.3%)",12264,"916.89M",58,-18.309999999999999,68,-4.2300000000000004,2046,29,1.0151000000000001,"در ضرر",9,53,75,345000,0.28899999999999998,-559.17399999999998,2.0999999999999999E-3,162.45400000000001,33.351999999999997,"undefined"]
[" ضخوز1032",2800,3527,"1402/10/17",1," 1,490 (0.0%)",1490,"879.80M",590,58900,590,58900,3390,738,-0.20050000000000001,"در سود",6,590,591,1300000,1,-699.52099999999996,0,0,7.6660000000000004,"undefined"]
[" ضهرم3003",15000,20340,"1403/03/23",157," 2,430 (4.3%)",101,"787.33M",7777,-2.58,7795,-2.36,22777,7070,0.1,"در سود",3,7700,8099,11895000,0.97399999999999998,-3552.4490000000001,0,813.50900000000001,5542.7020000000002,"undefined"]
[" ضبساما203",9000,9700,"1403/02/23",126," 3,900 (0.0%)",800,"780.05M",750,-63.13,975,-52.06,9750,1598,-0.53079999999999994,"در سود",10,750,1300,2905000,0.8,-2323.7420000000002,1E-4,1581.039,2101.9459999999999,"undefined"]
[" ضسپا1003",2800,2469,"1402/10/20",3," 1,339,781 (-5.5%)",273234,"742.41M",2,-33.33,3,0,2802,0,1,"در ضرر",0,2,5,293000,0,-3.5910000000000002,0,0.16300000000000001,4.0000000000000001E-3,"undefined"]
[" ضخود1118",2200,2829,"1402/11/11",24," 1,118 (3.7%)",1090,"720.90M",670,11.67,661,10.17,2870,700,-4.2800000000000005E-2,"در سود",4,650,680,1241000,0.999,-545.64499999999998,0,1.9450000000000001,142.15,"undefined"]
[" ضستا1114",1300,1244,"1402/11/11",24," 42,784 (132.5%)",26379,"701.17M",29,-6.45,27,-12.9,1329,30,-4.1599999999999998E-2,"در ضرر",17,25,35,227000,0.4,-445.13900000000001,3.5000000000000001E-3,123.33,30.747,"undefined"]
[" ضجهش0200",6500,11320,"1403/02/12",115," 6,406 (0.9%)",110,"622.10M",5560,-1.1000000000000001,5655,0.59,12060,5373,3.49E-2,"در سود",2,5560,5700,7935000,1,-1505.88,0,9.32,1891.297,"undefined"]
[" ضجهش0205",10000,11320,"1403/02/12",115," 4,408 (0.1%)",205,"616.40M",3000,-3.6,3007,-3.37,13000,2287,0.31190000000000001,"در سود",3,3000,3280,5287000,0.876,-2646.277,1E-4,1304.6110000000001,2421.806,"undefined"]
[" ضسپا1223",3000,2469,"1402/12/23",66," 64,877 (11.7%)",8697,"603.25M",70,16.670000000000002,69,15,3070,37,0.87,"در ضرر",7,52,75,379000,0.19500000000000001,-395.07600000000002,6.9999999999999999E-4,292.33699999999999,81.117999999999995,"undefined"]
[" ضذوب1123",4500,4546,"1402/11/02",15," 37,651 (-1.5%)",2730,"589.27M",209,-11.44,216,-8.4700000000000006,4709,213,-1.7600000000000001E-2,"در سود",15,150,270,1136000,0.68600000000000005,-2143.6489999999999,1.1000000000000001E-3,330.77100000000002,120.84099999999999,"undefined"]
[" ضهرم2000",12000,20340,"1403/02/26",129," 626 (8.7%)",54,"539.86M",9900,-24.79,9997,-24.06,21900,9506,4.1399999999999999E-2,"در سود",2,9503,10500,14097000,0.999,-2760.7489999999998,0,39.79,3875.0149999999999,"undefined"]
[" ضجار1204",2000,2257,"1402/12/16",59," 28,931 (4.4%)",1280,"491.68M",380,-9.31,384,-8.35,2380,352,0.08,"در سود",5,366,400,844000,0.88600000000000001,-600.35400000000004,5.9999999999999995E-4,174.46100000000001,266.05099999999999,"undefined"]
[" ضهرم0107",22000,20340,"1403/01/22",94," 1,200 (20.0%)",200,"488.20M",2441,388.2,2441,388.2,24441,1387,0.7601,"در ضرر",4,2441,2441,5031000,0.52,-5133.8419999999996,1E-4,4142.91,2388.5239999999999,"undefined"]
[" ضتاب0200",6000,9900,"1403/02/05",108," 1,354 (8.3%)",104,"477.39M",4600,-1.1000000000000001,4590,-1.31,10600,4368,5.2999999999999999E-2,"در سود",2,4590,4600,6580000,0.999,-1400.155,0,15.826000000000001,1646.0920000000001,"undefined"]
[" ضهرم1218",12000,20340,"1402/12/23",66," 9,463 (-0.1%)",48,"406.25M",9100,-8.8000000000000007,8464,-15.17,21100,9020,8.8000000000000005E-3,"در سود",2,8072,9100,12564000,1,-2868.4720000000002,0,1.298,2073.8209999999999,"undefined"]
[" ضصاد1132",1445,1851,"1402/11/11",24," 42,120 (-1.6%)",847,"384.98M",410,-9.49,411,-9.27,1855,432,-5.0099999999999999E-2,"در سود",5,410,455,864000,0.999,-360.33699999999999,0,2.1120000000000001,93.295000000000002,"undefined"]
[" ضستا1219",1512,1244,"1402/12/09",52," 368,968 (3.3%)",15609,"377.54M",24,-11.11,24,-11.11,1536,10,1.4118999999999999,"در ضرر",7,23,28,184000,0.128,-158.316,1.2999999999999999E-3,98.433999999999997,21.315000000000001,"undefined"]
[" ضجار1205",2200,2257,"1402/12/16",59," 19,339 (8.4%)",1635,"367.11M",250,-10.07,225,-19.059999999999999,2450,206,0.2152,"در سود",6,201,250,685000,0.70199999999999996,-684.22900000000004,1.1000000000000001E-3,314.18,222.47900000000001,"undefined"]
[" ضکرمان1204",1198,1323,"1402/12/14",57," 44,401 (3.2%)",1539,"345.15M",208,-26.76,224,-21.13,1406,194,7.3700000000000002E-2,"در سود",6,200,240,494000,0.86899999999999999,-366.58199999999999,1.1999999999999999E-3,111.806,150.72399999999999,"undefined"]
[" ضستا1115",1400,1244,"1402/11/11",24," 45,991 (235.9%)",40811,"338.41M",8,-11.11,8,-11.11,1408,8,4.1700000000000001E-2,"در ضرر",22,7,10,158000,0.14000000000000001,-231.03299999999999,2E-3,71.131,10.973000000000001,"undefined"]
[" ضتاب0205",9000,9900,"1403/02/05",108," 4,544 (2.8%)",165,"337.53M",2040,-4.8099999999999996,2046,-4.53,11040,1752,0.16420000000000001,"در سود",4,2000,2100,4036000,0.84299999999999997,-2425.5030000000002,1E-4,1301.086,1959.972,"undefined"]
[" ضهین0304",10000,11060,"1403/03/30",164," 4,816 (2.1%)",116,"330.44M",2850,1.64,2849,1.6,12850,2420,0.17749999999999999,"در سود",3,2840,2850,5079000,0.85499999999999998,-2439.0909999999999,1E-4,1705.316,3189.96,"undefined"]
[" ضدی1106",1200,1110,"1402/11/18",31," 102,494 (0.0%)",6406,"295.87M",51,50,46,35.29,1251,17,2.0813000000000001,"در ضرر",6,32,59,176000,0.25900000000000001,-279.11799999999999,2.8999999999999998E-3,103.13800000000001,22.626999999999999,"undefined"]
[" ضبرک1000",5000,6880,"1402/10/17",1," 176 (0.0%)",198,"269.25M",2000,-19.68,1360,-45.38,7000,2013,-6.7000000000000002E-3,"در سود",3,1220,2250,2770000,1,-1249.144,0,0,13.689,"undefined"]
[" ضهرم0108",24000,20340,"1403/01/22",94," 233 (606.1%)",201,"254.67M",1267,-20.86,1267,-20.86,25267,721,0.75769999999999993,"در ضرر",5,1267,1268,3677000,0.33,-4072.0680000000002,1E-4,3767.3539999999998,1557.64,"undefined"]
[" ضسپا1215",1700,2469,"1402/12/23",66," 49,232 (0.0%)",290,"250.09M",856,1.06,862,1.77,2556,870,-1.6399999999999998E-2,"در سود",3,852,900,1362000,0.998,-410.38799999999998,0,5.3609999999999998,293.07600000000002,"undefined"]
[" ضکرمان1205",1298,1323,"1402/12/14",57," 73,916 (2.1%)",1602,"240.49M",138,-12.66,150,-5.0599999999999996,1436,121,0.1371,"در سود",7,138,180,420000,0.70699999999999996,-408.3,1.9E-3,181.26599999999999,128.161,"undefined"]
[" ضخاور119",3280,3807,"1403/01/15",87," 34,789 (0.2%)",287,"239.75M",830,-17,835,-16.5,4110,785,5.79E-2,"در سود",4,830,850,1605000,0.91400000000000003,-899.15,2.0000000000000001E-4,294.23,651.31100000000004,"undefined"]
[" ضصاد1138",2169,1851,"1402/11/11",24," 15,581 (25.9%)",5700,"237.46M",32,-11.11,38,5.56,2201,4,6.2182000000000004,"در ضرر",4,32,44,282000,6.3E-2,-185.654,6.9999999999999999E-4,59.128,7.44,"undefined"]
[" ضسپا1217",1900,2469,"1402/12/23",66," 55,971 (0.3%)",344,"236M",670,-12.65,686,-10.56,2570,681,-1.5900000000000001E-2,"در سود",4,670,760,1186000,0.98599999999999999,-480.79500000000002,1E-4,36.926000000000002,321.90499999999997,"undefined"]
[" ضشنا1206",9000,8210,"1402/12/02",45," 1,086 (1162.8%)",1015,"233.85M",230,-25.81,230,-25.81,9230,217,6.13E-2,"در ضرر",12,230,260,1140000,0.34300000000000003,-2160.3609999999999,4.0000000000000002E-4,1063.08,321.22699999999998,"undefined"]
[" ضستا1210",612,1244,"1402/12/09",52," 269,570 (0.0%)",346,"229.25M",645,-3.87,663,-1.19,1257,654,-1.44E-2,"در سود",2,645,664,913000,1,-147.64699999999999,0,0,84.138000000000005,"undefined"]
[" ضخود1124",3500,2829,"1402/11/11",24," 177,329 (6.3%)",19184,"215.82M",8,-20,11,10,3508,2,2.8436000000000003,"در ضرر",8,7,17,371000,2.1999999999999999E-2,-119.69,2.0000000000000001E-4,39.14,4.0819999999999999,"undefined"]
[" ضهرم1228",28000,20340,"1402/12/23",66," 72,217 (0.3%)",526,"211.34M",400,-4.99,402,-4.51,28400,50,6.944,"در ضرر",2,350,500,3212000,4.2999999999999997E-2,-972.65899999999999,0,791.923,149.167,"undefined"]
[" ضپلا1221",135200,142010,"1402/12/09",52," 6,346 (20.4%)",1075,"190.80M",17500,-32.69,17749,-31.73,152700,14729,0.18809999999999999,"در سود",6,17500,18000,467000,0.76800000000000002,-43828.381000000001,0,16404.258999999998,13493.191999999999,"undefined"]
[" ضشنا1205",8000,8210,"1402/12/02",45," 485 (119.5%)",273,"189.80M",650,-18.75,695,-13.13,8650,680,-4.36E-2,"در سود",9,650,755,2345000,0.71,-2698.5230000000001,2.9999999999999997E-4,990.70899999999995,637.28200000000004,"undefined"]
[" ضتاب0202",7000,9900,"1403/02/05",108," 1,141 (0.9%)",50,"186.20M",3710,1.06,3724,1.44,10710,3446,7.6600000000000001E-2,"در سود",3,3710,3760,5714000,0.99,-1683.9960000000001,0,144.37100000000001,1892.0530000000001,"undefined"]
[" ضجهش0201",7000,11320,"1403/02/12",115," 8,819 (0.0%)",34,"178.64M",5254,0.59,5254,0.59,12254,4911,6.9800000000000001E-2,"در سود",2,5254,5254,7534000,0.999,-1630.059,0,30.713999999999999,2032.8209999999999,"undefined"]
[" ضبساما205",10000,9700,"1403/02/23",126," 426 (-18.7%)",240,"170.77M",700,-8.5,712,-6.93,10700,1007,-0.3049,"در ضرر",9,700,900,2252000,0.629,-2341.0010000000002,2.0000000000000001E-4,2133.84,1738.817,"undefined"]
[" ضفصبا1102",5800,6290,"1402/11/18",31," 11,685 (6.5%)",873,"167.47M",174,-22.32,192,-14.29,5974,767,-0.77319999999999989,"در سود",32,172,230,1482000,0.89200000000000002,-1950.5619999999999,2.9999999999999997E-4,345.66199999999998,420.69299999999998,"undefined"]
[" ضسپا1004",3000,2469,"1402/10/20",3," 327,629 (-31.1%)",163517,"163.72M",1,0,1,0,3001,0,1,"در ضرر",0,1,2,311000,0,0,0,0,0,"undefined"]
[" ضپلا1222",145200,142010,"1402/12/09",52," 3,909 (43333.3%)",3900,"157.90M",4100,-65.83,4049,-66.260000000000005,149300,8681,-0.52770000000000006,"در ضرر",20,4000,4100,300000,0.57599999999999996,-44228.748,0,21060.639999999999,10461.879000000001,"undefined"]
[" ضدی1101",850,1110,"1402/11/18",31," 1,208 (0.0%)",542,"146.34M",270,10.199999999999999,270,10.199999999999999,1120,262,3.0699999999999998E-2,"در سود",4,270,270,490000,0.997,-213.405,1E-4,3.0350000000000001,70.373999999999995,"undefined"]
[" ضهین0308",14000,11060,"1403/03/30",164," 14,196 (1.5%)",210,"131.25M",625,4.17,625,4.17,14625,550,0.1363,"در ضرر",6,600,650,2035000,0.35299999999999998,-1925.172,1E-4,2773.6729999999998,1518.4639999999999,"undefined"]
[" ضسپا1014",1700,2469,"1402/10/20",3," 9,596 (0.0%)",171,"127.04M",733,-0.95,743,0.41,2433,798,-8.199999999999999E-2,"در سود",3,733,750,1243000,1,-424.12799999999999,0,0,13.944000000000001,"undefined"]
[" ضذوب1124",5000,4546,"1402/11/02",15," 26,426 (0.4%)",2100,"126.60M",48,-15.79,60,5.26,5048,26,0.82640000000000002,"در ضرر",15,48,73,580000,0.158,-1134.971,6.9999999999999999E-4,225.31200000000001,28.852,"undefined"]
[" ضبساما1103",10000,9700,"1402/11/04",17," 2,485 (-8.8%)",240,"119.28M",497,-0.6,497,-0.6,10497,177,1.8133000000000001,"در ضرر",7,497,497,2037000,0.36899999999999999,-3781.569,5.0000000000000001E-4,782.31200000000001,156.893,"undefined"]
[" ضشنا1207",10000,8210,"1402/12/02",45," 8,201 (12.3%)",2326,"116.58M",50,72.41,50,72.41,10050,47,5.4699999999999999E-2,"در ضرر",17,50,74,1060000,0.10299999999999999,-938.91600000000005,2.0000000000000001E-4,519.90300000000002,99.094999999999999,"undefined"]
[" ضصاد0108",2172,1851,"1403/01/26",98," 2,964 (50.9%)",1000,"110.50M",100,-50,100,-50,2272,69,0.45299999999999996,"در ضرر",6,100,100,361000,0.33900000000000002,-368.91800000000001,1.1000000000000001E-3,351.43400000000003,150.20400000000001,"undefined"]
[" ضشنا2038",8000,8210,"1403/02/09",112," 7,445 (1.1%)",85,"97.85M",1152,0.17,1151,0.09,9152,1108,3.9900000000000005E-2,"در سود",5,1147,1152,2801000,0.74099999999999999,-2092.0360000000001,2.0000000000000001E-4,1478.9090000000001,1532.5239999999999,"undefined"]
[" ضخپارس1215",1000,1234,"1402/12/20",63," 70,367 (0.0%)",306,"92.37M",345,11.29,302,-2.58,1345,290,0.18780000000000002,"در سود",3,301,349,552000,0.97,-265.2,4.0000000000000002E-4,35.142000000000003,158.49700000000001,"undefined"]
[" ضستا2026",1200,1244,"1403/02/12",115," 447 (4370.0%)",437,"85.20M",188,-24.8,195,-22,1388,175,7.1399999999999991E-2,"در سود",5,188,250,445000,0.754,-313.09500000000003,1.2999999999999999E-3,220.256,240.40600000000001,"undefined"]
[" ضبساما1102",9500,9700,"1402/11/04",17," 1,663 (-5.7%)",100,"80M",800,-31.15,800,-31.15,10300,410,0.9534999999999999,"در سود",8,800,800,2730000,0.63500000000000001,-4352.3530000000001,5.0000000000000001E-4,779.76800000000003,265.012,"undefined"]
[" ضمیا1100",4500,6070,"1402/11/25",38," 2,359 (1.7%)",40,"75.50M",1750,-16.670000000000002,1887,-10.14,6250,1716,1.9900000000000001E-2,"در سود",3,1750,2000,3117000,0.999,-1109.364,0,9.2409999999999997,455.51299999999998,"undefined"]
[" ضروز1206",30000,27700,"1402/12/16",59," 1,797 (5.9%)",100,"75M",750,-28.64,750,-28.64,30750,1124,-0.33279999999999998,"در ضرر",16,750,750,4090000,0.42499999999999999,-7410.1139999999996,1E-4,4377.0389999999998,1727.27,"undefined"]
[" ضموج409",15500,12542,"1403/04/03",168," 1,742 (2.2%)",38,"71.23M",1855,-12.99,1874,-12.1,17355,732,1.5341999999999998,"در ضرر",3,1850,2240,3434000,0.39400000000000002,-2307.0479999999998,1E-4,3287.9450000000002,1945.9349999999999,"undefined"]
[" ضدی1108",1400,1110,"1402/11/18",31," 16,457 (0.0%)",3115,"71.15M",26,30,23,15,1426,1,42.845200000000006,"در ضرر",1,10,26,173000,1.4999999999999999E-2,-29.568000000000001,2.9999999999999997E-4,12.372999999999999,1.3839999999999999,"undefined"]
[" ضسپا1015",1800,2469,"1402/10/20",3," 15,412 (0.0%)",103,"66.91M",638,-1.0900000000000001,650,0.78,2438,699,-8.6899999999999991E-2,"در سود",4,638,650,1150000,1,-449.07600000000002,0,0,14.763999999999999,"undefined"]
[" ضهمن1106",1900,1980,"1402/11/23",36," 21,927 (-0.1%)",316,"64.27M",180,-24.05,203,-14.35,2080,172,4.4400000000000002E-2,"در سود",8,180,277,603000,0.76400000000000001,-680.07299999999998,1.4E-3,192.97900000000001,133.21799999999999,"undefined"]
[" ضهرم2008",24000,20340,"1403/02/26",129," 400 (7.8%)",29,"55.97M",1930,0.78,1930,0.78,25930,1116,0.72870000000000001,"در ضرر",4,1930,1930,4340000,0.40899999999999997,-4156.5450000000001,1E-4,4731.402,2564.1210000000001,"undefined"]
[" ضخاور120",3480,3807,"1403/01/15",87," 11,437 (-0.0%)",85,"55.77M",656,-21.81,656,-21.81,4136,625,4.9100000000000005E-2,"در سود",5,656,657,1426000,0.84599999999999997,-984.34900000000005,4.0000000000000002E-4,444.96,627.03099999999995,"undefined"]
[" ضسپا1224",3250,2469,"1402/12/23",66," 34,769 (2.8%)",1155,"54.90M",46,-20.69,48,-17.239999999999998,3296,13,2.5666000000000002,"در ضرر",4,40,60,378000,8.1000000000000003E-2,-201.464,4.0000000000000002E-4,159.27000000000001,34.228000000000002,"undefined"]
[" ضتاب0204",8000,9900,"1403/02/05",108," 20,186 (0.1%)",18,"52.74M",2930,1.03,2930,1.03,10930,2555,0.1467,"در سود",3,2930,2930,4920000,0.94799999999999995,-2057.721,1E-4,576.80799999999999,2031.675,"undefined"]
[" ضخود0122",3250,2829,"1403/01/08",80," 3,356 (0.0%)",310,"51.10M",160,-3.03,165,0,3410,106,0.51229999999999998,"در ضرر",6,160,170,495000,0.36099999999999999,-633.13099999999997,8.0000000000000004E-4,502.19400000000002,203.53800000000001,"undefined"]
[" ضبرک1001",5500,6880,"1402/10/17",1," 707 (0.0%)",35,"49.10M",1403,0.21,1403,0.21,6903,1514,-7.3200000000000001E-2,"در سود",5,1400,1410,2813000,1,-1374.059,0,0,15.058,"undefined"]
[" ضموج410",16500,12542,"1403/04/03",168," 614 (5.0%)",34,"48.79M",1435,-34.020000000000003,1435,-34.020000000000003,17935,499,1.8769,"در ضرر",3,1001,1520,3095000,0.29699999999999999,-1935.4970000000001,1E-4,2958.2220000000002,1492.6790000000001,"undefined"]
[" ضتاب0206",10000,9900,"1403/02/05",108," 17,381 (0.2%)",30,"48M",1600,-2.44,1600,-2.44,11600,1101,0.45270000000000005,"در ضرر",4,1600,1600,3530000,0.67400000000000004,-2552.3739999999998,2.0000000000000001E-4,1947.482,1657.655,"undefined"]
[" ضجار1206",2400,2257,"1402/12/16",59," 2,530 (15.0%)",330,"46.53M",141,-6,141,-6,2541,104,0.35590000000000005,"در ضرر",7,141,141,451000,0.46500000000000002,-625.75900000000001,1.2999999999999999E-3,360.11700000000002,152.51900000000001,"undefined"]
[" ضبساما206",11000,9700,"1403/02/23",126," 108 (0.0%)",108,"44M",500,49900,407,40600,11500,589,-0.151,"در ضرر",9,400,500,1517000,0.44700000000000001,-2057.1869999999999,2.0000000000000001E-4,2232.2750000000001,1278.0170000000001,"undefined"]
[" ضخپارس1201",1300,1234,"1402/12/20",63,"1958-07-01T00:00:44",387,"41.48M",106,-10.92,107,-10.08,1406,73,0.4592,"در ضرر",6,105,111,307000,0.53100000000000003,-355.98700000000002,2.2000000000000001E-3,205.893,101.652,"undefined"]
[" ضموج408",14500,12542,"1403/04/03",168," 3,384 (0.5%)",17,"36.51M",2001,-20.63,2147,-14.84,16501,1050,0.90569999999999995,"در ضرر",3,2001,2250,3607000,0.504,-2622.6010000000001,1E-4,3409.5169999999998,2441.7979999999998,"undefined"]
[" ضتوان1208",26000,18431,"1402/12/14",57," 13,448 (-1.5%)",214,"34.24M",160,-1.84,160,-1.84,26160,15,9.5707000000000004,"در ضرر",2,160,160,2770000,1.7000000000000001E-2,-423.82499999999999,0,310.74,47.228000000000002,"undefined"]
[" ضهرم2007",22000,20340,"1403/02/26",129," 422 (2.4%)",10,"31.70M",3170,3.59,3170,3.59,25170,1864,0.70040000000000002,"در ضرر",4,3170,3170,5760000,0.57399999999999995,-4839.58,1E-4,4775.4210000000003,3498.913,"undefined"]
[" ضصاد1139",2350,1851,"1402/11/11",24," 31,304 (0.0%)",2846,"31.45M",10,-47.37,10,-47.37,2360,0,1,"در ضرر",1,10,10,271000,8.0000000000000002E-3,-30.518999999999998,1E-4,10.153,0.92,"undefined"]
[" ضملی0105",7000,7300,"1403/01/19",91," 45 (200.0%)",30,"30M",1000,-31.03,1000,-31.03,8000,928,7.7699999999999991E-2,"در سود",5,1000,1000,2470000,0.753,-1950.079,2.0000000000000001E-4,1150.712,1139.2380000000001,"undefined"]
[" ضخود0121",3000,2829,"1403/01/08",80," 9,176 (0.1%)",111,"28.10M",280,33.97,253,21.05,3280,198,0.41090000000000004,"در ضرر",6,250,295,693000,0.55300000000000005,-769.64400000000001,8.0000000000000004E-4,530.18700000000001,303.62599999999998,"undefined"]
[" ضهین0306",12000,11060,"1403/03/30",164," 16,677 (0.0%)",20,"26M",1300,-33.33,1300,-33.33,13300,1242,4.7E-2,"در ضرر",5,1300,1300,2670000,0.61,-2504.1640000000002,1E-4,2865.1849999999999,2495.0050000000001,"undefined"]
[" ضرول1005",1850,1999,"1402/10/24",7," 16,247 (0.0%)",202,"25.20M",124,-12.06,125,-11.35,1974,165,-0.24989999999999998,"در سود",16,124,164,535000,0.96299999999999997,-647.40499999999997,8.0000000000000004E-4,22.594000000000001,33.847999999999999,"undefined"]
[" ضخود1126",4000,2829,"1402/11/11",24," 84,563 (2.4%)",3000,"24M",8,14.29,8,14.29,4008,0,1,"در ضرر",0,8,8,418000,0,-1.9059999999999999,0,0.65400000000000003,4.3999999999999997E-2,"undefined"]
[" ضهمن1105",1800,1980,"1402/11/23",36," 13,480 (-0.7%)",94,"23.50M",250,-20.38,250,-20.38,2050,250,-1.8E-3,"در سود",7,250,250,650000,0.88700000000000001,-592.58500000000004,8.9999999999999998E-4,120.078,149.733,"undefined"]
[" ضکرمان1202",998,1323,"1402/12/14",57," 3,619 (0.0%)",57,"22.80M",400,3.36,400,3.36,1398,374,7.0499999999999993E-2,"در سود",3,400,400,670000,0.99299999999999999,-249.29400000000001,1E-4,10.603,148.30099999999999,"undefined"]
[" ضدار1218",180000,181070,"1402/12/23",66," 664 (18.6%)",104,"21.80M",20000,0,20962,4.8099999999999996,200000,15957,0.25340000000000001,"در سود",6,20000,21000,580000,0.66900000000000004,-53488.667999999998,0,27991.113000000001,19093.915000000001,"undefined"]
[" ضخاور122",3880,3807,"1403/01/15",87," 46,177 (0.1%)",42,"20.45M",555,5.31,487,-7.59,4435,362,0.53139999999999998,"در ضرر",4,471,555,1227000,0.65,-1045.1099999999999,5.9999999999999995E-4,695.97900000000004,509.24799999999999,"undefined"]
[" ضصاد1145",3617,1851,"1402/11/11",24," 220,747 (0.0%)",15101,"20M",1,-66.67,1,-66.67,3618,0,1,"در ضرر",0,1,3,401000,0,0,0,0,0,"undefined"]
[" ضسرو0304",110000,135300,"1403/03/09",143," 4,063 (0.0%)",50,"19.50M",39000,-1.49,39000,-1.49,149000,36481,6.9099999999999995E-2,"در سود",3,39000,39000,670000,0.93300000000000005,-27334.687999999998,0,10956.775,35167.084000000003,"undefined"]
[" ضجار1207",2600,2257,"1402/12/16",59," 77,435 (0.2%)",186,"18.60M",98,24.05,100,26.58,2698,45,1.1567000000000001,"در ضرر",6,98,100,370000,0.255,-447.97,1E-3,291.291,85.742999999999995,"undefined"]
[" ضخپارس1202",1400,1234,"1402/12/20",63," 81,316 (0.1%)",208,"16.87M",75,-19.350000000000001,81,-12.9,1475,37,1.0348999999999999,"در ضرر",5,75,87,231000,0.33300000000000002,-285.21199999999999,2E-3,188.12,65.23,"undefined"]
[" ضکرمان1203",1098,1323,"1402/12/14",57," 3,307 (1.7%)",54,"15.66M",290,-14.2,290,-14.2,1388,280,3.5200000000000002E-2,"در سود",4,290,290,560000,0.96,-300.57299999999998,5.0000000000000001E-4,45.16,156.143,"undefined"]
[" ضهای1104",2000,2090,"1402/11/15",28," 2,773 (3.7%)",100,"15.50M",155,-29.55,155,-29.55,2155,165,-6.2100000000000002E-2,"در سود",10,155,155,575000,0.77200000000000002,-764.63499999999999,1.5E-3,175.76400000000001,111.593,"undefined"]
[" ضترو1101",8000,11740,"1402/11/15",28," 43 (0.0%)",4,"15.08M",3770,0.27,3770,0.27,11770,3922,-3.8699999999999998E-2,"در سود",3,3770,3770,6130000,1,-1962.3610000000001,0,0.17,602.03,"undefined"]
[" ضخپارس401",900,1234,"1403/04/10",175," 288 (11.2%)",29,"14.50M",500,-19.350000000000001,500,-19.350000000000001,1400,451,0.10920000000000001,"در سود",2,500,501,750000,0.97499999999999998,-209.45500000000001,2.0000000000000001E-4,50.615000000000002,366.26400000000001,"undefined"]
[" ضهرم3008",24000,20340,"1403/03/23",157," 44 (12.8%)",5,"14.30M",2860,-26.67,2860,-26.67,26860,1436,0.99230000000000007,"در ضرر",3,2860,2860,5270000,0.45800000000000002,-4156.027,1E-4,5331.3180000000002,3418.72,"undefined"]
[" ضتوان1202",17000,18431,"1402/12/14",57," 15 (50.0%)",5,"14.05M",2810,-4.55,2810,-4.55,19810,2381,0.18030000000000002,"در سود",5,2810,2810,6510000,0.83,-5309.6710000000003,1E-4,1844.847,2025.3340000000001,"undefined"]
[" ضستا2024",1000,1244,"1403/02/12",115," 28 (0.0%)",29,"12.28M",467,46600,423,42200,1467,327,0.42959999999999998,"در سود",3,394,467,673000,0.94699999999999995,-255.08,4.0000000000000002E-4,75.718000000000004,268.46800000000002,"undefined"]
[" ضصاد1143",3165,1851,"1402/11/11",24," 30,395 (7.0%)",2000,"11.05M",5,-50,5,-50,3170,0,1,"در ضرر",0,5,5,356000,0,0,0,0,0,"undefined"]
[" ضدی1102",900,1110,"1402/11/18",31," 404 (0.0%)",48,"11.01M",247,26.02,229,16.84,1147,214,0.15679999999999999,"در سود",4,200,247,449000,0.98499999999999999,-240.77500000000001,2.9999999999999997E-4,12.000999999999999,73.397000000000006,"undefined"]
[" ضخاور131",6880,3807,"1403/01/15",87," 1,100 (10.0%)",100,"10M",100,233.33,100,233.33,6980,0,1,"در ضرر",0,100,100,790000,1E-3,-8.1010000000000009,0,9.1620000000000008,1.3109999999999999,"undefined"]
[" ضسپا1216",1800,2469,"1402/12/23",66," 13,789 (0.0%)",12,"9.47M",789,2.4700000000000002,789,2.4700000000000002,2589,775,1.78E-2,"در سود",3,789,789,1289000,0.995,-441.798,0,15.496,308.7,"undefined"]
[" ضدی1119",3000,1110,"1402/11/18",31," 20,756 (0.0%)",1556,"6.22M",4,-20,4,-20,3004,0,1,"در ضرر",0,4,4,314000,0,0,0,0,0,"undefined"]
[" ضستا0115",1500,1244,"1403/01/08",80," 3,485 (1.5%)",55,"5.25M",96,68.42,95,66.67,1596,26,2.6905999999999999,"در ضرر",3,95,100,255000,0.23599999999999999,-209.98500000000001,1.5E-3,179.33099999999999,58.564999999999998,"undefined"]
[" ضهین0302",8000,11060,"1403/03/30",164," 9,021 (0.0%)",1,"4.50M",4500,0.74,4500,0.74,12500,4014,0.12119999999999999,"در سود",2,4500,4500,6730000,0.97799999999999998,-1874.056,0,397.24,3090.0990000000002,"undefined"]
[" ضهمن1102",1500,1980,"1402/11/23",36," 17,137 (-0.1%)",10,"4.50M",450,-22.28,450,-22.28,1950,531,-0.152,"در سود",4,450,450,850000,0.998,-372.036,0,4.0739999999999998,143.92400000000001,"undefined"]
[" ضسلا1223",24000,16400,"1402/12/16",59," 3,375 (-3.2%)",112,"4.48M",40,-92.73,40,-92.73,24040,8,4.3307000000000002,"در ضرر",4,40,40,2450000,0.01,-229.851,0,176.09700000000001,25.347999999999999,"undefined"]
[" ضسپا1007",3750,2469,"1402/10/20",3," 42,253 (-5.0%)",4210,"4.21M",1,0,1,0,3751,0,1,"در ضرر",0,1,1,381000,0,0,0,0,0,"undefined"]
[" ضشنا1202",6500,8210,"1402/12/02",45," 11,419 (0.0%)",2,"4M",2000,-9.09,2000,-9.09,8500,1942,2.9900000000000003E-2,"در سود",4,2000,2000,3650000,0.98799999999999999,-1681.4559999999999,0,93.418999999999997,763.81700000000001,"undefined"]
[" ضدی1118",2800,1110,"1402/11/18",31," 2,000 (0.0%)",1000,"4M",4,-20,4,-20,2804,0,1,"در ضرر",0,4,4,294000,0,0,0,0,0,"undefined"]
[" ضپلا1216",85200,142010,"1402/12/09",52," 1,847 (0.0%)",6,"3.95M",65999,10.72,65855,10.48,151199,60261,9.5199999999999993E-2,"در سود",2,65568,65999,949000,1,-20557.749,0,2.8170000000000002,11713.129000000001,"undefined"]
[" ضخود1116",1900,2829,"1402/11/11",24," 1,823 (0.0%)",4,"3.83M",920,-4.47,957,-0.62,2820,995,-7.5399999999999995E-2,"در سود",3,920,1070,1537000,1,-467.26299999999998,0,3.0000000000000001E-3,122.89400000000001,"undefined"]
[" ضخود0124",3750,2829,"1403/01/08",80," 2,794 (1.8%)",50,"3.50M",70,-28.57,70,-28.57,3820,23,2.0165999999999999,"در ضرر",4,70,70,450000,0.11,-273.46800000000002,4.0000000000000002E-4,251.47800000000001,63.718000000000004,"undefined"]
[" ضفلا1180",3750,6200,"1402/11/25",38," 1,336 (0.0%)",1,"3.30M",3300,37.5,3300,37.5,7050,2546,0.29600000000000004,"در سود",2,3300,3300,4550000,1,-913.43,0,1.0999999999999999E-2,380.38,"undefined"]
[" ضخوز1206",3250,3527,"1402/12/07",50," 301 (0.0%)",7,"2.94M",420,-16,420,-16,3670,438,-0.04,"در سود",7,420,420,1130000,0.83699999999999997,-1042.654,5.0000000000000001E-4,322.93900000000002,345.26,"undefined"]
[" ضتاب0207",11000,9900,"1403/02/05",108," 20,180 (0.0%)",3,"2.73M",950,-17.39,910,-20.87,11950,634,0.49770000000000003,"در ضرر",5,890,950,2020000,0.48099999999999998,-2310.13,2.0000000000000001E-4,2154.5239999999999,1226.0139999999999,"undefined"]
[" ضستا0109",900,1244,"1403/01/08",80," 89,192 (0.0%)",5,"2.06M",412,-1.67,412,-1.67,1312,394,4.6799999999999994E-2,"در سود",3,412,412,662000,0.99199999999999999,-220.786,1E-4,13.157,184.35599999999999,"undefined"]
[" ضخپارس1213",3000,1234,"1402/12/20",63," 24,548 (0.9%)",222,"2M",9,-30.77,9,-30.77,3009,0,1,"در ضرر",0,9,9,319000,0,0,0,0,0,"undefined"]
[" ضهای1105",2200,2090,"1402/11/15",28," 989 (1.3%)",13,"1.95M",150,50,150,50,2350,56,1.6763999999999999,"در ضرر",6,150,150,470000,0.40600000000000003,-713.15800000000002,1.9E-3,225.42599999999999,61.033999999999999,"undefined"]
[" ضسپا1011",5500,2469,"1402/10/20",3," 194,988 (-0.9%)",1717,"1.72M",1,0,1,0,5501,0,1,"در ضرر",0,1,1,561000,0,0,0,0,0,"undefined"]
[" ضترا1155",4000,4200,"1402/11/23",36," 14,345 (0.0%)",3,"1.59M",500,-17.760000000000002,530,-12.83,4500,379,0.31890000000000002,"در سود",7,500,550,1380000,0.77800000000000002,-1425.808,5.9999999999999995E-4,394.733,286.19799999999998,"undefined"]
[" ضخود1117",2000,2829,"1402/11/11",24," 1,911 (0.0%)",1,900000,900,35.14,900,35.14,2900,897,3.8E-3,"در سود",3,900,900,1480000,1,-491.94099999999997,0,3.7999999999999999E-2,129.36099999999999,"undefined"]
[" ضخود0118",2400,2829,"1403/01/08",80," 5,770 (0.0%)",1,700000,700,-7.41,700,-7.41,3100,607,0.1535,"در سود",4,700,700,1280000,0.93300000000000005,-655.69200000000001,2.9999999999999997E-4,174.96100000000001,452.38,"undefined"]
[" ضخپارس400",850,1234,"1403/04/10",175," 11 (10.0%)",1,660000,660,10,660,10,1510,494,0.33700000000000002,"در سود",2,660,660,910000,0.98599999999999999,-195.01300000000001,1E-4,31.02,352.28300000000002,"undefined"]
[" ضستا2022",800,1244,"1403/02/12",115," 1 (0.0%)",1,600000,600,59900,600,59900,1400,506,0.1862,"در سود",2,600,600,850000,0.997,-187.392,0,6.3470000000000004,231.72200000000001,"undefined"]
[" ضفلا1185",6000,6200,"1402/11/25",38," 40,722 (0.0%)",1,577000,577,18.239999999999998,577,18.239999999999998,6577,484,0.19159999999999999,"در سود",8,577,577,1827000,0.71799999999999997,-2127.652,5.0000000000000001E-4,675.58500000000004,413.12700000000001,"undefined"]
[" ضسرو0302",90000,135300,"1403/03/09",143," 5,432 (0.0%)",1,556670,55667,0.97,55667,0.97,145667,53749,3.5699999999999996E-2,"در سود",2,55667,55667,837000,0.99199999999999999,-20929.09,0,1821.9670000000001,31523.087,"undefined"]
[" ضستا2023",900,1244,"1403/02/12",115," 1 (0.0%)",1,530000,530,52900,530,52900,1430,415,0.2782,"در سود",2,530,530,780000,0.98399999999999999,-218.01300000000001,2.0000000000000001E-4,27.585999999999999,255.446,"undefined"]
[" ضهرم0110",28000,20340,"1403/01/22",94," 1,012 (0.0%)",1,499000,499,3.53,499,3.53,28499,152,2.2806999999999999,"در ضرر",4,499,499,3309000,9.6000000000000002E-2,-1652.0730000000001,0,1766.212,465.51299999999998,"undefined"]
[" ضسپا1006",3500,2469,"1402/10/20",3," 19,382 (0.0%)",422,422000,1,0,1,0,3501,0,1,"در ضرر",0,1,1,361000,0,0,0,0,0,"undefined"]
[" ضکرمان1208",1598,1323,"1402/12/14",57," 8,693 (0.0%)",1,150000,150,59.57,150,59.57,1748,16,8.6227999999999998,"در ضرر",1,150,150,310000,0.16900000000000001,-200.91800000000001,1.4E-3,132.61799999999999,32.671999999999997,"undefined"]
[" ضکرمان1207",1498,1323,"1402/12/14",57," 790 (0.1%)",1,140000,140,40,140,40,1638,34,3.0745999999999998,"در ضرر",3,140,140,290000,0.311,-303.75400000000002,1.9E-3,186.166,59.426000000000002,"undefined"]
[" ضبرک1004",7000,6880,"1402/10/17",1," 2,035 (0.0%)",86,91000,1,-99.32,1,-99.32,7001,59,-0.98299999999999998,"در سود",3784,1,2,1411000,0.55000000000000004,-10226.191000000001,3.0999999999999999E-3,145.25,10.393000000000001,"undefined"]
[" ضبدر2057",15000,9600,"1403/02/19",122," 320 (0.3%)",1,40000,40,14.29,40,14.29,15040,34,0.16969999999999999,"در ضرر",11,40,40,1550000,4.5999999999999999E-2,-381.68400000000003,0,534.83600000000001,135.92099999999999,"undefined"]
[" ضخود1225",4500,2829,"1402/12/02",45," 48,026 (0.0%)",3,35000,14,7.69,12,-7.69,4514,0,1,"در ضرر",0,7,14,472000,0,-2.2490000000000001,0,1.397,0.13100000000000001,"undefined"]
[" ضسپا1005",3250,2469,"1402/10/20",3," 260,987 (0.0%)",22,25000,1,0,1,0,3251,0,1,"در ضرر",0,1,3,331000,0,0,0,0,0,"undefined"]
[" ضخود1125",3750,2829,"1402/11/11",24," 11,798 (0.0%)",1,7000,7,0,7,0,3757,0,1,"در ضرر",1,7,7,387000,3.0000000000000001E-3,-18.501000000000001,0,6.2290000000000001,0.50600000000000001,"undefined"]
[" ضترو1102",9000,11740,"1402/11/15",28," 42 (0.0%)",0,0,3050,0,3050,0,12050,2941,3.6900000000000002E-2,"در سود",4,0,0,5410000,0.999,-2234.9349999999999,0,13.839,676.101,"undefined"]
[" ضترو1103",10000,11740,"1402/11/15",28," 6 (0.0%)",0,0,1500,0,1500,0,11500,1972,-0.2394,"در سود",8,0,0,3860000,0.97299999999999998,-2833.1379999999999,1E-4,202.958,727.27499999999998,"undefined"]
[" ضهرم3010",28000,20340,"1403/03/23",157," 68 (0.0%)",0,0,2551,0,2551,0,30551,529,3.8226,"در ضرر",2,0,0,5361000,0.219,-2599.9070000000002,1E-4,3963.8209999999999,1698.59,"undefined"]
[" ضهرم1217",11000,20340,"1402/12/23",66," 6,238 (0.0%)",0,0,10500,6.75,9836,0,21500,9976,5.2499999999999998E-2,"در سود",2,0,0,13936000,1,-2628.5430000000001,0,0.107,1901.1179999999999,"undefined"]
[" ضهرم1220",14000,20340,"1402/12/23",66,"2034-06-01T00:00:44",0,0,7408,-0.98,7481,0,21408,7110,4.1900000000000007E-2,"در سود",3,0,0,11581000,0.998,-3381.4630000000002,0,46.515999999999998,2413.21,"undefined"]
[" ضهرم1221",15000,20340,"1402/12/23",66," 7,563 (0.0%)",0,0,7499,0,7499,0,22499,6160,0.21739999999999998,"در سود",3,0,0,11599000,0.99299999999999999,-3706.0590000000002,0,163.035,2566.422,"undefined"]
[" ضهرم1229",30000,20340,"1402/12/23",66," 6,096 (0.0%)",0,0,344,28.36,268,0,30344,15,22.094499999999996,"در ضرر",1,0,0,3278000,1.4E-2,-380.66399999999999,0,320.44,51.021000000000001,"undefined"]
[" ضهرم1230",34000,20340,"1402/12/23",66," 11,310 (0.0%)",0,0,390,0,390,0,34390,1,378.43459999999999,"در ضرر",0,0,0,3800000,1E-3,-40.832000000000001,0,35.865000000000002,4.4269999999999996,"undefined"]
[" ضهرم1231",38000,20340,"1402/12/23",66," 6,199 (0.0%)",0,0,534,4.5,511,0,38534,0,1,"در ضرر",0,0,0,4321000,0,-3.14,0,2.83,0.28999999999999998,"undefined"]
[" ضهرم1232",42000,20340,"1402/12/23",66," 9,017 (0.0%)",0,0,221,0.45,220,0,42221,0,1,"در ضرر",0,0,0,4430000,0,-0.19500000000000001,0,0.17899999999999999,1.6E-2,"undefined"]
[" ضهرم0106",20000,20340,"1403/01/22",94," 13 (0.0%)",0,0,3501,0,3501,0,23501,2426,0.44329999999999997,"در سود",4,0,0,7601000,0.72199999999999998,-5461.8609999999999,1E-4,3490.62,3183.0309999999999,"undefined"]
[" ضهرم0109",26000,20340,"1403/01/22",94," 3 (-99.6%)",0,0,599,3.81,577,0,26599,344,0.74260000000000004,"در ضرر",6,0,0,3187000,0.187,-2768.9549999999999,1E-4,2792.7730000000001,897.46100000000001,"undefined"]
[" ضهرم2001",13000,20340,"1403/02/26",129," 39 (0.0%)",0,0,10000,0,10000,0,23000,8594,0.1636,"در سود",2,0,0,14100000,0.997,-3017.3609999999999,0,121.773,4180.3969999999999,"undefined"]
[" ضهرم2004",16000,20340,"1403/02/26",129," 1 (0.0%)",0,0,6900,0,6900,0,22900,5924,0.1648,"در سود",3,0,0,11000000,0.95699999999999996,-3972.134,0,1112.0119999999999,4836.9920000000002,"undefined"]
[" ضهرم2005",18000,20340,"1403/02/26",129," 100 (0.0%)",0,0,6000,0,6000,0,24000,4302,0.3947,"در سود",3,0,0,10100000,0.875,-4647.9279999999999,0,2504.6120000000001,4817.54,"undefined"]
[" ضهرم2006",20000,20340,"1403/02/26",129," 1,000 (0.0%)",0,0,4239,0,4239,0,24239,2927,0.44840000000000002,"در سود",4,0,0,8339000,0.74099999999999999,-5016.107,1E-4,3946.9409999999998,4328.4049999999997,"undefined"]
[" ضهرم3002",14000,20340,"1403/03/23",157," 3 (0.0%)",0,0,10000,25,8000,0,24000,7939,0.2596,"در سود",2,0,0,12100000,0.98799999999999999,-3250.3020000000001,0,433.77100000000002,5288.66,"undefined"]
[" ضهرم3004",16000,20340,"1403/03/23",157," 10 (0.0%)",0,0,7700,0,7700,0,23700,6225,0.23699999999999999,"در سود",3,0,0,11800000,0.95199999999999996,-3867.7510000000002,0,1349.9490000000001,5709.6859999999997,"undefined"]
[" ضهرم3007",22000,20340,"1403/03/23",157," 1,272 (0.0%)",0,0,3600,-1.04,3638,0,25600,2228,0.61560000000000004,"در ضرر",3,0,0,6228000,0.60799999999999998,-4657.2520000000004,1E-4,5164.3500000000004,4397.9809999999998,"undefined"]
[" ضهین0300",7000,11060,"1403/03/30",164," 8,700 (0.0%)",0,0,5500,0,5500,0,12500,4888,0.12520000000000001,"در سود",2,0,0,7730000,0.995,-1591.037,0,107.773,2784.0659999999998,"undefined"]
[" ضهین0301",7500,11060,"1403/03/30",164," 1,305 (0.0%)",0,0,5000,0,5000,0,12500,4448,0.1242,"در سود",2,0,0,7230000,0.98899999999999999,-1727.546,0,220.19,2950.7170000000001,"undefined"]
[" ضهین0303",9000,11060,"1403/03/30",164," 2,411 (0.0%)",0,0,3600,0,3600,0,12600,3179,0.1323,"در سود",3,0,0,5830000,0.93400000000000005,-2179.6709999999998,0,959.40099999999995,3245.855,"undefined"]
[" ضهین0305",11000,11060,"1403/03/30",164," 5,207 (0.0%)",0,0,2199,0,2199,0,13199,1768,0.24350000000000002,"در سود",4,0,0,4429000,0.74199999999999999,-2564.1129999999998,1E-4,2411.71,2920.181,"undefined"]
[" ضهین0307",13000,11060,"1403/03/30",164," 19,428 (0.0%)",0,0,1298,0,1298,0,14298,840,0.54490000000000005,"در ضرر",4,0,0,2608000,0.47499999999999998,-2271.585,2.0000000000000001E-4,2973.2719999999999,2001.34,"undefined"]
[" ضهمن1100",1300,1980,"1402/11/23",36," 20,480 (0.0%)",0,0,750,6.08,707,0,2050,726,3.3500000000000002E-2,"در سود",3,0,0,1107000,1,-317.14999999999998,0,4.2000000000000003E-2,125.093,"undefined"]
[" ضهمن1103",1600,1980,"1402/11/23",36," 14,262 (0.0%)",0,0,520,0,520,0,2120,434,0.1986,"در سود",4,0,0,920000,0.98899999999999999,-417.23099999999999,1E-4,18.484999999999999,151.667,"undefined"]
[" ضهمن1104",1700,1980,"1402/11/23",36," 13,006 (0.0%)",0,0,333,-13.95,387,0,2033,339,-1.8500000000000003E-2,"در سود",6,0,0,787000,0.95799999999999996,-492.03199999999998,4.0000000000000002E-4,55.895000000000003,154.99,"undefined"]
[" ضهمن1107",2000,1980,"1402/11/23",36," 6,825 (0.0%)",0,0,190,0,190,0,2190,109,0.73540000000000005,"در ضرر",6,0,0,590000,0.59899999999999998,-700.88099999999997,1.8E-3,242.023,107.096,"undefined"]
[" ضهمن1108",2200,1980,"1402/11/23",36," 11,546 (0.0%)",0,0,233,0,233,0,2433,34,5.8250000000000002,"در ضرر",2,0,0,463000,0.26900000000000002,-492.53500000000003,1.5E-3,206.762,49.582000000000001,"undefined"]
[" ضهمن1109",2400,1980,"1402/11/23",36," 3,402 (0.0%)",0,0,45,-10,50,0,2445,8,4.9340999999999999,"در ضرر",4,0,0,300000,0.08,-202.65899999999999,6.9999999999999999E-4,92.88,14.936999999999999,"undefined"]
[" ضهمن1110",2600,1980,"1402/11/23",36," 5,840 (0.0%)",0,0,80,14.29,70,0,2680,1,63.423100000000005,"در ضرر",0,0,0,340000,1.6E-2,-53.241999999999997,2.0000000000000001E-4,25.58,3.1,"undefined"]
[" ضهمن1111",2800,1980,"1402/11/23",36," 5,995 (0.0%)",0,0,22,4.76,21,0,2822,0,1,"در ضرر",0,0,0,311000,2E-3,-9.7710000000000008,0,4.8310000000000004,0.47299999999999998,"undefined"]
[" ضبرک1002",6000,6880,"1402/10/17",1," 12 (0.0%)",0,0,1000,0,1000,0,7000,1014,-1.3899999999999999E-2,"در سود",7,0,0,2410000,1,-1498.973,0,0,16.427,"undefined"]
[" ضبرک1003",6500,6880,"1402/10/17",1," 101 (0.0%)",0,0,334,0,334,0,6834,514,-0.3508,"در سود",21,0,0,1744000,1,-1625.4290000000001,0,2.5000000000000001E-2,17.795999999999999,"undefined"]
[" ضبرک1005",7500,6880,"1402/10/17",1," 3,130 (0.0%)",0,0,199,0,199,0,7699,0,1,"در ضرر",0,0,0,1119000,0,-12.574999999999999,0,0.193,3.0000000000000001E-3,"undefined"]
[" ضبرک1007",9000,6880,"1402/10/17",1," 1,030 (0.0%)",0,0,40,-2.44,41,0,9040,0,1,"در ضرر",0,0,0,951000,0,0,0,0,0,"undefined"]
[" ضبرک1008",10000,6880,"1402/10/17",1," 2,246 (0.0%)",0,0,100,0,100,0,10100,0,1,"در ضرر",0,0,0,1110000,0,0,0,0,0,"undefined"]
[" ضبرک1009",11000,6880,"1402/10/17",1," 1,020 (0.0%)",0,0,100,0,100,0,11100,0,1,"در ضرر",0,0,0,1210000,0,0,0,0,0,"undefined"]
[" ضبرک1010",12000,6880,"1402/10/17",1," 10 (0.0%)",0,0,20,0,20,0,12020,0,1,"در ضرر",0,0,0,1230000,0,0,0,0,0,"undefined"]
[" ضبرک1202",4500,6880,"1402/12/07",50," 20 (0.0%)",0,0,2930,0,2930,0,7430,2662,0.1009,"در سود",2,0,0,4340000,1,-1088.1300000000001,0,0.91200000000000003,595.59799999999996,"undefined"]
[" ضبرک1203",5000,6880,"1402/12/07",50," 1 (0.0%)",0,0,1520,4.83,1450,0,6520,2179,-0.3024,"در سود",5,0,0,2860000,0.998,-1222.586,0,13.839,660.22299999999996,"undefined"]
[" ضبرک1204",5500,6880,"1402/12/07",50," 183 (0.0%)",0,0,1800,0,1800,0,7300,1700,5.9000000000000004E-2,"در سود",4,0,0,3210000,0.98599999999999999,-1420.412,0,91.67,714.13900000000001,"undefined"]
[" ضبرک1205",6000,6880,"1402/12/07",50," 200 (0.0%)",0,0,1300,0,1300,0,7300,1238,0.05,"در سود",5,0,0,2710000,0.93700000000000006,-1742.6980000000001,1E-4,321.03699999999998,730.17700000000002,"undefined"]
[" ضبرک1206",6500,6880,"1402/12/07",50," 210 (0.0%)",0,0,930,0,930,0,7430,824,0.12909999999999999,"در سود",6,0,0,2340000,0.81899999999999995,-2101.9029999999998,2.9999999999999997E-4,682.74699999999996,673.80399999999997,"undefined"]
[" ضبرک1207",7000,6880,"1402/12/07",50," 2,311 (0.0%)",0,0,700,0,700,0,7700,492,0.42310000000000003,"در سود",6,0,0,2110000,0.63300000000000001,-2234.5540000000001,4.0000000000000002E-4,976.87900000000002,540.59799999999996,"undefined"]
[" ضبرک1208",7500,6880,"1402/12/07",50," 598 (0.0%)",0,0,1,0,1,0,7501,261,-0.99620000000000009,"در ضرر",2917,0,0,921000,0.42399999999999999,-1975.1959999999999,4.0000000000000002E-4,1016.074,371.04700000000003,"undefined"]
[" ضبرک1209",8000,6880,"1402/12/07",50," 1,316 (0.0%)",0,0,400,15.27,347,0,8400,124,2.2319,"در ضرر",4,0,0,1157000,0.245,-1439.953,2.9999999999999997E-4,815.43499999999995,218.21100000000001,"undefined"]
[" ضبرک1210",9000,6880,"1402/12/07",50," 40 (0.0%)",0,0,150,0,150,0,9150,20,6.4552999999999994,"در ضرر",3,0,0,1060000,5.5E-2,-458.74599999999998,1E-4,287.84100000000001,49.878999999999998,"undefined"]
[" ضصاد1133",1536,1851,"1402/11/11",24," 5,707 (0.0%)",0,0,460,0,460,0,1996,343,0.34250000000000003,"در سود",4,0,0,918000,0.99,-407.17899999999997,2.0000000000000001E-4,12.894,98.067999999999998,"undefined"]
[" ضصاد1134",1626,1851,"1402/11/11",24," 373 (0.0%)",0,0,300,0,300,0,1926,257,0.16829999999999998,"در سود",6,0,0,742000,0.95399999999999996,-499.88,5.9999999999999995E-4,45.904000000000003,99.343000000000004,"undefined"]
[" ضصاد1135",1717,1851,"1402/11/11",24," 912 (0.0%)",0,0,470,0,470,0,2187,176,1.6641999999999999,"در سود",3,0,0,929000,0.85899999999999999,-636.35299999999995,1.2999999999999999E-3,106.09399999999999,93.103999999999999,"undefined"]
[" ضصاد1140",2531,1851,"1402/11/11",24," 173,502 (0.0%)",0,0,17,0,17,0,2548,0,1,"در ضرر",0,0,0,299000,1E-3,-2.8620000000000001,0,0.97599999999999998,7.0000000000000007E-2,"undefined"]
[" ضصاد0106",1810,1851,"1403/01/26",98," 100 (0.0%)",0,0,500,0,500,0,2310,224,1.2326999999999999,"در سود",3,0,0,963000,0.72199999999999998,-488.459,1E-3,321.80799999999999,299.32600000000002,"undefined"]
[" ضجار1200",1600,2257,"1402/12/16",59," 56,372 (0.0%)",0,0,850,0,850,0,2450,718,0.1845,"در سود",3,0,0,1310000,0.997,-390.54300000000001,0,7.3159999999999998,247.39400000000001,"undefined"]
[" ضجار1201",1700,2257,"1402/12/16",59," 6,908 (0.0%)",0,0,700,-4.37,732,0,2400,622,0.12480000000000001,"در سود",3,0,0,1192000,0.99099999999999999,-426.84100000000001,1E-4,22.21,260.43799999999999,"undefined"]
[" ضجار1202",1800,2257,"1402/12/16",59," 36,339 (0.0%)",0,0,616,-2.2200000000000002,630,0,2416,528,0.1656,"در سود",4,0,0,1090000,0.97499999999999998,-474.95699999999999,2.0000000000000001E-4,53.384999999999998,269.726,"undefined"]
[" ضجار1203",1900,2257,"1402/12/16",59," 2,398 (0.0%)",0,0,580,0,580,0,2480,438,0.32549999999999996,"در سود",4,0,0,1040000,0.94199999999999995,-535.23800000000006,4.0000000000000002E-4,105.134,272.47800000000001,"undefined"]
[" ضجار1208",2800,2257,"1402/12/16",59," 2,951 (0.0%)",0,0,40,-2.44,41,0,2840,17,1.3069,"در ضرر",7,0,0,331000,0.11799999999999999,-256.47800000000001,5.9999999999999995E-4,179.376,40.268999999999998,"undefined"]
[" ضجار1209",3000,2257,"1402/12/16",59," 500 (0.0%)",0,0,36,0,36,0,3036,6,5.1360000000000001,"در ضرر",3,0,0,346000,4.7E-2,-121.41200000000001,2.9999999999999997E-4,89.015000000000001,16.190999999999999,"undefined"]
[" ضجار1210",3250,2257,"1402/12/16",59," 109,925 (0.0%)",0,0,25,19.05,21,0,3275,1,18.065799999999999,"در ضرر",1,0,0,351000,1.2E-2,-38.314999999999998,1E-4,29.215,4.3230000000000004,"undefined"]
[" ضجار1211",3500,2257,"1402/12/16",59," 400 (0.0%)",0,0,17,6.25,16,0,3517,0,1,"در ضرر",0,0,0,376000,3.0000000000000001E-3,-9.9659999999999993,0,7.8049999999999997,0.98099999999999998,"undefined"]
[" ضروز1200",18000,27700,"1402/12/16",59," 2,664 (0.0%)",0,0,11600,0,11600,0,29600,10493,0.10550000000000001,"در سود",2,0,0,17160000,1,-4332.6260000000002,0,11.948,2793.0059999999999,"undefined"]
[" ضروز1204",26000,27700,"1402/12/16",59," 20 (0.0%)",0,0,4000,0,4000,0,30000,3289,0.21629999999999999,"در سود",6,0,0,9560000,0.79600000000000004,-8131.04,1E-4,3162.3110000000001,3043.712,"undefined"]
[" ضروز1205",28000,27700,"1402/12/16",59," 1,668 (0.0%)",0,0,1901,0,1901,0,29901,2018,-5.8200000000000002E-2,"در ضرر",9,0,0,7241000,0.61799999999999999,-8400.3060000000005,1E-4,4257.8010000000004,2450.971,"undefined"]
[" ضروز1207",34000,27700,"1402/12/16",59," 2,077 (0.0%)",0,0,350,0,350,0,34350,263,0.32829999999999998,"در ضرر",11,0,0,3760000,0.14000000000000001,-3606.8690000000001,1E-4,2491.4259999999999,588.11500000000001,"undefined"]
[" ضدار1212",110000,181070,"1402/12/23",66," 9,881 (0.0%)",0,0,76651,-1.23,77609,0,186651,76472,2.3E-3,"در سود",2,0,0,1146000,1,-26306.973000000002,0,27.542999999999999,19008.228999999999,"undefined"]
[" ضدار1213",120000,181070,"1402/12/23",66," 2,264 (0.0%)",0,0,65187,0.48,64873,0,185187,66920,-2.5899999999999999E-2,"در سود",3,0,0,1019000,0.999,-28837.884999999998,0,207.56399999999999,20712.792000000001,"undefined"]
[" ضدار1219",200000,181070,"1402/12/23",66," 152 (0.0%)",0,0,10000,98.69,5033,0,210000,6929,0.44319999999999998,"در ضرر",7,0,0,260000,0.39400000000000002,-44888.478999999999,0,29706.583999999999,11672.674999999999,"undefined"]
[" ضدرا3004",14000,16540,"1403/03/13",147," 250 (0.0%)",0,0,4350,0,4350,0,18350,4068,6.93E-2,"در سود",3,0,0,7670000,0.90600000000000003,-3496.538,0,1758.664,4401.7139999999999,"undefined"]
[" ضسلا1215",12000,16400,"1402/12/16",59," 15,451 (0.0%)",0,0,5700,0,5700,0,17700,4929,0.1565,"در سود",3,0,0,9000000,0.995,-2958.5740000000001,0,90.058000000000007,1849.9010000000001,"undefined"]
[" ضسلا1216",13000,16400,"1402/12/16",59," 1,858 (0.0%)",0,0,3954,0,3954,0,16954,3984,-7.4999999999999997E-3,"در سود",4,0,0,7254000,0.97899999999999998,-3393.223,0,335.98200000000003,1958.787,"undefined"]
[" ضسلا1217",14000,16400,"1402/12/16",59," 2,151 (0.0%)",0,0,3182,0,3182,0,17182,3076,3.4599999999999999E-2,"در سود",5,0,0,6482000,0.93400000000000005,-3993.1439999999998,1E-4,851.99900000000002,1985.4690000000001,"undefined"]
[" ضسلا1220",18000,16400,"1402/12/16",59," 4,632 (0.0%)",0,0,150,0,150,0,18150,586,-0.74390000000000001,"در ضرر",43,0,0,1960000,0.38900000000000001,-4197.4750000000004,2.0000000000000001E-4,2535.3710000000001,939.22400000000005,"undefined"]
[" ضسلا1221",20000,16400,"1402/12/16",59," 1,100 (0.0%)",0,0,300,0,300,0,20300,171,0.75580000000000003,"در ضرر",8,0,0,2310000,0.151,-2257.9490000000001,1E-4,1550.5540000000001,374.54599999999999,"undefined"]
[" ضسلا3002",13000,16400,"1403/03/13",147," 2,101 (0.0%)",0,0,5701,0,5701,0,18701,4783,0.192,"در سود",3,0,0,9001000,0.94799999999999995,-3186.261,0,1113.912,4353.1970000000001,"undefined"]
[" ضسلا3003",14000,16400,"1403/03/13",147," 3,850 (0.0%)",0,0,5121,0,5121,0,19121,3978,0.28739999999999999,"در سود",3,0,0,8421000,0.90200000000000002,-3500.2469999999998,0,1811.357,4370.8050000000003,"undefined"]
[" ضخوز1031",2600,3527,"1402/10/17",1," 2 (0.0%)",0,0,690,0,690,0,3290,938,-0.26419999999999999,"در سود",5,0,0,1400000,1,-649.55499999999995,0,0,7.1180000000000003,"undefined"]
[" ضخوز1037",4000,3527,"1402/10/17",1," 34 (0.0%)",0,0,25,0,25,0,4025,0,1,"در ضرر",0,0,0,435000,0,0,0,0,0,"undefined"]
[" ضخوز1210",4500,3527,"1402/12/07",50," 14,395 (0.0%)",0,0,20,0,20,0,4520,12,0.68340000000000001,"در ضرر",11,0,0,480000,6.3E-2,-258.83800000000002,2.9999999999999997E-4,161.501,28.779,"undefined"]
[" ضفلا1184",5500,6200,"1402/11/25",38," 169 (0.0%)",0,0,1100,0,1100,0,6600,871,0.26229999999999998,"در سود",5,0,0,2350000,0.91100000000000003,-1735.3330000000001,2.0000000000000001E-4,321.81099999999998,497.39100000000002,"undefined"]
[" ضفلا1186",6500,6200,"1402/11/25",38," 7,917 (0.0%)",0,0,250,0,250,0,6750,221,0.1331,"در ضرر",11,0,0,1200000,0.44800000000000001,-1968.7349999999999,5.9999999999999995E-4,791.21199999999999,266.00799999999998,"undefined"]
[" ضفلا1187",7000,6200,"1402/11/25",38," 3,582 (0.0%)",0,0,100,0,100,0,7100,82,0.2266,"در ضرر",13,0,0,810000,0.215,-1297.229,4.0000000000000002E-4,585.20799999999997,130.57,"undefined"]
[" ضفلا1188",7500,6200,"1402/11/25",38," 1,000 (0.0%)",0,0,190,0,190,0,7690,25,6.7140999999999993,"در ضرر",3,0,0,950000,8.1000000000000003E-2,-623.77700000000004,2.0000000000000001E-4,300.10000000000002,49.694000000000003,"undefined"]
[" ضفلا0101",4500,6200,"1403/01/26",98," 100 (0.0%)",0,0,2130,0,2130,0,6630,1998,6.6299999999999998E-2,"در سود",3,0,0,3380000,0.98699999999999999,-1100.3910000000001,0,107.146,1106.787,"undefined"]
[" ضستر1209",6000,4690,"1402/12/02",45," 3,676 (0.0%)",0,0,55,0,55,0,6055,14,2.8810000000000002,"در ضرر",5,0,0,665000,5.8999999999999997E-2,-346.03899999999999,2.0000000000000001E-4,196.749,32.924999999999997,"undefined"]
[" ضستر1206",4500,4690,"1402/12/02",45," 49 (0.0%)",0,0,554,0,554,0,5054,479,0.15570000000000001,"در سود",7,0,0,1514000,0.78200000000000003,-1511.434,5.0000000000000001E-4,493.22500000000002,400.10700000000003,"undefined"]
[" ضستر1207",5000,4690,"1402/12/02",45," 3,361 (0.0%)",0,0,280,0,280,0,5280,196,0.42700000000000005,"در ضرر",8,0,0,1000000,0.46800000000000003,-1453.2909999999999,6.9999999999999999E-4,665.36699999999996,250.935,"undefined"]
[" ضهای1100",1600,2090,"1402/11/15",28," 355 (0.0%)",0,0,600,0,600,0,2200,529,0.13320000000000001,"در سود",3,0,0,1020000,0.999,-396.88299999999998,0,2.238,120.217,"undefined"]
[" ضهای1102",1800,2090,"1402/11/15",28," 1,578 (0.0%)",0,0,400,0,400,0,2200,336,0.19059999999999999,"در سود",5,0,0,820000,0.96599999999999997,-522.048,4.0000000000000002E-4,43.341999999999999,129.851,"undefined"]
[" ضهای1106",2400,2090,"1402/11/15",28," 4,986 (0.0%)",0,0,28,27.27,22,0,2428,12,1.2457,"در ضرر",10,0,0,272000,0.128,-341.529,1E-3,121.643,19.648,"undefined"]
[" ضهای1107",2600,2090,"1402/11/15",28," 140 (0.0%)",0,0,10,-44.44,18,0,2610,2,4.4022000000000006,"در ضرر",5,0,0,288000,2.5000000000000001E-2,-89.837000000000003,2.9999999999999997E-4,33.856999999999999,3.8660000000000001,"undefined"]
[" ضخود0125",4000,2829,"1403/01/08",80," 5,740 (0.0%)",0,0,56,0,56,0,4056,10,4.7504999999999997,"در ضرر",3,0,0,466000,5.1999999999999998E-2,-149.572,2.0000000000000001E-4,143.434,30.727,"undefined"]
[" ضخود1127",4500,2829,"1402/11/11",24," 47,518 (0.0%)",0,0,4,0,4,0,4504,0,1,"در ضرر",0,0,0,464000,0,-8.0000000000000002E-3,0,3.0000000000000001E-3,0,"undefined"]
[" ضخود1222",3500,2829,"1402/12/02",45," 24,205 (0.0%)",0,0,53,8.16,49,0,3553,15,2.6236000000000002,"در ضرر",5,0,0,409000,9.2999999999999999E-2,-301.69099999999997,5.0000000000000001E-4,167.96199999999999,31.204999999999998,"undefined"]
[" ضخود1223",3750,2829,"1402/12/02",45," 3,671 (0.0%)",0,0,24,14.29,21,0,3774,4,5.1262999999999996,"در ضرر",4,0,0,401000,0.03,-117.575,2.0000000000000001E-4,68.396000000000001,10.105,"undefined"]
[" ضخود1224",4000,2829,"1402/12/02",45," 2,589 (0.0%)",0,0,22,4.76,21,0,4022,1,23.290700000000001,"در ضرر",1,0,0,431000,8.0000000000000002E-3,-37.040999999999997,1E-4,22.189,2.734,"undefined"]
[" ضخود0114",1800,2829,"1403/01/08",80," 6,921 (0.0%)",0,0,1276,8.23,1179,0,3076,1160,0.1,"در سود",2,0,0,1759000,0.999,-427.74200000000002,0,2.714,373.10700000000003,"undefined"]
[" ضخود0115",1900,2829,"1403/01/08",80," 1,133 (0.0%)",0,0,1000,0,1000,0,2900,1066,-6.1500000000000006E-2,"در سود",3,0,0,1580000,0.998,-454.36,0,7.5140000000000002,393.08300000000003,"undefined"]
[" ضخود0116",2000,2829,"1403/01/08",80," 4,351 (0.0%)",0,0,900,0,900,0,2900,971,-7.3399999999999993E-2,"در سود",3,0,0,1480000,0.995,-484.15300000000002,0,17.850999999999999,411.96800000000002,"undefined"]
[" ضخود0117",2200,2829,"1403/01/08",80," 2,400 (0.0%)",0,0,780,-1.27,790,0,2980,785,-6.7000000000000002E-3,"در سود",4,0,0,1370000,0.97899999999999998,-559.23199999999997,1E-4,68.695999999999998,442.19799999999998,"undefined"]
[" ضخود0119",2600,2829,"1403/01/08",80," 7,509 (0.0%)",0,0,400,-16.84,481,0,3000,444,-9.9700000000000011E-2,"در سود",6,0,0,1061000,0.84299999999999997,-749.80799999999999,5.0000000000000001E-4,322.32299999999998,431.74,"undefined"]
[" ضخود0120",2800,2829,"1403/01/08",80," 2,444 (0.0%)",0,0,300,-0.99,303,0,3100,306,-2.07E-2,"در سود",7,0,0,883000,0.71,-798.26599999999996,6.9999999999999999E-4,458.74799999999999,378.726,"undefined"]
[" ضرول1000",1350,1999,"1402/10/24",7," 1,037 (0.0%)",0,0,743,-2.11,759,0,2093,661,0.12330000000000001,"در سود",3,0,0,1169000,1,-335.88600000000002,0,0,25.766999999999999,"undefined"]
[" ضرول1001",1450,1999,"1402/10/24",7," 35 (0.0%)",0,0,555,0,555,0,2005,562,-1.23E-2,"در سود",4,0,0,965000,1,-360.76600000000002,0,0,27.675000000000001,"undefined"]
[" ضرول1011",2950,1999,"1402/10/24",7," 50 (0.0%)",0,0,35,0,35,0,2985,0,1,"در ضرر",0,0,0,335000,0,0,0,0,0,"undefined"]
[" ضجهش0204",9000,11320,"1403/02/12",115," 25 (0.0%)",0,0,5300,0,5300,0,14300,3106,0.70609999999999995,"در سود",2,0,0,7580000,0.95499999999999996,-2277.2339999999999,0,607.44299999999998,2444.7289999999998,"undefined"]
[" ضجهش0206",11000,11320,"1403/02/12",115," 290 (0.0%)",0,0,3800,0,3800,0,14800,1584,1.3988,"در سود",2,0,0,6080000,0.749,-2864.826,1E-4,2033.2180000000001,2187.2130000000002,"undefined"]
[" ضجهش0207",12000,11320,"1403/02/12",115," 100 (0.0%)",0,0,1600,0,1600,0,13600,1031,0.55169999999999997,"در ضرر",4,0,0,3260000,0.59099999999999997,-2801.279,2.0000000000000001E-4,2482.297,1792.77,"undefined"]
[" ضملی1178",5500,7300,"1402/11/02",15," 26,102 (0.0%)",0,0,2500,3.69,2411,0,8000,1856,0.3468,"در سود",3,0,0,3881000,1,-1361.337,0,9.9000000000000005E-2,223.71199999999999,"undefined"]
[" ضملی1182",7500,7300,"1402/11/02",15," 2,683 (0.0%)",0,0,10,0,10,0,7510,152,-0.93440000000000001,"در ضرر",307,0,0,1280000,0.42,-3193.1950000000002,8.0000000000000004E-4,578.61300000000006,119.879,"undefined"]
[" ضملی1183",8000,7300,"1402/11/02",15," 2,038 (0.0%)",0,0,5,0,5,0,8005,34,-0.85199999999999998,"در ضرر",194,0,0,815000,0.13300000000000001,-1592.452,4.0000000000000002E-4,318.755,38.645000000000003,"undefined"]
[" ضملی1185",10000,7300,"1402/11/02",15," 9,297 (0.0%)",0,0,10,0,10,0,10010,0,1,"در ضرر",0,0,0,1020000,0,-0.313,0,6.9000000000000006E-2,3.0000000000000001E-3,"undefined"]
[" ضپلا1224",185200,142010,"1402/12/09",52," 51 (0.0%)",0,0,710,0,710,0,185910,371,0.91549999999999998,"در ضرر",10,0,0,197000,0.05,-8434.4040000000005,0,5505.3670000000002,952.69799999999998,"undefined"]
[" ضشنا1203",7000,8210,"1402/12/02",45," 1 (0.0%)",0,0,1700,0,1700,0,8700,1475,0.15259999999999999,"در سود",5,0,0,3350000,0.94899999999999995,-2014.5029999999999,1E-4,301.113,782.67499999999995,"undefined"]
[" ضشنا1208",11000,8210,"1402/12/02",45," 4,637 (0.0%)",0,0,20,0,20,0,11020,7,1.6876,"در ضرر",9,0,0,1130000,2.1000000000000001E-2,-246.01499999999999,0,144.517,20.161000000000001,"undefined"]
[" ضشنا1210",13000,8210,"1402/12/02",45," 14,355 (0.0%)",0,0,35,0,35,0,13035,0,1,"در ضرر",0,0,0,1345000,0,-5.7750000000000004,0,3.5910000000000002,0.33400000000000002,"undefined"]
[" ضشنا2039",9000,8210,"1403/02/09",112," 1 (0.0%)",0,0,1,0,1,0,9001,593,-0.99829999999999997,"در ضرر",4228,0,0,911000,0.51500000000000001,-1950.2840000000001,2.0000000000000001E-4,1819.674,1120.002,"undefined"]
[" ضشنا2042",12000,8210,"1403/02/09",112," 546 (0.0%)",0,0,70,0,70,0,12070,49,0.42649999999999999,"در ضرر",9,0,0,1280000,7.3999999999999996E-2,-505.21199999999999,1E-4,639.88199999999995,172.179,"undefined"]
[" ضترا1150",2800,4200,"1402/11/23",36," 231 (0.0%)",0,0,1820,0,1820,0,4620,1487,0.2238,"در سود",2,0,0,2670000,1,-683.221,0,0.17100000000000001,269.42500000000001,"undefined"]
[" ضترا1151",3000,4200,"1402/11/23",36," 1,639 (0.0%)",0,0,1600,0,1600,0,4600,1292,0.23829999999999998,"در سود",3,0,0,2450000,1,-734.42700000000002,0,1.7390000000000001,288.529,"undefined"]
[" ضترا1154",3750,4200,"1402/11/23",36," 5 (0.0%)",0,0,1000,0,1000,0,4750,580,0.7238,"در سود",4,0,0,1850000,0.91200000000000003,-1192.953,2.9999999999999997E-4,212.11500000000001,322.16399999999999,"undefined"]
[" ضترا1156",4500,4200,"1402/11/23",36," 625 (0.0%)",0,0,350,25.9,278,0,4850,115,2.0380000000000003,"در ضرر",5,0,0,848000,0.379,-1265.895,8.0000000000000004E-4,504.21499999999997,146.471,"undefined"]
[" ضترا1158",5500,4200,"1402/11/23",36," 2,140 (0.0%)",0,0,1,0,1,0,5501,3,-0.62149999999999994,"در ضرر",67,0,0,561000,1.6E-2,-113.14400000000001,1E-4,54.353000000000002,6.5910000000000002,"undefined"]
[" ضترا1160",6500,4200,"1402/11/23",36," 8 (0.0%)",0,0,35,0,35,0,6535,0,1,"در ضرر",0,0,0,695000,0,-1.321,0,0.67,5.2999999999999999E-2,"undefined"]
[" ضترا0100",3000,4200,"1403/01/29",101," 3 (0.0%)",0,0,1800,0,1800,0,4800,1422,0.26550000000000001,"در سود",2,0,0,2650000,0.99,-726.404,0,60.05,761.98500000000001,"undefined"]
[" ضترا0110",7000,4200,"1403/01/29",101," 100 (0.0%)",0,0,2,0,2,0,7002,3,-0.29339999999999999,"در ضرر",23,0,0,712000,1.0999999999999999E-2,-52.557000000000002,0,65.48,12.337,"undefined"]
[" ضسرو0303",100000,135300,"1403/03/09",143," 1,830 (0.0%)",0,0,48000,0,48000,0,148000,44923,6.8499999999999991E-2,"در سود",3,0,0,760000,0.97399999999999998,-24009.752,0,5188.6930000000002,33994.156000000003,"undefined"]
[" ضسرو0310",180000,135300,"1403/03/09",143," 199 (0.0%)",0,0,1500,0,1500,0,181500,3522,-0.57409999999999994,"در ضرر",20,0,0,205000,0.22700000000000001,-18220.440999999999,0,25546.010999999999,10671.468999999999,"undefined"]
[" ضتاب0201",6500,9900,"1403/02/05",108," 808 (0.0%)",0,0,3990,0,3990,0,10490,3905,2.1600000000000001E-2,"در سود",2,0,0,5980000,0.997,-1532.403,0,54.13,1775.8019999999999,"undefined"]
[" ضتاب0203",7500,9900,"1403/02/05",108," 2,345 (0.0%)",0,0,3170,-0.03,3171,0,10670,2994,5.8899999999999994E-2,"در سود",3,0,0,5161000,0.97499999999999998,-1860.633,0,314.024,1982.357,"undefined"]
[" ضتاب0208",12000,9900,"1403/02/05",108," 1,492 (0.0%)",0,0,520,0,520,0,12520,337,0.54409999999999992,"در ضرر",6,0,0,1730000,0.307,-1800.433,2.0000000000000001E-4,1898.3209999999999,802.09900000000005,"undefined"]
[" ضتاب0209",13000,9900,"1403/02/05",108," 1 (0.0%)",0,0,450,0,450,0,13450,166,1.7043000000000001,"در ضرر",4,0,0,1760000,0.17699999999999999,-1229.818,1E-4,1405.029,472.04500000000002,"undefined"]
[" ضتاب0210",14000,9900,"1403/02/05",108," 1,043 (0.0%)",0,0,499,5.27,474,0,14499,77,5.4540999999999995,"در ضرر",2,0,0,1884000,9.4E-2,-752.04100000000005,1E-4,908.34799999999996,254.24299999999999,"undefined"]
[" ضسپا1008",4000,2469,"1402/10/20",3," 47,212 (0.0%)",0,0,1,0,1,0,4001,0,1,"در ضرر",0,0,0,411000,0,0,0,0,0,"undefined"]
[" ضسپا1009",4500,2469,"1402/10/20",3," 23,244 (0.0%)",0,0,1,0,1,0,4501,0,1,"در ضرر",0,0,0,461000,0,0,0,0,0,"undefined"]
[" ضسپا1010",5000,2469,"1402/10/20",3," 137,127 (0.0%)",0,0,2,100,1,0,5002,0,1,"در ضرر",0,0,0,511000,0,0,0,0,0,"undefined"]
[" ضسپا1225",3500,2469,"1402/12/23",66," 5,144 (0.0%)",0,0,56,-6.67,60,0,3556,4,13.208399999999999,"در ضرر",1,0,0,420000,2.9000000000000001E-2,-84.966999999999999,2.0000000000000001E-4,70.137,12.36,"undefined"]
[" ضسپا1227",4000,2469,"1402/12/23",66," 16,112 (0.0%)",0,0,44,0,44,0,4044,0,1,"در ضرر",0,0,0,454000,3.0000000000000001E-3,-9.84,0,8.5579999999999998,1.127,"undefined"]
[" ضستا1211",712,1244,"1402/12/09",52," 378,093 (0.0%)",0,0,578,-0.34,580,0,1290,558,3.6000000000000004E-2,"در سود",2,0,0,830000,1,-171.77799999999999,0,6.0000000000000001E-3,97.885999999999996,"undefined"]
[" ضستا1109",800,1244,"1402/11/11",24," 389 (0.0%)",0,0,450,0,450,0,1250,458,-1.7600000000000001E-2,"در سود",3,0,0,700000,1,-196.74,0,0,51.744999999999997,"undefined"]
[" ضستا1110",900,1244,"1402/11/11",24," 10 (0.0%)",0,0,365,0,365,0,1265,360,1.4800000000000001E-2,"در سود",3,0,0,615000,1,-221.52199999999999,0,7.9000000000000001E-2,58.207999999999998,"undefined"]
[" ضستا1111",1000,1244,"1402/11/11",24," 103 (0.0%)",0,0,409,0,409,0,1409,261,0.56440000000000001,"در سود",3,0,0,659000,0.996,-254.31399999999999,1E-4,3.609,64.361999999999995,"undefined"]
[" ضستا1113",1200,1244,"1402/11/11",24," 7 (0.0%)",0,0,22,0,22,0,1222,83,-0.73530000000000006,"در سود",42,0,0,272000,0.73799999999999999,-485.53899999999999,2.8999999999999998E-3,103.893,54.978000000000002,"undefined"]
[" ضستا0111",1100,1244,"1403/01/08",80," 280 (0.0%)",0,0,399,2.57,389,0,1499,217,0.84140000000000004,"در سود",3,0,0,639000,0.879,-312.96499999999997,1E-3,117.003,192.47800000000001,"undefined"]
[" ضستا0112",1200,1244,"1403/01/08",80," 12 (0.0%)",0,0,200,0,200,0,1400,144,0.3886,"در سود",5,0,0,450000,0.73899999999999999,-345.26100000000002,1.6000000000000001E-3,189.346,170.15199999999999,"undefined"]
[" ضستا0113",1300,1244,"1403/01/08",80," 149 (0.0%)",0,0,90,-57.14,210,0,1390,88,2.06E-2,"در ضرر",8,0,0,410000,0.56100000000000005,-335.95699999999999,1.9E-3,229.84100000000001,133.649,"undefined"]
[" ضستا0114",1400,1244,"1403/01/08",80," 25,142 (0.0%)",0,0,66,0,66,0,1466,50,0.32619999999999999,"در ضرر",7,0,0,216000,0.38200000000000001,-284.01600000000002,1.9E-3,222.31399999999999,93.381,"undefined"]
[" ضستا0116",1600,1244,"1403/01/08",80," 12,806 (0.0%)",0,0,39,-13.33,45,0,1639,13,2.0749,"در ضرر",4,0,0,215000,0.13200000000000001,-137.81700000000001,1.1000000000000001E-3,124.931,33.375,"undefined"]
[" ضستا0117",1700,1244,"1403/01/08",80," 186 (0.0%)",0,0,1,-50,2,0,1701,6,-0.82810000000000006,"در ضرر",86,0,0,182000,6.9000000000000006E-2,-81.635999999999996,5.9999999999999995E-4,77.239000000000004,17.504000000000001,"undefined"]
[" ضستا0119",1900,1244,"1403/01/08",80," 2 (0.0%)",0,0,250,0,250,0,2150,1,237.2329,"در ضرر",0,0,0,450000,1.4999999999999999E-2,-22.364000000000001,2.0000000000000001E-4,22.393000000000001,3.9319999999999999,"undefined"]
[" ضذوب1114",2200,4546,"1402/11/02",15," 361 (0.0%)",0,0,2200,0,2200,0,4400,2420,-9.11E-2,"در سود",2,0,0,3120000,1,-544.37800000000004,0,0,89.486999999999995,"undefined"]
[" ضذوب1115",2400,4546,"1402/11/02",15," 410 (0.0%)",0,0,2300,0.66,2285,0,4700,2223,3.49E-2,"در سود",2,0,0,3205000,1,-593.86699999999996,0,0,97.622,"undefined"]
[" ضذوب1117",2800,4546,"1402/11/02",15," 71 (0.0%)",0,0,1300,-5.52,1376,0,4100,1827,-0.2883,"در سود",3,0,0,2296000,1,-692.84500000000003,0,0,113.892,"undefined"]
[" ضذوب0104",3750,4546,"1403/01/19",91," 10 (0.0%)",0,0,1750,0,1750,0,5500,1094,0.59950000000000003,"در سود",2,0,0,2670000,0.94599999999999995,-990.06299999999999,1E-4,250.369,812.09199999999998,"undefined"]
[" ضذوب0105",4000,4546,"1403/01/19",91," 82 (0.0%)",0,0,950,-4.5199999999999996,995,0,4950,884,7.4200000000000002E-2,"در سود",4,0,0,1915000,0.89300000000000002,-1102.681,2.0000000000000001E-4,423.91399999999999,802.92100000000005,"undefined"]
[" ضذوب0109",6000,4546,"1403/01/19",91," 3,612 (0.0%)",0,0,115,-21.77,147,0,6115,53,1.1559999999999999,"در ضرر",6,0,0,757000,0.14000000000000001,-507.23,2.9999999999999997E-4,511.81700000000001,147.56800000000001,"undefined"]
[" ضدی1103",950,1110,"1402/11/18",31," 438 (0.0%)",0,0,151,0,151,0,1101,166,-9.2499999999999999E-2,"در سود",7,0,0,371000,0.95,-286.149,8.9999999999999998E-4,32.991999999999997,74.117999999999995,"undefined"]
[" ضدی1110",1600,1110,"1402/11/18",31," 6,256 (0.0%)",0,0,1,-80,5,0,1601,0,1,"در ضرر",0,0,0,175000,0,-0.71099999999999997,0,0.311,2.4E-2,"undefined"]
[" ضدی1112",1800,1110,"1402/11/18",31," 6,103 (0.0%)",0,0,5,0,5,0,1805,0,1,"در ضرر",0,0,0,195000,0,-7.0000000000000001E-3,0,3.0000000000000001E-3,0,"undefined"]
[" ضدی1113",1900,1110,"1402/11/18",31," 1,000 (0.0%)",0,0,5,0,5,0,1905,0,1,"در ضرر",0,0,0,205000,0,0,0,0,0,"undefined"]
[" ضدی407",1200,1110,"1403/04/10",175," 600 (0.0%)",0,0,183,0,183,0,1383,120,0.53110000000000002,"در ضرر",4,0,0,313000,0.59299999999999997,-239.50800000000001,1.5E-3,294.03100000000001,253.50899999999999,"undefined"]
[" ضسامان1105",3400,3379,"1402/11/04",17," 1,354 (0.0%)",0,0,60,0,60,0,3460,113,-0.46970000000000001,"در ضرر",31,0,0,720000,0.55000000000000004,-1522.6369999999999,1.5E-3,288.97899999999998,81.384,"undefined"]
[" ضبساما1100",8500,9700,"1402/11/04",17," 19 (0.0%)",0,0,1700,0,1700,0,10200,1219,0.39500000000000002,"در سود",6,0,0,3630000,0.96499999999999997,-2611.444,1E-4,158.827,375.33600000000001,"undefined"]
[" ضبساما1101",9000,9700,"1402/11/04",17," 1,193 (0.0%)",0,0,1696,2.98,1647,0,10696,770,1.2028000000000001,"در سود",5,0,0,3577000,0.85499999999999998,-3635.1030000000001,2.9999999999999997E-4,471.70100000000002,347.03399999999999,"undefined"]
[" ضبساما1104",11000,9700,"1402/11/04",17," 1,361 (0.0%)",0,0,150,0,150,0,11150,17,8.0721000000000007,"در ضرر",4,0,0,1260000,5.5E-2,-997.59400000000005,2.0000000000000001E-4,231.32,23.928999999999998,"undefined"]
[" ضبساما1110",17000,9700,"1402/11/04",17," 14 (0.0%)",0,0,100,0,100,0,17100,0,1,"در ضرر",0,0,0,1810000,0,0,0,0,0,"undefined"]
[" ضخاور121",3680,3807,"1403/01/15",87," 15,462 (0.0%)",0,0,844,40.200000000000003,602,0,4524,484,0.74560000000000004,"در سود",3,0,0,1372000,0.75600000000000001,-1038.7460000000001,5.0000000000000001E-4,588.96900000000005,578.08799999999997,"undefined"]
[" ضخاور124",4280,3807,"1403/01/15",87," 268 (0.0%)",0,0,300,0,300,0,4580,186,0.61619999999999997,"در ضرر",5,0,0,730000,0.42499999999999999,-902.27200000000005,5.9999999999999995E-4,735.875,345.13499999999999,"undefined"]
[" ضخاور129",5880,3807,"1403/01/15",87," 1,000 (0.0%)",0,0,30,0,30,0,5910,5,5.4828999999999999,"در ضرر",3,0,0,620000,0.02,-85.774000000000001,1E-4,91.882999999999996,17.460999999999999,"undefined"]
[" ضخاور130",6380,3807,"1403/01/15",87," 1,000 (0.0%)",0,0,30,0,30,0,6410,1,24.972199999999997,"در ضرر",1,0,0,670000,6.0000000000000001E-3,-27.878,0,30.815000000000001,5.0090000000000003,"undefined"]
[" ضخاور132",2480,3807,"1403/01/15",87," 1 (0.0%)",0,0,1700,0,1700,0,4180,1511,0.12529999999999999,"در سود",2,0,0,2470000,0.999,-588.83299999999997,0,8.2370000000000001,555.64200000000005,"undefined"]
[" ضهم وزن1100",8000,16421,"1402/11/29",42," 3 (0.0%)",0,0,8000,0,8000,0,16000,8746,-8.5299999999999987E-2,"در سود",2,0,0,11310000,1,-1943.2850000000001,0,0,894.44399999999996,"undefined"]
[" ضهم وزن1101",9000,16421,"1402/11/29",42," 1 (0.0%)",0,0,8000,-8.57,8750,0,17000,7774,2.8999999999999998E-2,"در سود",2,0,0,12060000,1,-2186.1970000000001,0,1E-3,1006.249,"undefined"]
[" ضهم وزن1102",10000,16421,"1402/11/29",42," 1 (0.0%)",0,0,5369,0,5369,0,15369,6803,-0.2107,"در سود",3,0,0,8679000,1,-2429.2139999999999,0,7.8E-2,1118.049,"undefined"]
[" ضهم وزن1104",14000,16421,"1402/11/29",42," 2,614 (0.0%)",0,0,2450,0,2450,0,16450,2954,-0.17059999999999997,"در سود",6,0,0,5760000,0.95499999999999996,-4013.3589999999999,0,531.28499999999997,1475.345,"undefined"]
[" ضهم وزن1105",16000,16421,"1402/11/29",42," 1,775 (0.0%)",0,0,1750,0,1750,0,17750,1342,0.30380000000000001,"در سود",7,0,0,5060000,0.71599999999999997,-5509.8509999999997,2.0000000000000001E-4,1899.713,1206.242,"undefined"]
[" ضهم وزن600",8000,16421,"1403/06/04",231," 5,398 (0.0%)",0,0,10450,0,10450,0,18450,9690,7.8399999999999997E-2,"در سود",2,0,0,13760000,1,-1711.2840000000001,0,21.791,4316.875,"undefined"]
[" ضهم وزن601",9000,16421,"1403/06/04",231," 10,010 (0.0%)",0,0,9550,0,9550,0,18550,8839,8.0500000000000002E-2,"در سود",2,0,0,12860000,0.998,-1934.4090000000001,0,80.87,4840.3609999999999,"undefined"]
[" ضهم وزن603",12000,16421,"1403/06/04",231," 2,533 (0.0%)",0,0,7190,0,7190,0,19190,6338,0.13439999999999999,"در سود",2,0,0,10500000,0.96799999999999997,-2673.2620000000002,0,937.76800000000003,6110.9440000000004,"undefined"]
[" ضهم وزن604",14000,16421,"1403/06/04",231," 1,609 (0.0%)",0,0,3682,0,3682,0,17682,4803,-0.2334,"در سود",4,0,0,6992000,0.90300000000000002,-3151.7559999999999,0,2247.1120000000001,6405.7129999999997,"undefined"]
[" ضهم وزن606",18000,16421,"1403/06/04",231," 15 (0.0%)",0,0,1500,0,1500,0,19500,2401,-0.37520000000000003,"در ضرر",7,0,0,3330000,0.65500000000000003,-3443.91,1E-4,4841.3590000000004,5329.3310000000001,"undefined"]
[" ضهم وزن607",20000,16421,"1403/06/04",231," 1,559 (0.0%)",0,0,2400,0,2400,0,22400,1596,0.50419999999999998,"در ضرر",3,0,0,4410000,0.50800000000000001,-3149.4490000000001,1E-4,5241.558,4303.7610000000004,"undefined"]
[" ضهم وزن608",23000,16421,"1403/06/04",231," 2,259 (0.0%)",0,0,1200,0,1200,0,24200,814,0.47479999999999994,"در ضرر",4,0,0,3510000,0.315,-2389.2930000000001,1E-4,4669.3900000000003,2779.9380000000001,"undefined"]
[" ضکرمان1201",948,1323,"1402/12/14",57," 587 (0.0%)",0,0,600,2.56,585,0,1548,421,0.42369999999999997,"در سود",2,0,0,855000,0.998,-231.55099999999999,0,3.99,141.84700000000001,"undefined"]
[" ضکرمان1206",1398,1323,"1402/12/14",57," 8,076 (0.0%)",0,0,100,0,100,0,1498,68,0.46590000000000004,"در ضرر",7,0,0,310000,0.503,-386.02,2.2000000000000001E-3,210.14500000000001,94.028000000000006,"undefined"]
[" ضکرمان1209",1698,1323,"1402/12/14",57," 7 (0.0%)",0,0,200,0,200,0,1898,6,30.123200000000001,"در ضرر",1,0,0,370000,8.1000000000000003E-2,-113.97199999999999,8.0000000000000004E-4,79.051000000000002,15.858000000000001,"undefined"]
[" ضکرمان1210",1798,1323,"1402/12/14",57," 488 (0.0%)",0,0,14,0,14,0,1812,2,4.7561999999999998,"در ضرر",3,0,0,194000,3.5000000000000003E-2,-56.646999999999998,4.0000000000000002E-4,40.689,6.9029999999999996,"undefined"]
[" ضکرمان1214",2398,1323,"1402/12/14",57," 1 (0.0%)",0,0,10,0,10,0,2408,0,1,"در ضرر",0,0,0,250000,0,-0.13600000000000001,0,0.107,0.01,"undefined"]
[" ضموج412",18500,12542,"1403/04/03",168," 50 (0.0%)",0,0,800,-21.88,1024,0,19300,219,2.6587000000000001,"در ضرر",2,0,0,2884000,0.155,-1208.462,1E-4,2037.4480000000001,798.68,"undefined"]
[" ضخپارس1203",1500,1234,"1402/12/20",63," 3,260 (0.0%)",0,0,60,5.26,57,0,1560,17,2.5639999999999996,"در ضرر",4,0,0,217000,0.182,-191.43899999999999,1.5E-3,136.94200000000001,36.311999999999998,"undefined"]
[" ضخپارس1205",1700,1234,"1402/12/20",63," 100 (0.0%)",0,0,750,0,750,0,2450,3,280.21719999999999,"در ضرر",0,0,0,930000,3.9E-2,-55.289000000000001,5.0000000000000001E-4,43.331000000000003,7.8410000000000002,"undefined"]
[" ضخپارس1206",1800,1234,"1402/12/20",63," 60 (0.0%)",0,0,720,0,720,0,2520,1,760.31119999999999,"در ضرر",0,0,0,910000,1.4999999999999999E-2,-24.856000000000002,2.0000000000000001E-4,20.024000000000001,3.1429999999999998,"undefined"]
[" ضخپارس1208",2000,1234,"1402/12/20",63," 639 (0.0%)",0,0,14,0,14,0,2014,0,1,"در ضرر",0,0,0,224000,2E-3,-3.8490000000000002,0,3.2189999999999999,0.40400000000000003,"undefined"]
[" ضخپارس1209",2200,1234,"1402/12/20",63," 1,000 (0.0%)",0,0,13,0,13,0,2213,0,1,"در ضرر",0,0,0,243000,0,-0.45700000000000002,0,0.39200000000000002,4.1000000000000002E-2,"undefined"]
[" ضخپارس1210",2400,1234,"1402/12/20",63," 1,501 (0.0%)",0,0,13,0,13,0,2413,0,1,"در ضرر",0,0,0,263000,0,-4.4999999999999998E-2,0,3.9E-2,4.0000000000000001E-3,"undefined"]
[" ضخپارس1211",2600,1234,"1402/12/20",63," 1,000 (0.0%)",0,0,13,0,13,0,2613,0,1,"در ضرر",0,0,0,283000,0,-4.0000000000000001E-3,0,3.0000000000000001E-3,0,"undefined"]
[" ضخپارس1212",2800,1234,"1402/12/20",63," 6,000 (0.0%)",0,0,13,0,13,0,2813,0,1,"در ضرر",0,0,0,303000,0,0,0,0,0,"undefined"]
[" ضخپارس402",950,1234,"1403/04/10",175," 1,770 (0.0%)",0,0,400,0,400,0,1350,409,-2.1700000000000001E-2,"در سود",3,0,0,650000,0.95899999999999996,-224.286,2.9999999999999997E-4,76.415999999999997,376.64800000000002,"undefined"]
[" ضخپارس405",1250,1234,"1403/04/10",175," 5 (0.0%)",0,0,300,0,300,0,1550,195,0.53859999999999997,"در ضرر",3,0,0,550000,0.72699999999999998,-282.363,1.1000000000000001E-3,287.05500000000001,340.57900000000001,"undefined"]
[" ضزاگرس1218",229000,126800,"1402/12/14",57," 582 (0.0%)",0,0,200,0,200,0,229200,0,1,"در ضرر",0,0,0,23110000,0,-13.602,0,10.712999999999999,0.997,"undefined"]
[" ضفصبا1101",5300,6290,"1402/11/18",31," 450 (0.0%)",0,0,800,0,800,0,6100,1225,-0.34720000000000001,"در سود",8,0,0,2090000,0.98299999999999998,-1430.2570000000001,1E-4,78.203999999999994,431.15300000000002,"undefined"]
[" ضفصبا1103",6300,6290,"1402/11/18",31," 2,592 (0.0%)",0,0,75,5.63,71,0,6375,395,-0.81010000000000004,"در سود",56,0,0,1361000,0.66600000000000004,-2369.1570000000002,5.9999999999999995E-4,679.77200000000005,329.024,"undefined"]
[" ضفصبا1104",6800,6290,"1402/11/18",31," 1 (0.0%)",0,0,100,0,100,0,6900,160,-0.37590000000000001,"در ضرر",24,0,0,1000000,0.375,-2019.1110000000001,5.9999999999999995E-4,708.08100000000002,190.28800000000001,"undefined"]
[" ضفصبا301",5300,6290,"1403/03/20",154," 164 (0.0%)",0,0,400,0,400,0,5700,1697,-0.76439999999999997,"در سود",14,0,0,1690000,0.92100000000000004,-1305.5630000000001,1E-4,611.20799999999997,1775.5160000000001,"undefined"]
[" ضکاریس1201",18000,23187,"1402/12/28",71," 310 (0.0%)",0,0,6267,0,6267,0,24267,6066,3.32E-2,"در سود",4,0,0,10907000,0.97899999999999998,-4622.9979999999996,0,518.36500000000001,3234.2170000000001,"undefined"]
[" ضتپسی1201",4969,7660,"1402/12/20",63," 17,046 (0.0%)",0,0,3485,0.72,3460,0,8454,2861,0.21809999999999999,"در سود",2,0,0,4990000,1,-1194.2139999999999,0,5.2789999999999999,820.803,"undefined"]
[" ضبتهران302",2100,2570,"1403/03/20",154," 200 (0.0%)",0,0,1070,0,1070,0,3170,739,0.44829999999999998,"در سود",2,0,0,1600000,0.93799999999999994,-513.69000000000005,2.0000000000000001E-4,208.09200000000001,721.27599999999995,"undefined"]
[" ضبتهران303",2300,2570,"1403/03/20",154," 201 (0.0%)",0,0,1000,0,1000,0,3300,583,0.71439999999999992,"در سود",2,0,0,1530000,0.872,-570.60299999999995,4.0000000000000002E-4,355.10300000000001,714.41899999999998,"undefined"]
[" ضتوان1200",15000,18431,"1402/12/14",57," 108 (0.0%)",0,0,5000,0,5000,0,20000,4090,0.22239999999999999,"در سود",4,0,0,8700000,0.96899999999999997,-4031.1289999999999,0,515.66700000000003,2157.1080000000002,"undefined"]
[" ضتوان1204",19000,18431,"1402/12/14",57," 301 (0.0%)",0,0,1700,0,1700,0,20700,1122,0.51519999999999999,"در ضرر",6,0,0,4880000,0.56000000000000005,-5536.8069999999998,2.0000000000000001E-4,2880.44,1442.3,"undefined"]
[" ضتوان1206",22000,18431,"1402/12/14",57," 159 (0.0%)",0,0,500,0,500,0,22500,238,1.1042000000000001,"در ضرر",7,0,0,2710000,0.182,-2943.5590000000002,1E-4,1929.521,488.05099999999999,"undefined"]
[" ضتوان706",20000,18431,"1403/07/02",260," 50 (0.0%)",0,0,6000,0,6000,0,26000,3055,0.96389999999999998,"در ضرر",2,0,0,8180000,0.68600000000000005,-3764.6109999999999,1E-4,5536.7550000000001,6850.8329999999996,"undefined"]
[" ضفلا0103",5500,6200,"1403/01/26",98," 200 (0.0%)",0,0,1220,0,1220,0,6720,1137,7.2700000000000001E-2,"در سود",4,0,0,2470000,0.86899999999999999,-1507.992,2.0000000000000001E-4,683.45299999999997,1141.124,"undefined"]
[" ضصاد0102",1448,1851,"1403/01/26",98," 22,929 (0.0%)",0,0,531,0,531,0,1979,504,5.3800000000000001E-2,"در سود",3,0,0,997000,0.96599999999999997,-368.97300000000001,2.0000000000000001E-4,73.021000000000001,345.15300000000002,"undefined"]
[" ضصاد0107",1991,1851,"1403/01/26",98," 61 (0.0%)",0,0,202,-4.2699999999999996,211,0,2193,130,0.5554,"در ضرر",5,0,0,493000,0.52600000000000002,-460.25200000000001,1.1999999999999999E-3,382.24599999999998,226.726,"undefined"]
[" ضسلا1213",10000,16400,"1402/12/16",59," 19,708 (0.0%)",0,0,7325,0,7325,0,17325,6846,7.0000000000000007E-2,"در سود",2,0,0,10625000,1,-2402.23,0,1.341,1552.2840000000001,"undefined"]
[" ضستا1116",1500,1244,"1402/11/11",24," 35 (0.0%)",0,0,7,0,7,0,1507,1,4.1155999999999997,"در ضرر",6,0,0,167000,3.2000000000000001E-2,-71.156999999999996,5.9999999999999995E-4,23.088000000000001,2.5539999999999998,"undefined"]
[" ضفلا0102",5000,6200,"1403/01/26",98," 23 (0.0%)",0,0,1560,-0.06,1561,0,6560,1550,6.7000000000000002E-3,"در سود",4,0,0,2811000,0.95,-1300.6400000000001,1E-4,330.21199999999999,1165.703,"undefined"]
[" ضدی1111",1700,1110,"1402/11/18",31," 5,000 (0.0%)",0,0,5,0,5,0,1705,0,1,"در ضرر",0,0,0,185000,0,-7.4999999999999997E-2,0,3.3000000000000002E-2,2E-3,"undefined"]
[" ضهرم0100",12000,20340,"1403/01/22",94," 36 (0.0%)",0,0,1,0,1,0,12001,9239,-0.9998999999999999,"در سود",20340,0,0,4101000,1,-2818.5070000000001,0,10.302,2896.2370000000001,"undefined"]
[" ضهمن1101",1400,1980,"1402/11/23",36," 10,858 (0.0%)",0,0,600,-1.8,611,0,2000,628,-4.4800000000000006E-2,"در سود",3,0,0,1011000,1,-342.33499999999998,0,0.55300000000000005,134.67099999999999,"undefined"]
[" ضهم وزن1103",12000,16421,"1402/11/29",42," 7,537 (0.0%)",0,0,4500,0,4500,0,16500,4860,-7.4099999999999999E-2,"در سود",4,0,0,7810000,0.999,-2947.5360000000001,0,25.314,1338.954,"undefined"]
[" ضصاد1141",2712,1851,"1402/11/11",24," 11,563 (0.0%)",0,0,15,0,15,0,2727,0,1,"در ضرر",0,0,0,317000,0,-0.17199999999999999,0,0.06,4.0000000000000001E-3,"undefined"]
[" ضستا0118",1800,1244,"1403/01/08",80," 190 (0.0%)",0,0,10,0,10,0,1810,3,2.9560000000000004,"در ضرر",4,0,0,200000,3.3000000000000002E-2,-44.326000000000001,4.0000000000000002E-4,43.301000000000002,8.5500000000000007,"undefined"]
[" ضسلا1218",15000,16400,"1402/12/16",59," 8,040 (0.0%)",0,0,2431,0,2431,0,17431,2245,8.3000000000000004E-2,"در سود",6,0,0,5731000,0.84499999999999997,-4621.518,1E-4,1579.0650000000001,1882.8140000000001,"undefined"]
[" ضحافرین300",2968,2528,"1403/03/06",140," 114 (0.0%)",0,0,500,0,500,0,3468,162,2.0802,"در ضرر",2,0,0,800000,0.443,-527.55100000000004,6.9999999999999999E-4,624.67200000000003,372.12299999999999,"undefined"]
[" ضترو1105",12000,11740,"1402/11/15",28," 76 (0.0%)",0,0,550,0,550,0,12550,454,0.2114,"در ضرر",11,0,0,2680000,0.51900000000000002,-4376.1049999999996,2.9999999999999997E-4,1299.1110000000001,433.42700000000002,"undefined"]
[" ضهم وزن605",16000,16421,"1403/06/04",231," 344 (0.0%)",0,0,4000,0,4000,0,20000,3472,0.152,"در سود",3,0,0,7310000,0.79400000000000004,-3446.9940000000001,1E-4,3739.3159999999998,6108.567,"undefined"]
[" ضخاور123",4080,3807,"1403/01/15",87," 126 (0.0%)",0,0,666,0,666,0,4746,263,1.5290000000000001,"در ضرر",3,0,0,1206000,0.53600000000000003,-997.43299999999999,5.9999999999999995E-4,746.25099999999998,428.601,"undefined"]
[" ضجهش0203",8000,11320,"1403/02/12",115," 8 (0.0%)",0,0,5000,0,5000,0,13000,3995,0.25159999999999999,"در سود",2,0,0,7280000,0.98899999999999999,-1917.336,0,183.87299999999999,2287.6570000000002,"undefined"]
[" ضخوز1200",2000,3527,"1402/12/07",50," 1 (0.0%)",0,0,1250,0,1250,0,3250,1603,-0.22039999999999998,"در سود",3,0,0,1960000,1,-483.17500000000001,0,7.0000000000000001E-3,264.74799999999999,"undefined"]
[" ضسلا1219",16000,16400,"1402/12/16",59," 3,183 (0.0%)",0,0,2250,0,2250,0,18250,1537,0.46429999999999999,"در سود",5,0,0,5550000,0.71,-4986.7529999999997,1E-4,2262.319,1640.6880000000001,"undefined"]
[" ضخپارس1207",1900,1234,"1402/12/20",63," 1 (0.0%)",0,0,930,0,930,0,2830,0,1,"در ضرر",0,0,0,1130000,6.0000000000000001E-3,-10.173,1E-4,8.3689999999999998,1.165,"undefined"]
[" ضخود0123",3500,2829,"1403/01/08",80," 5,196 (0.0%)",0,0,107,0,107,0,3607,52,1.0748,"در ضرر",6,0,0,467000,0.21,-445.48700000000002,5.9999999999999995E-4,386.07299999999998,120.313,"undefined"]
[" ضبرک1006",8000,6880,"1402/10/17",1," 1,114 (0.0%)",0,0,20,0,20,0,8020,0,1,"در ضرر",0,0,0,830000,0,0,0,0,0,"undefined"]
[" ضشنا1200",5500,8210,"1402/12/02",45," 14,654 (0.0%)",0,0,3100,0,3100,0,8600,2907,6.6400000000000001E-2,"در سود",3,0,0,4750000,1,-1335.4280000000001,0,1.76,657.33600000000001,"undefined"]
[" ضخاور128",5380,3807,"1403/01/15",87," 1,000 (0.0%)",0,0,30,0,30,0,5410,17,0.77319999999999989,"در ضرر",8,0,0,570000,6.3E-2,-227.55199999999999,2.0000000000000001E-4,232.935,53.899000000000001,"undefined"]
[" ضکرمان306",1598,1323,"1403/03/02",136," 30 (0.0%)",0,0,299,0,299,0,1897,67,3.4556999999999998,"در ضرر",2,0,0,459000,0.38,-255.30099999999999,1.2999999999999999E-3,309.77600000000001,163.66,"undefined"]
[" ضستا0110",1000,1244,"1403/01/08",80," 100 (0.0%)",0,0,400,0,400,0,1400,302,0.32539999999999997,"در سود",3,0,0,650000,0.96,-263.32499999999999,4.0000000000000002E-4,49.963999999999999,195.88499999999999,"undefined"]
[" ضستر1208",5500,4690,"1402/12/02",45," 2,675 (0.0%)",0,0,130,0,130,0,5630,60,1.1562000000000001,"در ضرر",7,0,0,690000,0.19600000000000001,-876.08600000000001,5.0000000000000001E-4,463.108,107.867,"undefined"]
[" ضهم وزن602",10000,16421,"1403/06/04",231," 20,228 (0.0%)",0,0,7003,0,7003,0,17003,7992,-0.12380000000000001,"در سود",2,0,0,10313000,0.99399999999999999,-2168.902,0,224.58600000000001,5333.38,"undefined"]
[" ضبساما1105",12000,9700,"1402/11/04",17," 90 (0.0%)",0,0,330,0,330,0,12330,1,512.76750000000004,"در ضرر",0,0,0,1540000,3.0000000000000001E-3,-78.19,0,18.937999999999999,1.31,"undefined"]
[" ضترا1157",5000,4200,"1402/11/23",36," 7,321 (0.0%)",0,0,10,0,10,0,5010,22,-0.53900000000000003,"در ضرر",43,0,0,520000,0.10299999999999999,-523.90800000000002,4.0000000000000002E-4,237.23099999999999,40.630000000000003,"undefined"]
[" ضهین0309",15000,11060,"1403/03/30",164," 619 (0.0%)",0,0,400,0,400,0,15400,350,0.14360000000000001,"در ضرر",7,0,0,1910000,0.251,-1536.76,1E-4,2376.886,1098.1379999999999,"undefined"]
[" ضترا1153",3500,4200,"1402/11/23",36," 290 (0.0%)",0,0,1150,-1.46,1167,0,4650,809,0.42229999999999995,"در سود",4,0,0,2017000,0.97599999999999998,-959.72799999999995,1E-4,74.584000000000003,326.423,"undefined"]
[" ضکرمان310",1998,1323,"1403/03/02",136," 32 (0.0%)",0,0,96,1.05,95,0,2094,11,7.9938000000000002,"در ضرر",1,0,0,295000,8.7999999999999995E-2,-87.912999999999997,5.9999999999999995E-4,130.23500000000001,39.863,"undefined"]

{"sheet":"Coveredcall List","index":1,"n_rows":1001,"n_cols":32,"rows_kept":1001,"cut":false,"hidden":false,"merged":[]}
["نماد","اعمال","فی سهم پایه","سررسید","مانده روز","حجم معاملات","آخرین پرمیوم","سربه سری","درصد سربه سری","سود ماهیانه در قیمت فعلی سهم","حداکثر سود ماهیانه",null,null,null,null,"مانده روز از :",20,null,"حجم از:",100,null,"سربه سری از:",-0.1,null,"سود ماهیانه از:",0.01,null,"نماد شامل:","ضخود",null,"ستون مرتب سازی:","j"]
[{"$f":"'دیده بان'!A408","v":" ضتوان706"},{"$f":"'دیده بان'!B408","v":20000},{"$f":"'دیده بان'!C408","v":18431},{"$f":"'دیده بان'!D408","v":"1403/07/02"},{"$f":"'دیده بان'!E408","v":260},{"$f":"'دیده بان'!G408","v":0},{"$f":"'دیده بان'!I408","v":6000},{"$f":"C2-G2","v":12431},{"$f":"IFERROR(-G2/C2,0)","v":-0.32553849492702513},{"$f":"IF(C2<=B2,G2,B2+G2-C2)/H2/E2*30","v":5.5692035420134525E-2},{"$f":"IFERROR((G2+B2-C2)/H2/E2*30,0)","v":7.0255502682499721E-2}]
[{"$f":"'دیده بان'!A378","v":" ضهم وزن607"},{"$f":"'دیده بان'!B378","v":20000},{"$f":"'دیده بان'!C378","v":16421},{"$f":"'دیده بان'!D378","v":"1403/06/04"},{"$f":"'دیده بان'!E378","v":231},{"$f":"'دیده بان'!G378","v":0},{"$f":"'دیده بان'!I378","v":2400},14021,-0.14615431459716216,2.2230105676364856E-2,5.538075076624395E-2]
[{"$f":"'دیده بان'!A4","v":" ضسپا1001"},{"$f":"'دیده بان'!B4","v":2400},{"$f":"'دیده بان'!C4","v":2469},{"$f":"'دیده بان'!D4","v":"1402/10/20"},{"$f":"'دیده بان'!E4","v":3},{"$f":"'دیده بان'!G4","v":884899},{"$f":"'دیده بان'!I4","v":65},2404,-2.6326447954637504E-2,-1.6638935108153081E-2,-1.6638935108153081E-2]
[{"$f":"'دیده بان'!A377","v":" ضهم وزن606"},{"$f":"'دیده بان'!B377","v":18000},{"$f":"'دیده بان'!C377","v":16421},{"$f":"'دیده بان'!D377","v":"1403/06/04"},{"$f":"'دیده بان'!E377","v":231},{"$f":"'دیده بان'!G377","v":0},{"$f":"'دیده بان'!I377","v":1500},14921,-9.1346446623226357E-2,1.3055773393552362E-2,2.6799150852498479E-2]
[{"$f":"'دیده بان'!A87","v":" ضبرک1000"},{"$f":"'دیده بان'!B87","v":5000},{"$f":"'دیده بان'!C87","v":6880},{"$f":"'دیده بان'!D87","v":"1402/10/17"},{"$f":"'دیده بان'!E87","v":1},{"$f":"'دیده بان'!G87","v":198},{"$f":"'دیده بان'!I87","v":2000},4880,-0.29069767441860467,0.73770491803278682,0.73770491803278682]
[{"$f":"'دیده بان'!A7","v":" ضسپا1000"},{"$f":"'دیده بان'!B7","v":2200},{"$f":"'دیده بان'!C7","v":2469},{"$f":"'دیده بان'!D7","v":"1402/10/20"},{"$f":"'دیده بان'!E7","v":3},{"$f":"'دیده بان'!G7","v":145555},{"$f":"'دیده بان'!I7","v":242},2227,-9.8015390846496561E-2,-0.121239335428828,-0.121239335428828]
[{"$f":"'دیده بان'!A374","v":" ضهم وزن601"},{"$f":"'دیده بان'!B374","v":9000},{"$f":"'دیده بان'!C374","v":16421},{"$f":"'دیده بان'!D374","v":"1403/06/04"},{"$f":"'دیده بان'!E374","v":231},{"$f":"'دیده بان'!G374","v":0},{"$f":"'دیده بان'!I374","v":9550},6871,-0.5815723768345411,4.0240650049993672E-2,4.0240650049993672E-2]
[{"$f":"'دیده بان'!A379","v":" ضهم وزن608"},{"$f":"'دیده بان'!B379","v":23000},{"$f":"'دیده بان'!C379","v":16421},{"$f":"'دیده بان'!D379","v":"1403/06/04"},{"$f":"'دیده بان'!E379","v":231},{"$f":"'دیده بان'!G379","v":0},{"$f":"'دیده بان'!I379","v":1200},15221,-7.307715729858108E-2,1.0238759335402131E-2,6.6372757391744308E-2]
[{"$f":"'دیده بان'!A376","v":" ضهم وزن604"},{"$f":"'دیده بان'!B376","v":14000},{"$f":"'دیده بان'!C376","v":16421},{"$f":"'دیده بان'!D376","v":"1403/06/04"},{"$f":"'دیده بان'!E376","v":231},{"$f":"'دیده بان'!G376","v":0},{"$f":"'دیده بان'!I376","v":3682},12739,-0.22422507764447963,1.2855501512381958E-2,1.2855501512381958E-2]
[{"$f":"'دیده بان'!A229","v":" ضبرک1002"},{"$f":"'دیده بان'!B229","v":6000},{"$f":"'دیده بان'!C229","v":6880},{"$f":"'دیده بان'!D229","v":"1402/10/17"},{"$f":"'دیده بان'!E229","v":1},{"$f":"'دیده بان'!G229","v":0},{"$f":"'دیده بان'!I229","v":1000},5880,-0.14534883720930233,0.61224489795918358,0.61224489795918358]
[{"$f":"'دیده بان'!A437","v":" ضهم وزن602"},{"$f":"'دیده بان'!B437","v":10000},{"$f":"'دیده بان'!C437","v":16421},{"$f":"'دیده بان'!D437","v":"1403/06/04"},{"$f":"'دیده بان'!E437","v":231},{"$f":"'دیده بان'!G437","v":0},{"$f":"'دیده بان'!I437","v":7003},9418,-0.42646611046830279,8.0255272440449762E-3,8.0255272440449762E-3]
[{"$f":"'دیده بان'!A373","v":" ضهم وزن600"},{"$f":"'دیده بان'!B373","v":8000},{"$f":"'دیده بان'!C373","v":16421},{"$f":"'دیده بان'!D373","v":"1403/06/04"},{"$f":"'دیده بان'!E373","v":231},{"$f":"'دیده بان'!G373","v":0},{"$f":"'دیده بان'!I373","v":10450},5971,-0.63638024480847699,4.4131048987856893E-2,4.4131048987856893E-2]
[{"$f":"'دیده بان'!A375","v":" ضهم وزن603"},{"$f":"'دیده بان'!B375","v":12000},{"$f":"'دیده بان'!C375","v":16421},{"$f":"'دیده بان'!D375","v":"1403/06/04"},{"$f":"'دیده بان'!E375","v":231},{"$f":"'دیده بان'!G375","v":0},{"$f":"'دیده بان'!I375","v":7190},9231,-0.43785396748066502,3.8956818287335028E-2,3.8956818287335028E-2]
[{"$f":"'دیده بان'!A424","v":" ضهم وزن605"},{"$f":"'دیده بان'!B424","v":16000},{"$f":"'دیده بان'!C424","v":16421},{"$f":"'دیده بان'!D424","v":"1403/06/04"},{"$f":"'دیده بان'!E424","v":231},{"$f":"'دیده بان'!G424","v":0},{"$f":"'دیده بان'!I424","v":4000},12421,-0.24359052432860362,3.7420915772095227E-2,3.7420915772095227E-2]
[{"$f":"'دیده بان'!A183","v":" ضخپارس400"},{"$f":"'دیده بان'!B183","v":850},{"$f":"'دیده بان'!C183","v":1234},{"$f":"'دیده بان'!D183","v":"1403/04/10"},{"$f":"'دیده بان'!E183","v":175},{"$f":"'دیده بان'!G183","v":1},{"$f":"'دیده بان'!I183","v":660},574,-0.53484602917341972,8.2429069188651075E-2,8.2429069188651075E-2]
[{"$f":"'دیده بان'!A44","v":" ضخپارس403"},{"$f":"'دیده بان'!B44","v":1050},{"$f":"'دیده بان'!C44","v":1234},{"$f":"'دیده بان'!D44","v":"1403/04/10"},{"$f":"'دیده بان'!E44","v":175},{"$f":"'دیده بان'!G44","v":7466},{"$f":"'دیده بان'!I44","v":385},849,-0.31199351701782818,4.0585562847046945E-2,4.0585562847046945E-2]
[{"$f":"'دیده بان'!A154","v":" ضخپارس401"},{"$f":"'دیده بان'!B154","v":900},{"$f":"'دیده بان'!C154","v":1234},{"$f":"'دیده بان'!D154","v":"1403/04/10"},{"$f":"'دیده بان'!E154","v":175},{"$f":"'دیده بان'!G154","v":29},{"$f":"'دیده بان'!I154","v":500},734,-0.4051863857374392,3.8769949396652396E-2,3.8769949396652396E-2]
[{"$f":"'دیده بان'!A357","v":" ضدی407"},{"$f":"'دیده بان'!B357","v":1200},{"$f":"'دیده بان'!C357","v":1110},{"$f":"'دیده بان'!D357","v":"1403/04/10"},{"$f":"'دیده بان'!E357","v":175},{"$f":"'دیده بان'!G357","v":0},{"$f":"'دیده بان'!I357","v":183},927,-0.16486486486486487,3.3841886269070733E-2,5.0485436893203887E-2]
[{"$f":"'دیده بان'!A394","v":" ضخپارس402"},{"$f":"'دیده بان'!B394","v":950},{"$f":"'دیده بان'!C394","v":1234},{"$f":"'دیده بان'!D394","v":"1403/04/10"},{"$f":"'دیده بان'!E394","v":175},{"$f":"'دیده بان'!G394","v":0},{"$f":"'دیده بان'!I394","v":400},834,-0.32414910858995138,2.3843782117163412E-2,2.3843782117163412E-2]
[{"$f":"'دیده بان'!A395","v":" ضخپارس405"},{"$f":"'دیده بان'!B395","v":1250},{"$f":"'دیده بان'!C395","v":1234},{"$f":"'دیده بان'!D395","v":"1403/04/10"},{"$f":"'دیده بان'!E395","v":175},{"$f":"'دیده بان'!G395","v":0},{"$f":"'دیده بان'!I395","v":300},934,-0.24311183144246354,5.5062710308962981E-2,5.7999388192107676E-2]
[{"$f":"'دیده بان'!A47","v":" ضموج401"},{"$f":"'دیده بان'!B47","v":8500},{"$f":"'دیده بان'!C47","v":12542},{"$f":"'دیده بان'!D47","v":"1403/04/03"},{"$f":"'دیده بان'!E47","v":168},{"$f":"'دیده بان'!G47","v":464},{"$f":"'دیده بان'!I47","v":5900},6642,-0.47041939084675488,4.9952682066503204E-2,4.9952682066503204E-2]
[{"$f":"'دیده بان'!A46","v":" ضموج407"},{"$f":"'دیده بان'!B46","v":13500},{"$f":"'دیده بان'!C46","v":12542},{"$f":"'دیده بان'!D46","v":"1403/04/03"},{"$f":"'دیده بان'!E46","v":168},{"$f":"'دیده بان'!G46","v":1100},{"$f":"'دیده بان'!I46","v":2300},10242,-0.1833838303300909,4.0100984740703546E-2,5.6803916645744412E-2]
[{"$f":"'دیده بان'!A119","v":" ضموج409"},{"$f":"'دیده بان'!B119","v":15500},{"$f":"'دیده بان'!C119","v":12542},{"$f":"'دیده بان'!D119","v":"1403/04/03"},{"$f":"'دیده بان'!E119","v":168},{"$f":"'دیده بان'!G119","v":38},{"$f":"'دیده بان'!I119","v":1855},10687,-0.14790304576622548,3.0995602133433144E-2,8.0421473352136785E-2]
[{"$f":"'دیده بان'!A128","v":" ضبرک1001"},{"$f":"'دیده بان'!B128","v":5500},{"$f":"'دیده بان'!C128","v":6880},{"$f":"'دیده بان'!D128","v":"1402/10/17"},{"$f":"'دیده بان'!E128","v":1},{"$f":"'دیده بان'!G128","v":35},{"$f":"'دیده بان'!I128","v":1403},5477,-0.20392441860465116,0.12598137666605805,0.12598137666605805]
[{"$f":"'دیده بان'!A129","v":" ضموج410"},{"$f":"'دیده بان'!B129","v":16500},{"$f":"'دیده بان'!C129","v":12542},{"$f":"'دیده بان'!D129","v":"1403/04/03"},{"$f":"'دیده بان'!E129","v":168},{"$f":"'دیده بان'!G129","v":34},{"$f":"'دیده بان'!I129","v":1435},11107,-0.11441556370594802,2.3071036283424863E-2,8.6705295244954919E-2]
[{"$f":"'دیده بان'!A134","v":" ضموج408"},{"$f":"'دیده بان'!B134","v":14500},{"$f":"'دیده بان'!C134","v":12542},{"$f":"'دیده بان'!D134","v":"1403/04/03"},{"$f":"'دیده بان'!E134","v":168},{"$f":"'دیده بان'!G134","v":17},{"$f":"'دیده بان'!I134","v":2001},10541,-0.15954393238717907,3.3898247658801686E-2,6.7068047216989446E-2]
[{"$f":"'دیده بان'!A385","v":" ضموج412"},{"$f":"'دیده بان'!B385","v":18500},{"$f":"'دیده بان'!C385","v":12542},{"$f":"'دیده بان'!D385","v":"1403/04/03"},{"$f":"'دیده بان'!E385","v":168},{"$f":"'دیده بان'!G385","v":0},{"$f":"'دیده بان'!I385","v":800},11742,-6.3785680114814225E-2,1.2166338175535928E-2,0.10277514173783975]
[{"$f":"'دیده بان'!A147","v":" ضصاد1145"},{"$f":"'دیده بان'!B147","v":3617},{"$f":"'دیده بان'!C147","v":1851},{"$f":"'دیده بان'!D147","v":"1402/11/11"},{"$f":"'دیده بان'!E147","v":24},{"$f":"'دیده بان'!G147","v":15101},{"$f":"'دیده بان'!I147","v":1},1850,-5.4024851431658564E-4,6.7567567567567571E-4,1.193918918918919]
[{"$f":"'دیده بان'!A164","v":" ضهین0302"},{"$f":"'دیده بان'!B164","v":8000},{"$f":"'دیده بان'!C164","v":11060},{"$f":"'دیده بان'!D164","v":"1403/03/30"},{"$f":"'دیده بان'!E164","v":164},{"$f":"'دیده بان'!G164","v":1},{"$f":"'دیده بان'!I164","v":4500},6560,-0.40687160940325495,4.0154669839381318E-2,4.0154669839381318E-2]
[{"$f":"'دیده بان'!A158","v":" ضصاد1143"},{"$f":"'دیده بان'!B158","v":3165},{"$f":"'دیده بان'!C158","v":1851},{"$f":"'دیده بان'!D158","v":"1402/11/11"},{"$f":"'دیده بان'!E158","v":24},{"$f":"'دیده بان'!G158","v":2000},{"$f":"'دیده بان'!I158","v":5},1846,-2.7012425715829281E-3,3.3856988082340196E-3,0.89314734561213427]
[{"$f":"'دیده بان'!A85","v":" ضهین0304"},{"$f":"'دیده بان'!B85","v":10000},{"$f":"'دیده بان'!C85","v":11060},{"$f":"'دیده بان'!D85","v":"1403/03/30"},{"$f":"'دیده بان'!E85","v":164},{"$f":"'دیده بان'!G85","v":116},{"$f":"'دیده بان'!I85","v":2850},8210,-0.25768535262206149,3.9882950595644812E-2,3.9882950595644812E-2]
[{"$f":"'دیده بان'!A107","v":" ضهین0308"},{"$f":"'دیده بان'!B107","v":14000},{"$f":"'دیده بان'!C107","v":11060},{"$f":"'دیده بان'!D107","v":"1403/03/30"},{"$f":"'دیده بان'!E107","v":164},{"$f":"'دیده بان'!G107","v":210},{"$f":"'دیده بان'!I107","v":625},10435,-5.6509945750452081E-2,1.0956326621244171E-2,6.2494887047576754E-2]
[{"$f":"'دیده بان'!A30","v":" ضسپا1012"},{"$f":"'دیده بان'!B30","v":1900},{"$f":"'دیده بان'!C30","v":2469},{"$f":"'دیده بان'!D30","v":"1402/10/20"},{"$f":"'دیده بان'!E30","v":3},{"$f":"'دیده بان'!G30","v":16142},{"$f":"'دیده بان'!I30","v":542},1927,-0.21952207371405427,-0.14011416709911778,-0.14011416709911778]
[{"$f":"'دیده بان'!A140","v":" ضهین0306"},{"$f":"'دیده بان'!B140","v":12000},{"$f":"'دیده بان'!C140","v":11060},{"$f":"'دیده بان'!D140","v":"1403/03/30"},{"$f":"'دیده بان'!E140","v":164},{"$f":"'دیده بان'!G140","v":20},{"$f":"'دیده بان'!I140","v":1300},9760,-0.11754068716094032,2.4365253898440624E-2,4.1983206717313072E-2]
[{"$f":"'دیده بان'!A137","v":" ضصاد1139"},{"$f":"'دیده بان'!B137","v":2350},{"$f":"'دیده بان'!C137","v":1851},{"$f":"'دیده بان'!D137","v":"1402/11/11"},{"$f":"'دیده بان'!E137","v":24},{"$f":"'دیده بان'!G137","v":2846},{"$f":"'دیده بان'!I137","v":10},1841,-5.4024851431658562E-3,6.7897881586094517E-3,0.3456002172732211]
[{"$f":"'دیده بان'!A92","v":" ضصاد1138"},{"$f":"'دیده بان'!B92","v":2169},{"$f":"'دیده بان'!C92","v":1851},{"$f":"'دیده بان'!D92","v":"1402/11/11"},{"$f":"'دیده بان'!E92","v":24},{"$f":"'دیده بان'!G92","v":5700},{"$f":"'دیده بان'!I92","v":32},1819,-1.728795245813074E-2,2.1990104452996151E-2,0.24051676745464542]
[{"$f":"'دیده بان'!A63","v":" ضصاد1137"},{"$f":"'دیده بان'!B63","v":1988},{"$f":"'دیده بان'!C63","v":1851},{"$f":"'دیده بان'!D63","v":"1402/11/11"},{"$f":"'دیده بان'!E63","v":24},{"$f":"'دیده بان'!G63","v":12264},{"$f":"'دیده بان'!I63","v":58},1793,-3.1334413830361965E-2,4.0435025097601787E-2,0.13594534300055772]
[{"$f":"'دیده بان'!A216","v":" ضهین0300"},{"$f":"'دیده بان'!B216","v":7000},{"$f":"'دیده بان'!C216","v":11060},{"$f":"'دیده بان'!D216","v":"1403/03/30"},{"$f":"'دیده بان'!E216","v":164},{"$f":"'دیده بان'!G216","v":0},{"$f":"'دیده بان'!I216","v":5500},5560,-0.49728752260397829,4.7376732760133357E-2,4.7376732760133357E-2]
[{"$f":"'دیده بان'!A217","v":" ضهین0301"},{"$f":"'دیده بان'!B217","v":7500},{"$f":"'دیده بان'!C217","v":11060},{"$f":"'دیده بان'!D217","v":"1403/03/30"},{"$f":"'دیده بان'!E217","v":164},{"$f":"'دیده بان'!G217","v":0},{"$f":"'دیده بان'!I217","v":5000},6060,-0.45207956600361665,4.3467761410287367E-2,4.3467761410287367E-2]
[{"$f":"'دیده بان'!A57","v":" ضصاد1136"},{"$f":"'دیده بان'!B57","v":1807},{"$f":"'دیده بان'!C57","v":1851},{"$f":"'دیده بان'!D57","v":"1402/11/11"},{"$f":"'دیده بان'!E57","v":24},{"$f":"'دیده بان'!G57","v":11297},{"$f":"'دیده بان'!I57","v":100},1751,-5.4024851431658562E-2,3.9977155910908058E-2,3.9977155910908058E-2]
[{"$f":"'دیده بان'!A438","v":" ضبساما1105"},{"$f":"'دیده بان'!B438","v":12000},{"$f":"'دیده بان'!C438","v":9700},{"$f":"'دیده بان'!D438","v":"1402/11/04"},{"$f":"'دیده بان'!E438","v":17},{"$f":"'دیده بان'!G438","v":0},{"$f":"'دیده بان'!I438","v":330},9370,-3.4020618556701028E-2,6.2150794149036348E-2,0.49532299579383521]
[{"$f":"'دیده بان'!A218","v":" ضهین0303"},{"$f":"'دیده بان'!B218","v":9000},{"$f":"'دیده بان'!C218","v":11060},{"$f":"'دیده بان'!D218","v":"1403/03/30"},{"$f":"'دیده بان'!E218","v":164},{"$f":"'دیده بان'!G218","v":0},{"$f":"'دیده بان'!I218","v":3600},7460,-0.32549728752260398,3.7762374942784283E-2,3.7762374942784283E-2]
[{"$f":"'دیده بان'!A79","v":" ضصاد1132"},{"$f":"'دیده بان'!B79","v":1445},{"$f":"'دیده بان'!C79","v":1851},{"$f":"'دیده بان'!D79","v":"1402/11/11"},{"$f":"'دیده بان'!E79","v":24},{"$f":"'دیده بان'!G79","v":847},{"$f":"'دیده بان'!I79","v":410},1441,-0.2215018908698001,3.4698126301179735E-3,3.4698126301179735E-3]
[{"$f":"'دیده بان'!A219","v":" ضهین0305"},{"$f":"'دیده بان'!B219","v":11000},{"$f":"'دیده بان'!C219","v":11060},{"$f":"'دیده بان'!D219","v":"1403/03/30"},{"$f":"'دیده بان'!E219","v":164},{"$f":"'دیده بان'!G219","v":0},{"$f":"'دیده بان'!I219","v":2199},8861,-0.1988245931283906,4.4157599345996841E-2,4.4157599345996841E-2]
[{"$f":"'دیده بان'!A220","v":" ضهین0307"},{"$f":"'دیده بان'!B220","v":13000},{"$f":"'دیده بان'!C220","v":11060},{"$f":"'دیده بان'!D220","v":"1403/03/30"},{"$f":"'دیده بان'!E220","v":164},{"$f":"'دیده بان'!G220","v":0},{"$f":"'دیده بان'!I220","v":1298},9762,-0.11735985533453888,2.4322784715247278E-2,6.0675791146356448E-2]
[{"$f":"'دیده بان'!A440","v":" ضهین0309"},{"$f":"'دیده بان'!B440","v":15000},{"$f":"'دیده بان'!C440","v":11060},{"$f":"'دیده بان'!D440","v":"1403/03/30"},{"$f":"'دیده بان'!E440","v":164},{"$f":"'دیده بان'!G440","v":0},{"$f":"'دیده بان'!I440","v":400},10660,-3.6166365280289332E-2,6.8640461263899701E-3,7.4474900471331165E-2]
[{"$f":"'دیده بان'!A213","v":" ضهرم3002"},{"$f":"'دیده بان'!B213","v":14000},{"$f":"'دیده بان'!C213","v":20340},{"$f":"'دیده بان'!D213","v":"1403/03/23"},{"$f":"'دیده بان'!E213","v":157},{"$f":"'دیده بان'!G213","v":0},{"$f":"'دیده بان'!I213","v":10000},10340,-0.49164208456243852,6.7636659315748637E-2,6.7636659315748637E-2]
[{"$f":"'دیده بان'!A19","v":" ضهرم3006"},{"$f":"'دیده بان'!B19","v":20000},{"$f":"'دیده بان'!C19","v":20340},{"$f":"'دیده بان'!D19","v":"1403/03/23"},{"$f":"'دیده بان'!E19","v":157},{"$f":"'دیده بان'!G19","v":3352},{"$f":"'دیده بان'!I19","v":4550},15790,-0.22369714847590955,5.0947346341109222E-2,5.0947346341109222E-2]
[{"$f":"'دیده بان'!A18","v":" ضهرم3000"},{"$f":"'دیده بان'!B18","v":12000},{"$f":"'دیده بان'!C18","v":20340},{"$f":"'دیده بان'!D18","v":"1403/03/23"},{"$f":"'دیده بان'!E18","v":157},{"$f":"'دیده بان'!G18","v":1475},{"$f":"'دیده بان'!I18","v":10360},9980,-0.50934119960668633,3.8676078271192071E-2,3.8676078271192071E-2]
[{"$f":"'دیده بان'!A308","v":" ضملی1185"},{"$f":"'دیده بان'!B308","v":10000},{"$f":"'دیده بان'!C308","v":7300},{"$f":"'دیده بان'!D308","v":"1402/11/02"},{"$f":"'دیده بان'!E308","v":15},{"$f":"'دیده بان'!G308","v":0},{"$f":"'دیده بان'!I308","v":10},7290,-1.3698630136986301E-3,2.7434842249657062E-3,0.74348422496570643]
[{"$f":"'دیده بان'!A359","v":" ضبساما1100"},{"$f":"'دیده بان'!B359","v":8500},{"$f":"'دیده بان'!C359","v":9700},{"$f":"'دیده بان'!D359","v":"1402/11/04"},{"$f":"'دیده بان'!E359","v":17},{"$f":"'دیده بان'!G359","v":0},{"$f":"'دیده بان'!I359","v":1700},8000,-0.17525773195876287,0.11029411764705882,0.11029411764705882]
[{"$f":"'دیده بان'!A65","v":" ضهرم3003"},{"$f":"'دیده بان'!B65","v":15000},{"$f":"'دیده بان'!C65","v":20340},{"$f":"'دیده بان'!D65","v":"1403/03/23"},{"$f":"'دیده بان'!E65","v":157},{"$f":"'دیده بان'!G65","v":101},{"$f":"'دیده بان'!I65","v":7777},12563,-0.38235004916420845,3.7066687081820995E-2,3.7066687081820995E-2]
[{"$f":"'دیده بان'!A199","v":" ضهرم3010"},{"$f":"'دیده بان'!B199","v":28000},{"$f":"'دیده بان'!C199","v":20340},{"$f":"'دیده بان'!D199","v":"1403/03/23"},{"$f":"'دیده بان'!E199","v":157},{"$f":"'دیده بان'!G199","v":0},{"$f":"'دیده بان'!I199","v":2551},17789,-0.12541789577187806,2.7401890454739616E-2,0.10968275320789739]
[{"$f":"'دیده بان'!A214","v":" ضهرم3004"},{"$f":"'دیده بان'!B214","v":16000},{"$f":"'دیده بان'!C214","v":20340},{"$f":"'دیده بان'!D214","v":"1403/03/23"},{"$f":"'دیده بان'!E214","v":157},{"$f":"'دیده بان'!G214","v":0},{"$f":"'دیده بان'!I214","v":7700},12640,-0.37856440511307771,5.0794162702571956E-2,5.0794162702571956E-2]
[{"$f":"'دیده بان'!A215","v":" ضهرم3007"},{"$f":"'دیده بان'!B215","v":22000},{"$f":"'دیده بان'!C215","v":20340},{"$f":"'دیده بان'!D215","v":"1403/03/23"},{"$f":"'دیده بان'!E215","v":157},{"$f":"'دیده بان'!G215","v":0},{"$f":"'دیده بان'!I215","v":3600},16740,-0.17699115044247787,4.1093075816724882E-2,6.0041549665548019E-2]
[{"$f":"'دیده بان'!A155","v":" ضهرم3008"},{"$f":"'دیده بان'!B155","v":24000},{"$f":"'دیده بان'!C155","v":20340},{"$f":"'دیده بان'!D155","v":"1403/03/23"},{"$f":"'دیده بان'!E155","v":157},{"$f":"'دیده بان'!G155","v":5},{"$f":"'دیده بان'!I155","v":2860},17480,-0.14060963618485742,3.126411986765585E-2,7.1273448089900743E-2]
[{"$f":"'دیده بان'!A400","v":" ضفصبا301"},{"$f":"'دیده بان'!B400","v":5300},{"$f":"'دیده بان'!C400","v":6290},{"$f":"'دیده بان'!D400","v":"1403/03/20"},{"$f":"'دیده بان'!E400","v":154},{"$f":"'دیده بان'!G400","v":0},{"$f":"'دیده بان'!I400","v":400},5890,-6.3593004769475353E-2,-1.9513593367583182E-2,-1.9513593367583182E-2]
[{"$f":"'دیده بان'!A45","v":" ضفصبا300"},{"$f":"'دیده بان'!B45","v":4800},{"$f":"'دیده بان'!C45","v":6290},{"$f":"'دیده بان'!D45","v":"1403/03/20"},{"$f":"'دیده بان'!E45","v":154},{"$f":"'دیده بان'!G45","v":2170},{"$f":"'دیده بان'!I45","v":1280},5010,-0.20349761526232116,-8.1654872074033748E-3,-8.1654872074033748E-3]
[{"$f":"'دیده بان'!A404","v":" ضبتهران303"},{"$f":"'دیده بان'!B404","v":2300},{"$f":"'دیده بان'!C404","v":2570},{"$f":"'دیده بان'!D404","v":"1403/03/20"},{"$f":"'دیده بان'!E404","v":154},{"$f":"'دیده بان'!G404","v":0},{"$f":"'دیده بان'!I404","v":1000},1570,-0.38910505836575876,9.057821159731988E-2,9.057821159731988E-2]
[{"$f":"'دیده بان'!A403","v":" ضبتهران302"},{"$f":"'دیده بان'!B403","v":2100},{"$f":"'دیده بان'!C403","v":2570},{"$f":"'دیده بان'!D403","v":"1403/03/20"},{"$f":"'دیده بان'!E403","v":154},{"$f":"'دیده بان'!G403","v":0},{"$f":"'دیده بان'!I403","v":1070},1500,-0.41634241245136189,7.792207792207792E-2,7.792207792207792E-2]
[{"$f":"'دیده بان'!A265","v":" ضدرا3004"},{"$f":"'دیده بان'!B265","v":14000},{"$f":"'دیده بان'!C265","v":16540},{"$f":"'دیده بان'!D265","v":"1403/03/13"},{"$f":"'دیده بان'!E265","v":147},{"$f":"'دیده بان'!G265","v":0},{"$f":"'دیده بان'!I265","v":4350},12190,-0.2629987908101572,3.0302522978018113E-2,3.0302522978018113E-2]
[{"$f":"'دیده بان'!A271","v":" ضسلا3002"},{"$f":"'دیده بان'!B271","v":13000},{"$f":"'دیده بان'!C271","v":16400},{"$f":"'دیده بان'!D271","v":"1403/03/13"},{"$f":"'دیده بان'!E271","v":147},{"$f":"'دیده بان'!G271","v":0},{"$f":"'دیده بان'!I271","v":5701},10699,-0.34762195121951217,4.3891189525627997E-2,4.3891189525627997E-2]
[{"$f":"'دیده بان'!A64","v":" ضخوز1032"},{"$f":"'دیده بان'!B64","v":2800},{"$f":"'دیده بان'!C64","v":3527},{"$f":"'دیده بان'!D64","v":"1402/10/17"},{"$f":"'دیده بان'!E64","v":1},{"$f":"'دیده بان'!G64","v":1490},{"$f":"'دیده بان'!I64","v":590},2937,-0.16728097533314432,-1.3993871297242082,-1.3993871297242082]
[{"$f":"'دیده بان'!A272","v":" ضسلا3003"},{"$f":"'دیده بان'!B272","v":14000},{"$f":"'دیده بان'!C272","v":16400},{"$f":"'دیده بان'!D272","v":"1403/03/13"},{"$f":"'دیده بان'!E272","v":147},{"$f":"'دیده بان'!G272","v":0},{"$f":"'دیده بان'!I272","v":5121},11279,-0.31225609756097561,4.9233630858141642E-2,4.9233630858141642E-2]
[{"$f":"'دیده بان'!A323","v":" ضسرو0303"},{"$f":"'دیده بان'!B323","v":100000},{"$f":"'دیده بان'!C323","v":135300},{"$f":"'دیده بان'!D323","v":"1403/03/09"},{"$f":"'دیده بان'!E323","v":143},{"$f":"'دیده بان'!G323","v":0},{"$f":"'دیده بان'!I323","v":48000},{"$f":"C66-G66","v":87300},{"$f":"IFERROR(-G66/C66,0)","v":-0.35476718403547675},{"$f":"IF(C66<=B66,G66,B66+G66-C66)/H66/E66*30","v":3.0519308869824336E-2},{"$f":"IFERROR((G66+B66-C66)/H66/E66*30,0)","v":3.0519308869824336E-2}]
[{"$f":"'دیده بان'!A148","v":" ضسرو0304"},{"$f":"'دیده بان'!B148","v":110000},{"$f":"'دیده بان'!C148","v":135300},{"$f":"'دیده بان'!D148","v":"1403/03/09"},{"$f":"'دیده بان'!E148","v":143},{"$f":"'دیده بان'!G148","v":50},{"$f":"'دیده بان'!I148","v":39000},96300,-0.28824833702882485,2.9845543864235456E-2,2.9845543864235456E-2]
[{"$f":"'دیده بان'!A186","v":" ضسرو0302"},{"$f":"'دیده بان'!B186","v":90000},{"$f":"'دیده بان'!C186","v":135300},{"$f":"'دیده بان'!D186","v":"1403/03/09"},{"$f":"'دیده بان'!E186","v":143},{"$f":"'دیده بان'!G186","v":1},{"$f":"'دیده بان'!I186","v":55667},79633,-0.41143385070214339,2.7311480226728926E-2,2.7311480226728926E-2]
[{"$f":"'دیده بان'!A324","v":" ضسرو0310"},{"$f":"'دیده بان'!B324","v":180000},{"$f":"'دیده بان'!C324","v":135300},{"$f":"'دیده بان'!D324","v":"1403/03/09"},{"$f":"'دیده بان'!E324","v":143},{"$f":"'دیده بان'!G324","v":0},{"$f":"'دیده بان'!I324","v":1500},133800,-1.1086474501108648E-2,2.3519081815045941E-3,7.2438771990341488E-2]
[{"$f":"'دیده بان'!A422","v":" ضحافرین300"},{"$f":"'دیده بان'!B422","v":2968},{"$f":"'دیده بان'!C422","v":2528},{"$f":"'دیده بان'!D422","v":"1403/03/06"},{"$f":"'دیده بان'!E422","v":140},{"$f":"'دیده بان'!G422","v":0},{"$f":"'دیده بان'!I422","v":500},2028,-0.19778481012658228,5.2831783601014377E-2,9.9323753169907006E-2]
[{"$f":"'دیده بان'!A442","v":" ضکرمان310"},{"$f":"'دیده بان'!B442","v":1998},{"$f":"'دیده بان'!C442","v":1323},{"$f":"'دیده بان'!D442","v":"1403/03/02"},{"$f":"'دیده بان'!E442","v":136},{"$f":"'دیده بان'!G442","v":0},{"$f":"'دیده بان'!I442","v":96},1227,-7.2562358276643993E-2,1.7258737235725588E-2,0.13860923342442108]
[{"$f":"'دیده بان'!A83","v":" ضستا1115"},{"$f":"'دیده بان'!B83","v":1400},{"$f":"'دیده بان'!C83","v":1244},{"$f":"'دیده بان'!D83","v":"1402/11/11"},{"$f":"'دیده بان'!E83","v":24},{"$f":"'دیده بان'!G83","v":40811},{"$f":"'دیده بان'!I83","v":8},1236,-6.4308681672025723E-3,8.0906148867313926E-3,0.16585760517799353]
[{"$f":"'دیده بان'!A69","v":" ضستا1114"},{"$f":"'دیده بان'!B69","v":1300},{"$f":"'دیده بان'!C69","v":1244},{"$f":"'دیده بان'!D69","v":"1402/11/11"},{"$f":"'دیده بان'!E69","v":24},{"$f":"'دیده بان'!G69","v":26379},{"$f":"'دیده بان'!I69","v":29},1215,-2.3311897106109324E-2,2.9835390946502057E-2,8.7448559670781897E-2]
[{"$f":"'دیده بان'!A434","v":" ضکرمان306"},{"$f":"'دیده بان'!B434","v":1598},{"$f":"'دیده بان'!C434","v":1323},{"$f":"'دیده بان'!D434","v":"1403/03/02"},{"$f":"'دیده بان'!E434","v":136},{"$f":"'دیده بان'!G434","v":0},{"$f":"'دیده بان'!I434","v":299},1024,-0.22600151171579744,6.4410041360294129E-2,0.12365004595588236]
[{"$f":"'دیده بان'!A212","v":" ضهرم2006"},{"$f":"'دیده بان'!B212","v":20000},{"$f":"'دیده بان'!C212","v":20340},{"$f":"'دیده بان'!D212","v":"1403/02/26"},{"$f":"'دیده بان'!E212","v":129},{"$f":"'دیده بان'!G212","v":0},{"$f":"'دیده بان'!I212","v":4239},16101,-0.20840707964601771,5.6316016772033517E-2,5.6316016772033517E-2]
[{"$f":"'دیده بان'!A123","v":" ضهرم2008"},{"$f":"'دیده بان'!B123","v":24000},{"$f":"'دیده بان'!C123","v":20340},{"$f":"'دیده بان'!D123","v":"1403/02/26"},{"$f":"'دیده بان'!E123","v":129},{"$f":"'دیده بان'!G123","v":29},{"$f":"'دیده بان'!I123","v":1930},18410,-9.488692232055064E-2,2.4380076550913937E-2,7.0613796849538293E-2]
[{"$f":"'دیده بان'!A209","v":" ضهرم2001"},{"$f":"'دیده بان'!B209","v":13000},{"$f":"'دیده بان'!C209","v":20340},{"$f":"'دیده بان'!D209","v":"1403/02/26"},{"$f":"'دیده بان'!E209","v":129},{"$f":"'دیده بان'!G209","v":0},{"$f":"'دیده بان'!I209","v":10000},10340,-0.49164208456243852,5.9826368584409158E-2,5.9826368584409158E-2]
[{"$f":"'دیده بان'!A210","v":" ضهرم2004"},{"$f":"'دیده بان'!B210","v":16000},{"$f":"'دیده بان'!C210","v":20340},{"$f":"'دیده بان'!D210","v":"1403/02/26"},{"$f":"'دیده بان'!E210","v":129},{"$f":"'دیده بان'!G210","v":0},{"$f":"'دیده بان'!I210","v":6900},13440,-0.33923303834808261,4.4296788482834991E-2,4.4296788482834991E-2]
[{"$f":"'دیده بان'!A211","v":" ضهرم2005"},{"$f":"'دیده بان'!B211","v":18000},{"$f":"'دیده بان'!C211","v":20340},{"$f":"'دیده بان'!D211","v":"1403/02/26"},{"$f":"'دیده بان'!E211","v":129},{"$f":"'دیده بان'!G211","v":0},{"$f":"'دیده بان'!I211","v":6000},14340,-0.29498525073746312,5.9355843144886636E-2,5.9355843144886636E-2]
[{"$f":"'دیده بان'!A136","v":" ضهرم2007"},{"$f":"'دیده بان'!B136","v":22000},{"$f":"'دیده بان'!C136","v":20340},{"$f":"'دیده بان'!D136","v":"1403/02/26"},{"$f":"'دیده بان'!E136","v":129},{"$f":"'دیده بان'!G136","v":10},{"$f":"'دیده بان'!I136","v":3170},17170,-0.15585054080629301,4.2935894136609289E-2,6.5419674662404684E-2]
[{"$f":"'دیده بان'!A74","v":" ضهرم2000"},{"$f":"'دیده بان'!B74","v":12000},{"$f":"'دیده بان'!C74","v":20340},{"$f":"'دیده بان'!D74","v":"1403/02/26"},{"$f":"'دیده بان'!E74","v":129},{"$f":"'دیده بان'!G74","v":54},{"$f":"'دیده بان'!I74","v":9900},10440,-0.48672566371681414,3.475006682705159E-2,3.475006682705159E-2]
[{"$f":"'دیده بان'!A102","v":" ضبساما205"},{"$f":"'دیده بان'!B102","v":10000},{"$f":"'دیده بان'!C102","v":9700},{"$f":"'دیده بان'!D102","v":"1403/02/23"},{"$f":"'دیده بان'!E102","v":126},{"$f":"'دیده بان'!G102","v":240},{"$f":"'دیده بان'!I102","v":700},9000,-7.2164948453608241E-2,1.8518518518518517E-2,2.6455026455026454E-2]
[{"$f":"'دیده بان'!A132","v":" ضبساما206"},{"$f":"'دیده بان'!B132","v":11000},{"$f":"'دیده بان'!C132","v":9700},{"$f":"'دیده بان'!D132","v":"1403/02/23"},{"$f":"'دیده بان'!E132","v":126},{"$f":"'دیده بان'!G132","v":108},{"$f":"'دیده بان'!I132","v":500},9200,-5.1546391752577317E-2,1.2939958592132504E-2,4.6583850931677023E-2]
[{"$f":"'دیده بان'!A60","v":" ضبساما204"},{"$f":"'دیده بان'!B60","v":9500},{"$f":"'دیده بان'!C60","v":9700},{"$f":"'دیده بان'!D60","v":"1403/02/23"},{"$f":"'دیده بان'!E60","v":126},{"$f":"'دیده بان'!G60","v":1335},{"$f":"'دیده بان'!I60","v":850},8850,-8.7628865979381437E-2,1.7487220877051388E-2,1.7487220877051388E-2]
[{"$f":"'دیده بان'!A66","v":" ضبساما203"},{"$f":"'دیده بان'!B66","v":9000},{"$f":"'دیده بان'!C66","v":9700},{"$f":"'دیده بان'!D66","v":"1403/02/23"},{"$f":"'دیده بان'!E66","v":126},{"$f":"'دیده بان'!G66","v":800},{"$f":"'دیده بان'!I66","v":750},8950,-7.7319587628865982E-2,1.3301409949454644E-3,1.3301409949454644E-3]
[{"$f":"'دیده بان'!A179","v":" ضسپا1011"},{"$f":"'دیده بان'!B179","v":5500},{"$f":"'دیده بان'!C179","v":2469},{"$f":"'دیده بان'!D179","v":"1402/10/20"},{"$f":"'دیده بان'!E179","v":3},{"$f":"'دیده بان'!G179","v":1717},{"$f":"'دیده بان'!I179","v":1},2468,-4.050222762251924E-4,4.0518638573743921E-3,12.285251215559155]
[{"$f":"'دیده بان'!A193","v":" ضبدر2057"},{"$f":"'دیده بان'!B193","v":15000},{"$f":"'دیده بان'!C193","v":9600},{"$f":"'دیده بان'!D193","v":"1403/02/19"},{"$f":"'دیده بان'!E193","v":122},{"$f":"'دیده بان'!G193","v":1},{"$f":"'دیده بان'!I193","v":40},9560,-4.1666666666666666E-3,1.0288771520680429E-3,0.13992729268125387]
[{"$f":"'دیده بان'!A71","v":" ضجهش0205"},{"$f":"'دیده بان'!B71","v":10000},{"$f":"'دیده بان'!C71","v":11320},{"$f":"'دیده بان'!D71","v":"1403/02/12"},{"$f":"'دیده بان'!E71","v":115},{"$f":"'دیده بان'!G71","v":205},{"$f":"'دیده بان'!I71","v":3000},8320,-0.26501766784452296,5.2675585284280936E-2,5.2675585284280936E-2]
[{"$f":"'دیده بان'!A303","v":" ضجهش0206"},{"$f":"'دیده بان'!B303","v":11000},{"$f":"'دیده بان'!C303","v":11320},{"$f":"'دیده بان'!D303","v":"1403/02/12"},{"$f":"'دیده بان'!E303","v":115},{"$f":"'دیده بان'!G303","v":0},{"$f":"'دیده بان'!I303","v":3800},7520,-0.33568904593639576,0.12072155411655874,0.12072155411655874]
[{"$f":"'دیده بان'!A157","v":" ضستا2024"},{"$f":"'دیده بان'!B157","v":1000},{"$f":"'دیده بان'!C157","v":1244},{"$f":"'دیده بان'!D157","v":"1403/02/12"},{"$f":"'دیده بان'!E157","v":115},{"$f":"'دیده بان'!G157","v":29},{"$f":"'دیده بان'!I157","v":467},777,-0.37540192926045018,7.4869900956857471E-2,7.4869900956857471E-2]
[{"$f":"'دیده بان'!A101","v":" ضجهش0201"},{"$f":"'دیده بان'!B101","v":7000},{"$f":"'دیده بان'!C101","v":11320},{"$f":"'دیده بان'!D101","v":"1403/02/12"},{"$f":"'دیده بان'!E101","v":115},{"$f":"'دیده بان'!G101","v":34},{"$f":"'دیده بان'!I101","v":5254},6066,-0.46413427561837456,4.0166860190082997E-2,4.0166860190082997E-2]
[{"$f":"'دیده بان'!A167","v":" ضسپا1007"},{"$f":"'دیده بان'!B167","v":3750},{"$f":"'دیده بان'!C167","v":2469},{"$f":"'دیده بان'!D167","v":"1402/10/20"},{"$f":"'دیده بان'!E167","v":3},{"$f":"'دیده بان'!G167","v":4210},{"$f":"'دیده بان'!I167","v":1},2468,-4.050222762251924E-4,4.0518638573743921E-3,5.1944894651539713]
[{"$f":"'دیده بان'!A187","v":" ضستا2023"},{"$f":"'دیده بان'!B187","v":900},{"$f":"'دیده بان'!C187","v":1244},{"$f":"'دیده بان'!D187","v":"1403/02/12"},{"$f":"'دیده بان'!E187","v":115},{"$f":"'دیده بان'!G187","v":1},{"$f":"'دیده بان'!I187","v":530},714,-0.42604501607717044,6.7957617829740594E-2,6.7957617829740594E-2]
[{"$f":"'دیده بان'!A104","v":" ضسپا1004"},{"$f":"'دیده بان'!B104","v":3000},{"$f":"'دیده بان'!C104","v":2469},{"$f":"'دیده بان'!D104","v":"1402/10/20"},{"$f":"'دیده بان'!E104","v":3},{"$f":"'دیده بان'!G104","v":163517},{"$f":"'دیده بان'!I104","v":1},2468,-4.050222762251924E-4,4.0518638573743921E-3,2.1555915721231766]
[{"$f":"'دیده بان'!A67","v":" ضسپا1003"},{"$f":"'دیده بان'!B67","v":2800},{"$f":"'دیده بان'!C67","v":2469},{"$f":"'دیده بان'!D67","v":"1402/10/20"},{"$f":"'دیده بان'!E67","v":3},{"$f":"'دیده بان'!G67","v":273234},{"$f":"'دیده بان'!I67","v":2},2467,-8.1004455245038481E-4,8.1070125658694765E-3,1.3498175922172679]
[{"$f":"'دیده بان'!A109","v":" ضذوب1124"},{"$f":"'دیده بان'!B109","v":5000},{"$f":"'دیده بان'!C109","v":4546},{"$f":"'دیده بان'!D109","v":"1402/11/02"},{"$f":"'دیده بان'!E109","v":15},{"$f":"'دیده بان'!G109","v":2100},{"$f":"'دیده بان'!I109","v":48},4498,-1.0558732952045754E-2,2.1342819030680301E-2,0.22321031569586483]
[{"$f":"'دیده بان'!A73","v":" ضذوب1123"},{"$f":"'دیده بان'!B73","v":4500},{"$f":"'دیده بان'!C73","v":4546},{"$f":"'دیده بان'!D73","v":"1402/11/02"},{"$f":"'دیده بان'!E73","v":15},{"$f":"'دیده بان'!G73","v":2730},{"$f":"'دیده بان'!I73","v":209},4337,-4.5974483062032556E-2,7.5167166243947425E-2,7.5167166243947425E-2]
[{"$f":"'دیده بان'!A419","v":" ضصاد1141"},{"$f":"'دیده بان'!B419","v":2712},{"$f":"'دیده بان'!C419","v":1851},{"$f":"'دیده بان'!D419","v":"1402/11/11"},{"$f":"'دیده بان'!E419","v":24},{"$f":"'دیده بان'!G419","v":0},{"$f":"'دیده بان'!I419","v":15},1836,-8.1037277147487843E-3,1.0212418300653595E-2,0.59640522875816993]
[{"$f":"'دیده بان'!A184","v":" ضستا2022"},{"$f":"'دیده بان'!B184","v":800},{"$f":"'دیده بان'!C184","v":1244},{"$f":"'دیده بان'!D184","v":"1403/02/12"},{"$f":"'دیده بان'!E184","v":115},{"$f":"'دیده بان'!G184","v":1},{"$f":"'دیده بان'!I184","v":600},644,-0.48231511254019294,6.3192006481231439E-2,6.3192006481231439E-2]
[{"$f":"'دیده بان'!A115","v":" ضستا2026"},{"$f":"'دیده بان'!B115","v":1200},{"$f":"'دیده بان'!C115","v":1244},{"$f":"'دیده بان'!D115","v":"1403/02/12"},{"$f":"'دیده بان'!E115","v":115},{"$f":"'دیده بان'!G115","v":437},{"$f":"'دیده بان'!I115","v":188},1056,-0.15112540192926044,3.5573122529644265E-2,3.5573122529644265E-2]
[{"$f":"'دیده بان'!A302","v":" ضجهش0204"},{"$f":"'دیده بان'!B302","v":9000},{"$f":"'دیده بان'!C302","v":11320},{"$f":"'دیده بان'!D302","v":"1403/02/12"},{"$f":"'دیده بان'!E302","v":115},{"$f":"'دیده بان'!G302","v":0},{"$f":"'دیده بان'!I302","v":5300},6020,-0.46819787985865724,0.1291347681640907,0.1291347681640907]
[{"$f":"'دیده بان'!A304","v":" ضجهش0207"},{"$f":"'دیده بان'!B304","v":12000},{"$f":"'دیده بان'!C304","v":11320},{"$f":"'دیده بان'!D304","v":"1403/02/12"},{"$f":"'دیده بان'!E304","v":115},{"$f":"'دیده بان'!G304","v":0},{"$f":"'دیده بان'!I304","v":1600},9720,-0.14134275618374559,4.2941492216854532E-2,6.1191626409017708E-2]
[{"$f":"'دیده بان'!A70","v":" ضجهش0200"},{"$f":"'دیده بان'!B70","v":6500},{"$f":"'دیده بان'!C70","v":11320},{"$f":"'دیده بان'!D70","v":"1403/02/12"},{"$f":"'دیده بان'!E70","v":115},{"$f":"'دیده بان'!G70","v":110},{"$f":"'دیده بان'!I70","v":5560},5760,-0.49116607773851589,3.3514492753623185E-2,3.3514492753623185E-2]
[{"$f":"'دیده بان'!A348","v":" ضذوب1115"},{"$f":"'دیده بان'!B348","v":2400},{"$f":"'دیده بان'!C348","v":4546},{"$f":"'دیده بان'!D348","v":"1402/11/02"},{"$f":"'دیده بان'!E348","v":15},{"$f":"'دیده بان'!G348","v":0},{"$f":"'دیده بان'!I348","v":2300},2246,-0.50593928728552573,0.13713268032056991,0.13713268032056991]
[{"$f":"'دیده بان'!A22","v":" ضذوب1122"},{"$f":"'دیده بان'!B22","v":4000},{"$f":"'دیده بان'!C22","v":4546},{"$f":"'دیده بان'!D22","v":"1402/11/02"},{"$f":"'دیده بان'!E22","v":15},{"$f":"'دیده بان'!G22","v":19502},{"$f":"'دیده بان'!I22","v":640},3906,-0.14078310602727673,4.8131080389144903E-2,4.8131080389144903E-2]
[{"$f":"'دیده بان'!A56","v":" ضجهش0202"},{"$f":"'دیده بان'!B56","v":7500},{"$f":"'دیده بان'!C56","v":11320},{"$f":"'دیده بان'!D56","v":"1403/02/12"},{"$f":"'دیده بان'!E56","v":115},{"$f":"'دیده بان'!G56","v":285},{"$f":"'دیده بان'!I56","v":4665},6655,-0.4121024734982332,3.3123182961486954E-2,3.3123182961486954E-2]
[{"$f":"'دیده بان'!A426","v":" ضجهش0203"},{"$f":"'دیده بان'!B426","v":8000},{"$f":"'دیده بان'!C426","v":11320},{"$f":"'دیده بان'!D426","v":"1403/02/12"},{"$f":"'دیده بان'!E426","v":115},{"$f":"'دیده بان'!G426","v":0},{"$f":"'دیده بان'!I426","v":5000},6320,-0.44169611307420492,6.9345074298293896E-2,6.9345074298293896E-2]
[{"$f":"'دیده بان'!A108","v":" ضسپا1014"},{"$f":"'دیده بان'!B108","v":1700},{"$f":"'دیده بان'!C108","v":2469},{"$f":"'دیده بان'!D108","v":"1402/10/20"},{"$f":"'دیده بان'!E108","v":3},{"$f":"'دیده بان'!G108","v":171},{"$f":"'دیده بان'!I108","v":733},1736,-0.29688132847306603,-0.20737327188940094,-0.20737327188940094]
[{"$f":"'دیده بان'!A41","v":" ضذوب1121"},{"$f":"'دیده بان'!B41","v":3750},{"$f":"'دیده بان'!C41","v":4546},{"$f":"'دیده بان'!D41","v":"1402/11/02"},{"$f":"'دیده بان'!E41","v":15},{"$f":"'دیده بان'!G41","v":4436},{"$f":"'دیده بان'!I41","v":852},3694,-0.18741750989881215,3.0319436924742822E-2,3.0319436924742822E-2]
[{"$f":"'دیده بان'!A113","v":" ضشنا2038"},{"$f":"'دیده بان'!B113","v":8000},{"$f":"'دیده بان'!C113","v":8210},{"$f":"'دیده بان'!D113","v":"1403/02/09"},{"$f":"'دیده بان'!E113","v":112},{"$f":"'دیده بان'!G113","v":85},{"$f":"'دیده بان'!I113","v":1152},7058,-0.14031668696711327,3.5749706513378936E-2,3.5749706513378936E-2]
[{"$f":"'دیده بان'!A313","v":" ضشنا2039"},{"$f":"'دیده بان'!B313","v":9000},{"$f":"'دیده بان'!C313","v":8210},{"$f":"'دیده بان'!D313","v":"1403/02/09"},{"$f":"'دیده بان'!E313","v":112},{"$f":"'دیده بان'!G313","v":0},{"$f":"'دیده بان'!I313","v":1},8209,-1.218026796589525E-4,3.2629692149731127E-5,2.5810086490437322E-2]
[{"$f":"'دیده بان'!A314","v":" ضشنا2042"},{"$f":"'دیده بان'!B314","v":12000},{"$f":"'دیده بان'!C314","v":8210},{"$f":"'دیده بان'!D314","v":"1403/02/09"},{"$f":"'دیده بان'!E314","v":112},{"$f":"'دیده بان'!G314","v":0},{"$f":"'دیده بان'!I314","v":70},8140,-8.5261875761266752E-3,2.3034398034398034E-3,0.12701825201825201]
[{"$f":"'دیده بان'!A329","v":" ضتاب0210"},{"$f":"'دیده بان'!B329","v":14000},{"$f":"'دیده بان'!C329","v":9900},{"$f":"'دیده بان'!D329","v":"1403/02/05"},{"$f":"'دیده بان'!E329","v":108},{"$f":"'دیده بان'!G329","v":0},{"$f":"'دیده بان'!I329","v":499},9401,-5.0404040404040402E-2,1.4744294342209458E-2,0.13588979895755771]
[{"$f":"'دیده بان'!A84","v":" ضتاب0205"},{"$f":"'دیده بان'!B84","v":9000},{"$f":"'دیده بان'!C84","v":9900},{"$f":"'دیده بان'!D84","v":"1403/02/05"},{"$f":"'دیده بان'!E84","v":108},{"$f":"'دیده بان'!G84","v":165},{"$f":"'دیده بان'!I84","v":2040},7860,-0.20606060606060606,4.0288379983036471E-2,4.0288379983036471E-2]
[{"$f":"'دیده بان'!A100","v":" ضتاب0202"},{"$f":"'دیده بان'!B100","v":7000},{"$f":"'دیده بان'!C100","v":9900},{"$f":"'دیده بان'!D100","v":"1403/02/05"},{"$f":"'دیده بان'!E100","v":108},{"$f":"'دیده بان'!G100","v":50},{"$f":"'دیده بان'!I100","v":3710},6190,-0.37474747474747477,3.6348949919224563E-2,3.6348949919224563E-2]
[{"$f":"'دیده بان'!A116","v":" ضبساما1102"},{"$f":"'دیده بان'!B116","v":9500},{"$f":"'دیده بان'!C116","v":9700},{"$f":"'دیده بان'!D116","v":"1402/11/04"},{"$f":"'دیده بان'!E116","v":17},{"$f":"'دیده بان'!G116","v":100},{"$f":"'دیده بان'!I116","v":800},8900,-8.247422680412371E-2,0.11896893588896233,0.11896893588896233]
[{"$f":"'دیده بان'!A126","v":" ضتاب0204"},{"$f":"'دیده بان'!B126","v":8000},{"$f":"'دیده بان'!C126","v":9900},{"$f":"'دیده بان'!D126","v":"1403/02/05"},{"$f":"'دیده بان'!E126","v":108},{"$f":"'دیده بان'!G126","v":18},{"$f":"'دیده بان'!I126","v":2930},6970,-0.29595959595959598,4.1048939901163713E-2,4.1048939901163713E-2]
[{"$f":"'دیده بان'!A77","v":" ضتاب0200"},{"$f":"'دیده بان'!B77","v":6000},{"$f":"'دیده بان'!C77","v":9900},{"$f":"'دیده بان'!D77","v":"1403/02/05"},{"$f":"'دیده بان'!E77","v":108},{"$f":"'دیده بان'!G77","v":104},{"$f":"'دیده بان'!I77","v":4600},5300,-0.46464646464646464,3.668763102725367E-2,3.668763102725367E-2]
[{"$f":"'دیده بان'!A175","v":" ضتاب0207"},{"$f":"'دیده بان'!B175","v":11000},{"$f":"'دیده بان'!C175","v":9900},{"$f":"'دیده بان'!D175","v":"1403/02/05"},{"$f":"'دیده بان'!E175","v":108},{"$f":"'دیده بان'!G175","v":3},{"$f":"'دیده بان'!I175","v":950},8950,-9.5959595959595953E-2,2.9484792054624454E-2,6.3625077591558041E-2]
[{"$f":"'دیده بان'!A130","v":" ضتاب0206"},{"$f":"'دیده بان'!B130","v":10000},{"$f":"'دیده بان'!C130","v":9900},{"$f":"'دیده بان'!D130","v":"1403/02/05"},{"$f":"'دیده بان'!E130","v":108},{"$f":"'دیده بان'!G130","v":30},{"$f":"'دیده بان'!I130","v":1600},8300,-0.16161616161616163,5.3547523427041506E-2,5.6894243641231593E-2]
[{"$f":"'دیده بان'!A121","v":" ضسپا1015"},{"$f":"'دیده بان'!B121","v":1800},{"$f":"'دیده بان'!C121","v":2469},{"$f":"'دیده بان'!D121","v":"1402/10/20"},{"$f":"'دیده بان'!E121","v":3},{"$f":"'دیده بان'!G121","v":103},{"$f":"'دیده بان'!I121","v":638},1831,-0.25840421223167276,-0.16930638995084657,-0.16930638995084657]
[{"$f":"'دیده بان'!A326","v":" ضتاب0203"},{"$f":"'دیده بان'!B326","v":7500},{"$f":"'دیده بان'!C326","v":9900},{"$f":"'دیده بان'!D326","v":"1403/02/05"},{"$f":"'دیده بان'!E326","v":108},{"$f":"'دیده بان'!G326","v":0},{"$f":"'دیده بان'!I326","v":3170},6730,-0.32020202020202021,3.1781409938913659E-2,3.1781409938913659E-2]
[{"$f":"'دیده بان'!A327","v":" ضتاب0208"},{"$f":"'دیده بان'!B327","v":12000},{"$f":"'دیده بان'!C327","v":9900},{"$f":"'دیده بان'!D327","v":"1403/02/05"},{"$f":"'دیده بان'!E327","v":108},{"$f":"'دیده بان'!G327","v":0},{"$f":"'دیده بان'!I327","v":520},9380,-5.2525252525252523E-2,1.5399194503672116E-2,7.7588249230040277E-2]
[{"$f":"'دیده بان'!A328","v":" ضتاب0209"},{"$f":"'دیده بان'!B328","v":13000},{"$f":"'دیده بان'!C328","v":9900},{"$f":"'دیده بان'!D328","v":"1403/02/05"},{"$f":"'دیده بان'!E328","v":108},{"$f":"'دیده بان'!G328","v":0},{"$f":"'دیده بان'!I328","v":450},9450,-4.5454545454545456E-2,1.3227513227513227E-2,0.10435038212815989]
[{"$f":"'دیده بان'!A325","v":" ضتاب0201"},{"$f":"'دیده بان'!B325","v":6500},{"$f":"'دیده بان'!C325","v":9900},{"$f":"'دیده بان'!D325","v":"1403/02/05"},{"$f":"'دیده بان'!E325","v":108},{"$f":"'دیده بان'!G325","v":0},{"$f":"'دیده بان'!I325","v":3990},5910,-0.40303030303030302,2.7730776461740929E-2,2.7730776461740929E-2]
[{"$f":"'دیده بان'!A321","v":" ضترا0100"},{"$f":"'دیده بان'!B321","v":3000},{"$f":"'دیده بان'!C321","v":4200},{"$f":"'دیده بان'!D321","v":"1403/01/29"},{"$f":"'دیده بان'!E321","v":101},{"$f":"'دیده بان'!G321","v":0},{"$f":"'دیده بان'!I321","v":1800},2400,-0.42857142857142855,7.4257425742574254E-2,7.4257425742574254E-2]
[{"$f":"'دیده بان'!A322","v":" ضترا0110"},{"$f":"'دیده بان'!B322","v":7000},{"$f":"'دیده بان'!C322","v":4200},{"$f":"'دیده بان'!D322","v":"1403/01/29"},{"$f":"'دیده بان'!E322","v":101},{"$f":"'دیده بان'!G322","v":0},{"$f":"'دیده بان'!I322","v":2},4198,-4.7619047619047619E-4,1.4151010146274274E-4,0.1982556521493026]
[{"$f":"'دیده بان'!A410","v":" ضصاد0102"},{"$f":"'دیده بان'!B410","v":1448},{"$f":"'دیده بان'!C410","v":1851},{"$f":"'دیده بان'!D410","v":"1403/01/26"},{"$f":"'دیده بان'!E410","v":98},{"$f":"'دیده بان'!G410","v":0},{"$f":"'دیده بان'!I410","v":531},1320,-0.28687196110210694,2.9684601113172542E-2,2.9684601113172542E-2]
[{"$f":"'دیده بان'!A414","v":" ضفلا0102"},{"$f":"'دیده بان'!B414","v":5000},{"$f":"'دیده بان'!C414","v":6200},{"$f":"'دیده بان'!D414","v":"1403/01/26"},{"$f":"'دیده بان'!E414","v":98},{"$f":"'دیده بان'!G414","v":0},{"$f":"'دیده بان'!I414","v":1560},4640,-0.25161290322580643,2.375087966220971E-2,2.375087966220971E-2]
[{"$f":"'دیده بان'!A112","v":" ضصاد0108"},{"$f":"'دیده بان'!B112","v":2172},{"$f":"'دیده بان'!C112","v":1851},{"$f":"'دیده بان'!D112","v":"1403/01/26"},{"$f":"'دیده بان'!E112","v":98},{"$f":"'دیده بان'!G112","v":1000},{"$f":"'دیده بان'!I112","v":100},{"$f":"C130-G130","v":1751},{"$f":"IFERROR(-G130/C130,0)","v":-5.4024851431658562E-2},{"$f":"IF(C130<=B130,G130,B130+G130-C130)/H130/E130*30","v":1.7482721243837339E-2},{"$f":"IFERROR((G130+B130-C130)/H130/E130*30,0)","v":7.36022564365552E-2}]
[{"$f":"'دیده بان'!A249","v":" ضصاد0106"},{"$f":"'دیده بان'!B249","v":1810},{"$f":"'دیده بان'!C249","v":1851},{"$f":"'دیده بان'!D249","v":"1403/01/26"},{"$f":"'دیده بان'!E249","v":98},{"$f":"'دیده بان'!G249","v":0},{"$f":"'دیده بان'!I249","v":500},1351,-0.2701242571582928,0.10400459221438391,0.10400459221438391]
[{"$f":"'دیده بان'!A280","v":" ضفلا0101"},{"$f":"'دیده بان'!B280","v":4500},{"$f":"'دیده بان'!C280","v":6200},{"$f":"'دیده بان'!D280","v":"1403/01/26"},{"$f":"'دیده بان'!E280","v":98},{"$f":"'دیده بان'!G280","v":0},{"$f":"'دیده بان'!I280","v":2130},4070,-0.34354838709677421,3.2342175199318056E-2,3.2342175199318056E-2]
[{"$f":"'دیده بان'!A409","v":" ضفلا0103"},{"$f":"'دیده بان'!B409","v":5500},{"$f":"'دیده بان'!C409","v":6200},{"$f":"'دیده بان'!D409","v":"1403/01/26"},{"$f":"'دیده بان'!E409","v":98},{"$f":"'دیده بان'!G409","v":0},{"$f":"'دیده بان'!I409","v":1220},4980,-0.1967741935483871,3.1964593066142112E-2,3.1964593066142112E-2]
[{"$f":"'دیده بان'!A411","v":" ضصاد0107"},{"$f":"'دیده بان'!B411","v":1991},{"$f":"'دیده بان'!C411","v":1851},{"$f":"'دیده بان'!D411","v":"1403/01/26"},{"$f":"'دیده بان'!E411","v":98},{"$f":"'دیده بان'!G411","v":0},{"$f":"'دیده بان'!I411","v":202},1649,-0.1091301998919503,3.7499535896832956E-2,6.3489313251073626E-2]
[{"$f":"'دیده بان'!A76","v":" ضهرم0107"},{"$f":"'دیده بان'!B76","v":22000},{"$f":"'دیده بان'!C76","v":20340},{"$f":"'دیده بان'!D76","v":"1403/01/22"},{"$f":"'دیده بان'!E76","v":94},{"$f":"'دیده بان'!G76","v":200},{"$f":"'دیده بان'!I76","v":2441},17899,-0.12000983284169126,4.3524361874489603E-2,7.3123067614617718E-2]
[{"$f":"'دیده بان'!A88","v":" ضهرم0108"},{"$f":"'دیده بان'!B88","v":24000},{"$f":"'دیده بان'!C88","v":20340},{"$f":"'دیده بان'!D88","v":"1403/01/22"},{"$f":"'دیده بان'!E88","v":94},{"$f":"'دیده بان'!G88","v":201},{"$f":"'دیده بان'!I88","v":1267},19073,-6.2291052114060962E-2,2.1200739376482963E-2,8.2443601348012277E-2]
[{"$f":"'دیده بان'!A207","v":" ضهرم0106"},{"$f":"'دیده بان'!B207","v":20000},{"$f":"'دیده بان'!C207","v":20340},{"$f":"'دیده بان'!D207","v":"1403/01/22"},{"$f":"'دیده بان'!E207","v":94},{"$f":"'دیده بان'!G207","v":0},{"$f":"'دیده بان'!I207","v":3501},16839,-0.17212389380530974,5.9910314581272203E-2,5.9910314581272203E-2]
[{"$f":"'دیده بان'!A208","v":" ضهرم0109"},{"$f":"'دیده بان'!B208","v":26000},{"$f":"'دیده بان'!C208","v":20340},{"$f":"'دیده بان'!D208","v":"1403/01/22"},{"$f":"'دیده بان'!E208","v":94},{"$f":"'دیده بان'!G208","v":0},{"$f":"'دیده بان'!I208","v":599},19741,-2.944936086529007E-2,9.6839173682162737E-3,0.10118804475403281]
[{"$f":"'دیده بان'!A188","v":" ضهرم0110"},{"$f":"'دیده بان'!B188","v":28000},{"$f":"'دیده بان'!C188","v":20340},{"$f":"'دیده بان'!D188","v":"1403/01/22"},{"$f":"'دیده بان'!E188","v":94},{"$f":"'دیده بان'!G188","v":1},{"$f":"'دیده بان'!I188","v":499},19841,-2.4532940019665682E-2,8.0265772465569363E-3,0.13124016784500608]
[{"$f":"'دیده بان'!A416","v":" ضهرم0100"},{"$f":"'دیده بان'!B416","v":12000},{"$f":"'دیده بان'!C416","v":20340},{"$f":"'دیده بان'!D416","v":"1403/01/22"},{"$f":"'دیده بان'!E416","v":94},{"$f":"'دیده بان'!G416","v":0},{"$f":"'دیده بان'!I416","v":1},20339,-4.9164208456243856E-5,-0.13085122074455011,-0.13085122074455011]
[{"$f":"'دیده بان'!A141","v":" ضرول1005"},{"$f":"'دیده بان'!B141","v":1850},{"$f":"'دیده بان'!C141","v":1999},{"$f":"'دیده بان'!D141","v":"1402/10/24"},{"$f":"'دیده بان'!E141","v":7},{"$f":"'دیده بان'!G141","v":202},{"$f":"'دیده بان'!I141","v":124},1875,-6.2031015507753876E-2,-5.7142857142857148E-2,-5.7142857142857148E-2]
[{"$f":"'دیده بان'!A138","v":" ضملی0105"},{"$f":"'دیده بان'!B138","v":7000},{"$f":"'دیده بان'!C138","v":7300},{"$f":"'دیده بان'!D138","v":"1403/01/19"},{"$f":"'دیده بان'!E138","v":91},{"$f":"'دیده بان'!G138","v":30},{"$f":"'دیده بان'!I138","v":1000},6300,-0.13698630136986301,3.6630036630036632E-2,3.6630036630036632E-2]
[{"$f":"'دیده بان'!A350","v":" ضذوب0104"},{"$f":"'دیده بان'!B350","v":3750},{"$f":"'دیده بان'!C350","v":4546},{"$f":"'دیده بان'!D350","v":"1403/01/19"},{"$f":"'دیده بان'!E350","v":91},{"$f":"'دیده بان'!G350","v":0},{"$f":"'دیده بان'!I350","v":1750},2796,-0.3849538055433348,0.11248408244116398,0.11248408244116398]
[{"$f":"'دیده بان'!A351","v":" ضذوب0105"},{"$f":"'دیده بان'!B351","v":4000},{"$f":"'دیده بان'!C351","v":4546},{"$f":"'دیده بان'!D351","v":"1403/01/19"},{"$f":"'دیده بان'!E351","v":91},{"$f":"'دیده بان'!G351","v":0},{"$f":"'دیده بان'!I351","v":950},3596,-0.20897492300923889,3.7037489762740045E-2,3.7037489762740045E-2]
[{"$f":"'دیده بان'!A352","v":" ضذوب0109"},{"$f":"'دیده بان'!B352","v":6000},{"$f":"'دیده بان'!C352","v":4546},{"$f":"'دیده بان'!D352","v":"1403/01/19"},{"$f":"'دیده بان'!E352","v":91},{"$f":"'دیده بان'!G352","v":0},{"$f":"'دیده بان'!I352","v":115},4431,-2.5296964364276288E-2,8.5561019887357061E-3,0.11673499148109846]
[{"$f":"'دیده بان'!A124","v":" ضخاور120"},{"$f":"'دیده بان'!B124","v":3480},{"$f":"'دیده بان'!C124","v":3807},{"$f":"'دیده بان'!D124","v":"1403/01/15"},{"$f":"'دیده بان'!E124","v":87},{"$f":"'دیده بان'!G124","v":85},{"$f":"'دیده بان'!I124","v":656},3151,-0.17231415812976097,3.6003895862287832E-2,3.6003895862287832E-2]
[{"$f":"'دیده بان'!A160","v":" ضخاور131"},{"$f":"'دیده بان'!B160","v":6880},{"$f":"'دیده بان'!C160","v":3807},{"$f":"'دیده بان'!D160","v":"1403/01/15"},{"$f":"'دیده بان'!E160","v":87},{"$f":"'دیده بان'!G160","v":100},{"$f":"'دیده بان'!I160","v":100},3707,-2.6267402153926978E-2,9.3020659888561254E-3,0.29515455382640488]
[{"$f":"'دیده بان'!A34","v":" ضخاور118"},{"$f":"'دیده بان'!B34","v":3080},{"$f":"'دیده بان'!C34","v":3807},{"$f":"'دیده بان'!D34","v":"1403/01/15"},{"$f":"'دیده بان'!E34","v":87},{"$f":"'دیده بان'!G34","v":6261},{"$f":"'دیده بان'!I34","v":1022},2785,-0.26845285001313368,3.6525722775954929E-2,3.6525722775954929E-2]
[{"$f":"'دیده بان'!A146","v":" ضخاور122"},{"$f":"'دیده بان'!B146","v":3880},{"$f":"'دیده بان'!C146","v":3807},{"$f":"'دیده بان'!D146","v":"1403/01/15"},{"$f":"'دیده بان'!E146","v":87},{"$f":"'دیده بان'!G146","v":42},{"$f":"'دیده بان'!I146","v":555},3252,-0.14578408195429471,5.8849726428298756E-2,6.6590321075624556E-2]
[{"$f":"'دیده بان'!A91","v":" ضخاور119"},{"$f":"'دیده بان'!B91","v":3280},{"$f":"'دیده بان'!C91","v":3807},{"$f":"'دیده بان'!D91","v":"1403/01/15"},{"$f":"'دیده بان'!E91","v":87},{"$f":"'دیده بان'!G91","v":287},{"$f":"'دیده بان'!I91","v":830},2977,-0.2180194378775939,3.50966606048672E-2,3.50966606048672E-2]
[{"$f":"'دیده بان'!A152","v":" ضهای1104"},{"$f":"'دیده بان'!B152","v":2000},{"$f":"'دیده بان'!C152","v":2090},{"$f":"'دیده بان'!D152","v":"1402/11/15"},{"$f":"'دیده بان'!E152","v":28},{"$f":"'دیده بان'!G152","v":100},{"$f":"'دیده بان'!I152","v":155},1935,-7.4162679425837319E-2,3.5991140642303431E-2,3.5991140642303431E-2]
[{"$f":"'دیده بان'!A192","v":" ضبرک1004"},{"$f":"'دیده بان'!B192","v":7000},{"$f":"'دیده بان'!C192","v":6880},{"$f":"'دیده بان'!D192","v":"1402/10/17"},{"$f":"'دیده بان'!E192","v":1},{"$f":"'دیده بان'!G192","v":86},{"$f":"'دیده بان'!I192","v":1},6879,-1.4534883720930232E-4,4.3610989969472304E-3,0.52769297863061482]
[{"$f":"'دیده بان'!A153","v":" ضترو1101"},{"$f":"'دیده بان'!B153","v":8000},{"$f":"'دیده بان'!C153","v":11740},{"$f":"'دیده بان'!D153","v":"1402/11/15"},{"$f":"'دیده بان'!E153","v":28},{"$f":"'دیده بان'!G153","v":4},{"$f":"'دیده بان'!I153","v":3770},7970,-0.32112436115843274,4.0329808209356513E-3,4.0329808209356513E-3]
[{"$f":"'دیده بان'!A363","v":" ضخاور121"},{"$f":"'دیده بان'!B363","v":3680},{"$f":"'دیده بان'!C363","v":3807},{"$f":"'دیده بان'!D363","v":"1403/01/15"},{"$f":"'دیده بان'!E363","v":87},{"$f":"'دیده بان'!G363","v":0},{"$f":"'دیده بان'!I363","v":844},2963,-0.22169687417914369,8.3442922480710363E-2,8.3442922480710363E-2]
[{"$f":"'دیده بان'!A364","v":" ضخاور124"},{"$f":"'دیده بان'!B364","v":4280},{"$f":"'دیده بان'!C364","v":3807},{"$f":"'دیده بان'!D364","v":"1403/01/15"},{"$f":"'دیده بان'!E364","v":87},{"$f":"'دیده بان'!G364","v":0},{"$f":"'دیده بان'!I364","v":300},3507,-7.8802206461780933E-2,2.9497654936432555E-2,7.6005624219541212E-2]
[{"$f":"'دیده بان'!A365","v":" ضخاور129"},{"$f":"'دیده بان'!B365","v":5880},{"$f":"'دیده بان'!C365","v":3807},{"$f":"'دیده بان'!D365","v":"1403/01/15"},{"$f":"'دیده بان'!E365","v":87},{"$f":"'دیده بان'!G365","v":0},{"$f":"'دیده بان'!I365","v":30},3777,-7.8802206461780922E-3,2.7389006052970337E-3,0.19199693243132204]
[{"$f":"'دیده بان'!A366","v":" ضخاور130"},{"$f":"'دیده بان'!B366","v":6380},{"$f":"'دیده بان'!C366","v":3807},{"$f":"'دیده بان'!D366","v":"1403/01/15"},{"$f":"'دیده بان'!E366","v":87},{"$f":"'دیده بان'!G366","v":0},{"$f":"'دیده بان'!I366","v":30},3777,-7.8802206461780922E-3,2.7389006052970337E-3,0.23764527585293929]
[{"$f":"'دیده بان'!A367","v":" ضخاور132"},{"$f":"'دیده بان'!B367","v":2480},{"$f":"'دیده بان'!C367","v":3807},{"$f":"'دیده بان'!D367","v":"1403/01/15"},{"$f":"'دیده بان'!E367","v":87},{"$f":"'دیده بان'!G367","v":0},{"$f":"'دیده بان'!I367","v":1700},2107,-0.44654583661675862,6.1044465901837874E-2,6.1044465901837874E-2]
[{"$f":"'دیده بان'!A425","v":" ضخاور123"},{"$f":"'دیده بان'!B425","v":4080},{"$f":"'دیده بان'!C425","v":3807},{"$f":"'دیده بان'!D425","v":"1403/01/15"},{"$f":"'دیده بان'!E425","v":87},{"$f":"'دیده بان'!G425","v":0},{"$f":"'دیده بان'!I425","v":666},3141,-0.17494089834515367,7.3115304811777498E-2,0.1030859928202088]
[{"$f":"'دیده بان'!A433","v":" ضخاور128"},{"$f":"'دیده بان'!B433","v":5380},{"$f":"'دیده بان'!C433","v":3807},{"$f":"'دیده بان'!D433","v":"1403/01/15"},{"$f":"'دیده بان'!E433","v":87},{"$f":"'دیده بان'!G433","v":0},{"$f":"'دیده بان'!I433","v":30},3777,-7.8802206461780922E-3,2.7389006052970337E-3,0.14634858900970482]
[{"$f":"'دیده بان'!A163","v":" ضستا0115"},{"$f":"'دیده بان'!B163","v":1500},{"$f":"'دیده بان'!C163","v":1244},{"$f":"'دیده بان'!D163","v":"1403/01/08"},{"$f":"'دیده بان'!E163","v":80},{"$f":"'دیده بان'!G163","v":55},{"$f":"'دیده بان'!I163","v":96},1148,-7.7170418006430874E-2,3.1358885017421602E-2,0.11498257839721253]
[{"$f":"'دیده بان'!A8","v":" ضخود1121"},{"$f":"'دیده بان'!B8","v":2800},{"$f":"'دیده بان'!C8","v":2829},{"$f":"'دیده بان'!D8","v":"1402/11/11"},{"$f":"'دیده بان'!E8","v":24},{"$f":"'دیده بان'!G8","v":211944},{"$f":"'دیده بان'!I8","v":150},{"$f":"C162-G162","v":2679},{"$f":"IFERROR(-G162/C162,0)","v":-5.3022269353128315E-2},{"$f":"IF(C162<=B162,G162,B162+G162-C162)/H162/E162*30","v":5.6457633445315417E-2},{"$f":"IFERROR((G162+B162-C162)/H162/E162*30,0)","v":5.6457633445315417E-2}]
[{"$f":"'دیده بان'!A296","v":" ضخود0117"},{"$f":"'دیده بان'!B296","v":2200},{"$f":"'دیده بان'!C296","v":2829},{"$f":"'دیده بان'!D296","v":"1403/01/08"},{"$f":"'دیده بان'!E296","v":80},{"$f":"'دیده بان'!G296","v":0},{"$f":"'دیده بان'!I296","v":780},{"$f":"C163-G163","v":2049},{"$f":"IFERROR(-G163/C163,0)","v":-0.27571580063626722},{"$f":"IF(C163<=B163,G163,B163+G163-C163)/H163/E163*30","v":2.7635431918008786E-2},{"$f":"IFERROR((G163+B163-C163)/H163/E163*30,0)","v":2.7635431918008786E-2}]
[{"$f":"'دیده بان'!A172","v":" ضخود0124"},{"$f":"'دیده بان'!B172","v":3750},{"$f":"'دیده بان'!C172","v":2829},{"$f":"'دیده بان'!D172","v":"1403/01/08"},{"$f":"'دیده بان'!E172","v":80},{"$f":"'دیده بان'!G172","v":50},{"$f":"'دیده بان'!I172","v":70},{"$f":"C164-G164","v":2759},{"$f":"IFERROR(-G164/C164,0)","v":-2.4743725698126547E-2},{"$f":"IF(C164<=B164,G164,B164+G164-C164)/H164/E164*30","v":9.5143167814425514E-3},{"$f":"IFERROR((G164+B164-C164)/H164/E164*30,0)","v":0.13469554186299385}]
[{"$f":"'دیده بان'!A24","v":" ضخود1219"},{"$f":"'دیده بان'!B24","v":2800},{"$f":"'دیده بان'!C24","v":2829},{"$f":"'دیده بان'!D24","v":"1402/12/02"},{"$f":"'دیده بان'!E24","v":45},{"$f":"'دیده بان'!G24","v":49277},{"$f":"'دیده بان'!I24","v":241},{"$f":"C165-G165","v":2588},{"$f":"IFERROR(-G165/C165,0)","v":-8.5189112760692826E-2},{"$f":"IF(C165<=B165,G165,B165+G165-C165)/H165/E165*30","v":5.4611025244719218E-2},{"$f":"IFERROR((G165+B165-C165)/H165/E165*30,0)","v":5.4611025244719218E-2}]
[{"$f":"'دیده بان'!A297","v":" ضخود0119"},{"$f":"'دیده بان'!B297","v":2600},{"$f":"'دیده بان'!C297","v":2829},{"$f":"'دیده بان'!D297","v":"1403/01/08"},{"$f":"'دیده بان'!E297","v":80},{"$f":"'دیده بان'!G297","v":0},{"$f":"'دیده بان'!I297","v":400},{"$f":"C166-G166","v":2429},{"$f":"IFERROR(-G166/C166,0)","v":-0.14139271827500885},{"$f":"IF(C166<=B166,G166,B166+G166-C166)/H166/E166*30","v":2.6399752984767395E-2},{"$f":"IFERROR((G166+B166-C166)/H166/E166*30,0)","v":2.6399752984767395E-2}]
[{"$f":"'دیده بان'!A288","v":" ضخود0125"},{"$f":"'دیده بان'!B288","v":4000},{"$f":"'دیده بان'!C288","v":2829},{"$f":"'دیده بان'!D288","v":"1403/01/08"},{"$f":"'دیده بان'!E288","v":80},{"$f":"'دیده بان'!G288","v":0},{"$f":"'دیده بان'!I288","v":56},{"$f":"C167-G167","v":2773},{"$f":"IFERROR(-G167/C167,0)","v":-1.9794980558501239E-2},{"$f":"IF(C167<=B167,G167,B167+G167-C167)/H167/E167*30","v":7.5730256040389471E-3},{"$f":"IFERROR((G167+B167-C167)/H167/E167*30,0)","v":0.1659304002884962}]
[{"$f":"'دیده بان'!A293","v":" ضخود0114"},{"$f":"'دیده بان'!B293","v":1800},{"$f":"'دیده بان'!C293","v":2829},{"$f":"'دیده بان'!D293","v":"1403/01/08"},{"$f":"'دیده بان'!E293","v":80},{"$f":"'دیده بان'!G293","v":0},{"$f":"'دیده بان'!I293","v":1276},{"$f":"C168-G168","v":1553},{"$f":"IFERROR(-G168/C168,0)","v":-0.45104277129727821},{"$f":"IF(C168<=B168,G168,B168+G168-C168)/H168/E168*30","v":5.9642627173213135E-2},{"$f":"IFERROR((G168+B168-C168)/H168/E168*30,0)","v":5.9642627173213135E-2}]
[{"$f":"'دیده بان'!A294","v":" ضخود0115"},{"$f":"'دیده بان'!B294","v":1900},{"$f":"'دیده بان'!C294","v":2829},{"$f":"'دیده بان'!D294","v":"1403/01/08"},{"$f":"'دیده بان'!E294","v":80},{"$f":"'دیده بان'!G294","v":0},{"$f":"'دیده بان'!I294","v":1000},{"$f":"C169-G169","v":1829},{"$f":"IFERROR(-G169/C169,0)","v":-0.35348179568752208},{"$f":"IF(C169<=B169,G169,B169+G169-C169)/H169/E169*30","v":1.4557135046473484E-2},{"$f":"IFERROR((G169+B169-C169)/H169/E169*30,0)","v":1.4557135046473484E-2}]
[{"$f":"'دیده بان'!A295","v":" ضخود0116"},{"$f":"'دیده بان'!B295","v":2000},{"$f":"'دیده بان'!C295","v":2829},{"$f":"'دیده بان'!D295","v":"1403/01/08"},{"$f":"'دیده بان'!E295","v":80},{"$f":"'دیده بان'!G295","v":0},{"$f":"'دیده بان'!I295","v":900},{"$f":"C170-G170","v":1929},{"$f":"IFERROR(-G170/C170,0)","v":-0.31813361611876989},{"$f":"IF(C170<=B170,G170,B170+G170-C170)/H170/E170*30","v":1.380248833592535E-2},{"$f":"IFERROR((G170+B170-C170)/H170/E170*30,0)","v":1.380248833592535E-2}]
[{"$f":"'دیده بان'!A171","v":" ضخود1116"},{"$f":"'دیده بان'!B171","v":1900},{"$f":"'دیده بان'!C171","v":2829},{"$f":"'دیده بان'!D171","v":"1402/11/11"},{"$f":"'دیده بان'!E171","v":24},{"$f":"'دیده بان'!G171","v":4},{"$f":"'دیده بان'!I171","v":920},{"$f":"C171-G171","v":1909},{"$f":"IFERROR(-G171/C171,0)","v":-0.32520325203252032},{"$f":"IF(C171<=B171,G171,B171+G171-C171)/H171/E171*30","v":-5.8931377684651653E-3},{"$f":"IFERROR((G171+B171-C171)/H171/E171*30,0)","v":-5.8931377684651653E-3}]
[{"$f":"'دیده بان'!A298","v":" ضخود0120"},{"$f":"'دیده بان'!B298","v":2800},{"$f":"'دیده بان'!C298","v":2829},{"$f":"'دیده بان'!D298","v":"1403/01/08"},{"$f":"'دیده بان'!E298","v":80},{"$f":"'دیده بان'!G298","v":0},{"$f":"'دیده بان'!I298","v":300},{"$f":"C172-G172","v":2529},{"$f":"IFERROR(-G172/C172,0)","v":-0.10604453870625663},{"$f":"IF(C172<=B172,G172,B172+G172-C172)/H172/E172*30","v":4.018386714116251E-2},{"$f":"IFERROR((G172+B172-C172)/H172/E172*30,0)","v":4.018386714116251E-2}]
[{"$f":"'دیده بان'!A142","v":" ضخود1126"},{"$f":"'دیده بان'!B142","v":4000},{"$f":"'دیده بان'!C142","v":2829},{"$f":"'دیده بان'!D142","v":"1402/11/11"},{"$f":"'دیده بان'!E142","v":24},{"$f":"'دیده بان'!G142","v":3000},{"$f":"'دیده بان'!I142","v":8},{"$f":"C173-G173","v":2821},{"$f":"IFERROR(-G173/C173,0)","v":-2.8278543655001769E-3},{"$f":"IF(C173<=B173,G173,B173+G173-C173)/H173/E173*30","v":3.5448422545196739E-3},{"$f":"IFERROR((G173+B173-C173)/H173/E173*30,0)","v":0.52242112725983703}]
[{"$f":"'دیده بان'!A340","v":" ضستا0111"},{"$f":"'دیده بان'!B340","v":1100},{"$f":"'دیده بان'!C340","v":1244},{"$f":"'دیده بان'!D340","v":"1403/01/08"},{"$f":"'دیده بان'!E340","v":80},{"$f":"'دیده بان'!G340","v":0},{"$f":"'دیده بان'!I340","v":399},{"$f":"C174-G174","v":845},{"$f":"IFERROR(-G174/C174,0)","v":-0.32073954983922831},{"$f":"IF(C174<=B174,G174,B174+G174-C174)/H174/E174*30","v":0.11316568047337278},{"$f":"IFERROR((G174+B174-C174)/H174/E174*30,0)","v":0.11316568047337278}]
[{"$f":"'دیده بان'!A341","v":" ضستا0112"},{"$f":"'دیده بان'!B341","v":1200},{"$f":"'دیده بان'!C341","v":1244},{"$f":"'دیده بان'!D341","v":"1403/01/08"},{"$f":"'دیده بان'!E341","v":80},{"$f":"'دیده بان'!G341","v":0},{"$f":"'دیده بان'!I341","v":200},{"$f":"C175-G175","v":1044},{"$f":"IFERROR(-G175/C175,0)","v":-0.16077170418006431},{"$f":"IF(C175<=B175,G175,B175+G175-C175)/H175/E175*30","v":5.6034482758620698E-2},{"$f":"IFERROR((G175+B175-C175)/H175/E175*30,0)","v":5.6034482758620698E-2}]
[{"$f":"'دیده بان'!A139","v":" ضخود0121"},{"$f":"'دیده بان'!B139","v":3000},{"$f":"'دیده بان'!C139","v":2829},{"$f":"'دیده بان'!D139","v":"1403/01/08"},{"$f":"'دیده بان'!E139","v":80},{"$f":"'دیده بان'!G139","v":111},{"$f":"'دیده بان'!I139","v":280},{"$f":"C176-G176","v":2549},{"$f":"IFERROR(-G176/C176,0)","v":-9.8974902792506189E-2},{"$f":"IF(C176<=B176,G176,B176+G176-C176)/H176/E176*30","v":4.1192624558650449E-2},{"$f":"IFERROR((G176+B176-C176)/H176/E176*30,0)","v":6.6349548842683403E-2}]
[{"$f":"'دیده بان'!A110","v":" ضبساما1103"},{"$f":"'دیده بان'!B110","v":10000},{"$f":"'دیده بان'!C110","v":9700},{"$f":"'دیده بان'!D110","v":"1402/11/04"},{"$f":"'دیده بان'!E110","v":17},{"$f":"'دیده بان'!G110","v":240},{"$f":"'دیده بان'!I110","v":497},{"$f":"C177-G177","v":9203},{"$f":"IFERROR(-G177/C177,0)","v":-5.1237113402061857E-2},{"$f":"IF(C177<=B177,G177,B177+G177-C177)/H177/E177*30","v":9.5301404273542514E-2},{"$f":"IFERROR((G177+B177-C177)/H177/E177*30,0)","v":0.15282740282900079}]
[{"$f":"'دیده بان'!A178","v":" ضهای1105"},{"$f":"'دیده بان'!B178","v":2200},{"$f":"'دیده بان'!C178","v":2090},{"$f":"'دیده بان'!D178","v":"1402/11/15"},{"$f":"'دیده بان'!E178","v":28},{"$f":"'دیده بان'!G178","v":13},{"$f":"'دیده بان'!I178","v":150},{"$f":"C178-G178","v":1940},{"$f":"IFERROR(-G178/C178,0)","v":-7.1770334928229665E-2},{"$f":"IF(C178<=B178,G178,B178+G178-C178)/H178/E178*30","v":8.2842415316642132E-2},{"$f":"IFERROR((G178+B178-C178)/H178/E178*30,0)","v":0.14359351988217967}]
[{"$f":"'دیده بان'!A287","v":" ضهای1107"},{"$f":"'دیده بان'!B287","v":2600},{"$f":"'دیده بان'!C287","v":2090},{"$f":"'دیده بان'!D287","v":"1402/11/15"},{"$f":"'دیده بان'!E287","v":28},{"$f":"'دیده بان'!G287","v":0},{"$f":"'دیده بان'!I287","v":10},{"$f":"C179-G179","v":2080},{"$f":"IFERROR(-G179/C179,0)","v":-4.7846889952153108E-3},{"$f":"IF(C179<=B179,G179,B179+G179-C179)/H179/E179*30","v":5.1510989010989019E-3},{"$f":"IFERROR((G179+B179-C179)/H179/E179*30,0)","v":0.26785714285714285}]
[{"$f":"'دیده بان'!A342","v":" ضستا0113"},{"$f":"'دیده بان'!B342","v":1300},{"$f":"'دیده بان'!C342","v":1244},{"$f":"'دیده بان'!D342","v":"1403/01/08"},{"$f":"'دیده بان'!E342","v":80},{"$f":"'دیده بان'!G342","v":0},{"$f":"'دیده بان'!I342","v":90},{"$f":"C180-G180","v":1154},{"$f":"IFERROR(-G180/C180,0)","v":-7.2347266881028938E-2},{"$f":"IF(C180<=B180,G180,B180+G180-C180)/H180/E180*30","v":2.9246100519930672E-2},{"$f":"IFERROR((G180+B180-C180)/H180/E180*30,0)","v":4.7443674176776425E-2}]
[{"$f":"'دیده بان'!A181","v":" ضخود1117"},{"$f":"'دیده بان'!B181","v":2000},{"$f":"'دیده بان'!C181","v":2829},{"$f":"'دیده بان'!D181","v":"1402/11/11"},{"$f":"'دیده بان'!E181","v":24},{"$f":"'دیده بان'!G181","v":1},{"$f":"'دیده بان'!I181","v":900},{"$f":"C181-G181","v":1929},{"$f":"IFERROR(-G181/C181,0)","v":-0.31813361611876989},{"$f":"IF(C181<=B181,G181,B181+G181-C181)/H181/E181*30","v":4.6008294453084499E-2},{"$f":"IFERROR((G181+B181-C181)/H181/E181*30,0)","v":4.6008294453084499E-2}]
[{"$f":"'دیده بان'!A343","v":" ضستا0114"},{"$f":"'دیده بان'!B343","v":1400},{"$f":"'دیده بان'!C343","v":1244},{"$f":"'دیده بان'!D343","v":"1403/01/08"},{"$f":"'دیده بان'!E343","v":80},{"$f":"'دیده بان'!G343","v":0},{"$f":"'دیده بان'!I343","v":66},{"$f":"C182-G182","v":1178},{"$f":"IFERROR(-G182/C182,0)","v":-5.3054662379421219E-2},{"$f":"IF(C182<=B182,G182,B182+G182-C182)/H182/E182*30","v":2.101018675721562E-2},{"$f":"IFERROR((G182+B182-C182)/H182/E182*30,0)","v":7.0670628183361631E-2}]
[{"$f":"'دیده بان'!A344","v":" ضستا0116"},{"$f":"'دیده بان'!B344","v":1600},{"$f":"'دیده بان'!C344","v":1244},{"$f":"'دیده بان'!D344","v":"1403/01/08"},{"$f":"'دیده بان'!E344","v":80},{"$f":"'دیده بان'!G344","v":0},{"$f":"'دیده بان'!I344","v":39},{"$f":"C183-G183","v":1205},{"$f":"IFERROR(-G183/C183,0)","v":-3.1350482315112539E-2},{"$f":"IF(C183<=B183,G183,B183+G183-C183)/H183/E183*30","v":1.2136929460580915E-2},{"$f":"IFERROR((G183+B183-C183)/H183/E183*30,0)","v":0.12292531120331951}]
[{"$f":"'دیده بان'!A345","v":" ضستا0117"},{"$f":"'دیده بان'!B345","v":1700},{"$f":"'دیده بان'!C345","v":1244},{"$f":"'دیده بان'!D345","v":"1403/01/08"},{"$f":"'دیده بان'!E345","v":80},{"$f":"'دیده بان'!G345","v":0},{"$f":"'دیده بان'!I345","v":1},{"$f":"C184-G184","v":1243},{"$f":"IFERROR(-G184/C184,0)","v":-8.0385852090032153E-4},{"$f":"IF(C184<=B184,G184,B184+G184-C184)/H184/E184*30","v":3.0168946098149636E-4},{"$f":"IFERROR((G184+B184-C184)/H184/E184*30,0)","v":0.13787208366854384}]
[{"$f":"'دیده بان'!A346","v":" ضستا0119"},{"$f":"'دیده بان'!B346","v":1900},{"$f":"'دیده بان'!C346","v":1244},{"$f":"'دیده بان'!D346","v":"1403/01/08"},{"$f":"'دیده بان'!E346","v":80},{"$f":"'دیده بان'!G346","v":0},{"$f":"'دیده بان'!I346","v":250},{"$f":"C185-G185","v":994},{"$f":"IFERROR(-G185/C185,0)","v":-0.20096463022508038},{"$f":"IF(C185<=B185,G185,B185+G185-C185)/H185/E185*30","v":9.4315895372233394E-2},{"$f":"IFERROR((G185+B185-C185)/H185/E185*30,0)","v":0.34180080482897385}]
[{"$f":"'دیده بان'!A182","v":" ضخود0118"},{"$f":"'دیده بان'!B182","v":2400},{"$f":"'دیده بان'!C182","v":2829},{"$f":"'دیده بان'!D182","v":"1403/01/08"},{"$f":"'دیده بان'!E182","v":80},{"$f":"'دیده بان'!G182","v":1},{"$f":"'دیده بان'!I182","v":700},{"$f":"C186-G186","v":2129},{"$f":"IFERROR(-G186/C186,0)","v":-0.24743725698126545},{"$f":"IF(C186<=B186,G186,B186+G186-C186)/H186/E186*30","v":4.7733677782996711E-2},{"$f":"IFERROR((G186+B186-C186)/H186/E186*30,0)","v":4.7733677782996711E-2}]
[{"$f":"'دیده بان'!A96","v":" ضخود1124"},{"$f":"'دیده بان'!B96","v":3500},{"$f":"'دیده بان'!C96","v":2829},{"$f":"'دیده بان'!D96","v":"1402/11/11"},{"$f":"'دیده بان'!E96","v":24},{"$f":"'دیده بان'!G96","v":19184},{"$f":"'دیده بان'!I96","v":8},{"$f":"C187-G187","v":2821},{"$f":"IFERROR(-G187/C187,0)","v":-2.8278543655001769E-3},{"$f":"IF(C187<=B187,G187,B187+G187-C187)/H187/E187*30","v":3.5448422545196739E-3},{"$f":"IFERROR((G187+B187-C187)/H187/E187*30,0)","v":0.3008684863523573}]
[{"$f":"'دیده بان'!A435","v":" ضستا0110"},{"$f":"'دیده بان'!B435","v":1000},{"$f":"'دیده بان'!C435","v":1244},{"$f":"'دیده بان'!D435","v":"1403/01/08"},{"$f":"'دیده بان'!E435","v":80},{"$f":"'دیده بان'!G435","v":0},{"$f":"'دیده بان'!I435","v":400},{"$f":"C188-G188","v":844},{"$f":"IFERROR(-G188/C188,0)","v":-0.32154340836012862},{"$f":"IF(C188<=B188,G188,B188+G188-C188)/H188/E188*30","v":6.93127962085308E-2},{"$f":"IFERROR((G188+B188-C188)/H188/E188*30,0)","v":6.93127962085308E-2}]
[{"$f":"'دیده بان'!A189","v":" ضسپا1006"},{"$f":"'دیده بان'!B189","v":3500},{"$f":"'دیده بان'!C189","v":2469},{"$f":"'دیده بان'!D189","v":"1402/10/20"},{"$f":"'دیده بان'!E189","v":3},{"$f":"'دیده بان'!G189","v":422},{"$f":"'دیده بان'!I189","v":1},{"$f":"C189-G189","v":2468},{"$f":"IFERROR(-G189/C189,0)","v":-4.050222762251924E-4},{"$f":"IF(C189<=B189,G189,B189+G189-C189)/H189/E189*30","v":4.0518638573743921E-3},{"$f":"IFERROR((G189+B189-C189)/H189/E189*30,0)","v":4.1815235008103731}]
[{"$f":"'دیده بان'!A176","v":" ضستا0109"},{"$f":"'دیده بان'!B176","v":900},{"$f":"'دیده بان'!C176","v":1244},{"$f":"'دیده بان'!D176","v":"1403/01/08"},{"$f":"'دیده بان'!E176","v":80},{"$f":"'دیده بان'!G176","v":5},{"$f":"'دیده بان'!I176","v":412},{"$f":"C190-G190","v":832},{"$f":"IFERROR(-G190/C190,0)","v":-0.3311897106109325},{"$f":"IF(C190<=B190,G190,B190+G190-C190)/H190/E190*30","v":3.0649038461538464E-2},{"$f":"IFERROR((G190+B190-C190)/H190/E190*30,0)","v":3.0649038461538464E-2}]
[{"$f":"'دیده بان'!A28","v":" ضخود1123"},{"$f":"'دیده بان'!B28","v":3250},{"$f":"'دیده بان'!C28","v":2829},{"$f":"'دیده بان'!D28","v":"1402/11/11"},{"$f":"'دیده بان'!E28","v":24},{"$f":"'دیده بان'!G28","v":430606},{"$f":"'دیده بان'!I28","v":20},{"$f":"C191-G191","v":2809},{"$f":"IFERROR(-G191/C191,0)","v":-7.069635913750442E-3},{"$f":"IF(C191<=B191,G191,B191+G191-C191)/H191/E191*30","v":8.8999644001423999E-3},{"$f":"IFERROR((G191+B191-C191)/H191/E191*30,0)","v":0.19624421502313991}]
[{"$f":"'دیده بان'!A3","v":" ضخود1120"},{"$f":"'دیده بان'!B3","v":2600},{"$f":"'دیده بان'!C3","v":2829},{"$f":"'دیده بان'!D3","v":"1402/11/11"},{"$f":"'دیده بان'!E3","v":24},{"$f":"'دیده بان'!G3","v":246354},{"$f":"'دیده بان'!I3","v":310},{"$f":"C192-G192","v":2519},{"$f":"IFERROR(-G192/C192,0)","v":-0.10957935666313184},{"$f":"IF(C192<=B192,G192,B192+G192-C192)/H192/E192*30","v":4.019452163556967E-2},{"$f":"IFERROR((G192+B192-C192)/H192/E192*30,0)","v":4.019452163556967E-2}]
[{"$f":"'دیده بان'!A420","v":" ضستا0118"},{"$f":"'دیده بان'!B420","v":1800},{"$f":"'دیده بان'!C420","v":1244},{"$f":"'دیده بان'!D420","v":"1403/01/08"},{"$f":"'دیده بان'!E420","v":80},{"$f":"'دیده بان'!G420","v":0},{"$f":"'دیده بان'!I420","v":10},{"$f":"C193-G193","v":1234},{"$f":"IFERROR(-G193/C193,0)","v":-8.0385852090032149E-3},{"$f":"IF(C193<=B193,G193,B193+G193-C193)/H193/E193*30","v":3.0388978930307939E-3},{"$f":"IFERROR((G193+B193-C193)/H193/E193*30,0)","v":0.17200162074554293}]
[{"$f":"'دیده بان'!A430","v":" ضخود0123"},{"$f":"'دیده بان'!B430","v":3500},{"$f":"'دیده بان'!C430","v":2829},{"$f":"'دیده بان'!D430","v":"1403/01/08"},{"$f":"'دیده بان'!E430","v":80},{"$f":"'دیده بان'!G430","v":0},{"$f":"'دیده بان'!I430","v":107},{"$f":"C194-G194","v":2722},{"$f":"IFERROR(-G194/C194,0)","v":-3.7822552138564863E-2},{"$f":"IF(C194<=B194,G194,B194+G194-C194)/H194/E194*30","v":1.474099926524614E-2},{"$f":"IFERROR((G194+B194-C194)/H194/E194*30,0)","v":0.10718221895664952}]
[{"$f":"'دیده بان'!A195","v":" ضسپا1005"},{"$f":"'دیده بان'!B195","v":3250},{"$f":"'دیده بان'!C195","v":2469},{"$f":"'دیده بان'!D195","v":"1402/10/20"},{"$f":"'دیده بان'!E195","v":3},{"$f":"'دیده بان'!G195","v":22},{"$f":"'دیده بان'!I195","v":1},{"$f":"C195-G195","v":2468},{"$f":"IFERROR(-G195/C195,0)","v":-4.050222762251924E-4},{"$f":"IF(C195<=B195,G195,B195+G195-C195)/H195/E195*30","v":4.0518638573743921E-3},{"$f":"IFERROR((G195+B195-C195)/H195/E195*30,0)","v":3.1685575364667748}]
[{"$f":"'دیده بان'!A196","v":" ضخود1125"},{"$f":"'دیده بان'!B196","v":3750},{"$f":"'دیده بان'!C196","v":2829},{"$f":"'دیده بان'!D196","v":"1402/11/11"},{"$f":"'دیده بان'!E196","v":24},{"$f":"'دیده بان'!G196","v":1},{"$f":"'دیده بان'!I196","v":7},{"$f":"C196-G196","v":2822},{"$f":"IFERROR(-G196/C196,0)","v":-2.4743725698126548E-3},{"$f":"IF(C196<=B196,G196,B196+G196-C196)/H196/E196*30","v":3.1006378454996454E-3},{"$f":"IFERROR((G196+B196-C196)/H196/E196*30,0)","v":0.41105598866052445}]
[{"$f":"'دیده بان'!A197","v":" ضترو1102"},{"$f":"'دیده بان'!B197","v":9000},{"$f":"'دیده بان'!C197","v":11740},{"$f":"'دیده بان'!D197","v":"1402/11/15"},{"$f":"'دیده بان'!E197","v":28},{"$f":"'دیده بان'!G197","v":0},{"$f":"'دیده بان'!I197","v":3050},{"$f":"C197-G197","v":8690},{"$f":"IFERROR(-G197/C197,0)","v":-0.25979557069846676},{"$f":"IF(C197<=B197,G197,B197+G197-C197)/H197/E197*30","v":3.8221272398487591E-2},{"$f":"IFERROR((G197+B197-C197)/H197/E197*30,0)","v":3.8221272398487591E-2}]
[{"$f":"'دیده بان'!A198","v":" ضترو1103"},{"$f":"'دیده بان'!B198","v":10000},{"$f":"'دیده بان'!C198","v":11740},{"$f":"'دیده بان'!D198","v":"1402/11/15"},{"$f":"'دیده بان'!E198","v":28},{"$f":"'دیده بان'!G198","v":0},{"$f":"'دیده بان'!I198","v":1500},{"$f":"C198-G198","v":10240},{"$f":"IFERROR(-G198/C198,0)","v":-0.12776831345826234},{"$f":"IF(C198<=B198,G198,B198+G198-C198)/H198/E198*30","v":-2.511160714285714E-2},{"$f":"IFERROR((G198+B198-C198)/H198/E198*30,0)","v":-2.511160714285714E-2}]
[{"$f":"'دیده بان'!A401","v":" ضکاریس1201"},{"$f":"'دیده بان'!B401","v":18000},{"$f":"'دیده بان'!C401","v":23187},{"$f":"'دیده بان'!D401","v":"1402/12/28"},{"$f":"'دیده بان'!E401","v":71},{"$f":"'دیده بان'!G401","v":0},{"$f":"'دیده بان'!I401","v":6267},{"$f":"C199-G199","v":16920},{"$f":"IFERROR(-G199/C199,0)","v":-0.27028076077112173},{"$f":"IF(C199<=B199,G199,B199+G199-C199)/H199/E199*30","v":2.6970332634102485E-2},{"$f":"IFERROR((G199+B199-C199)/H199/E199*30,0)","v":2.6970332634102485E-2}]
[{"$f":"'دیده بان'!A97","v":" ضهرم1228"},{"$f":"'دیده بان'!B97","v":28000},{"$f":"'دیده بان'!C97","v":20340},{"$f":"'دیده بان'!D97","v":"1402/12/23"},{"$f":"'دیده بان'!E97","v":66},{"$f":"'دیده بان'!G97","v":526},{"$f":"'دیده بان'!I97","v":400},{"$f":"C200-G200","v":19940},{"$f":"IFERROR(-G200/C200,0)","v":-1.966568338249754E-2},{"$f":"IF(C200<=B200,G200,B200+G200-C200)/H200/E200*30","v":9.11826388255676E-3},{"$f":"IFERROR((G200+B200-C200)/H200/E200*30,0)","v":0.18373301723351873}]
[{"$f":"'دیده بان'!A54","v":" ضهرم1227"},{"$f":"'دیده بان'!B54","v":26000},{"$f":"'دیده بان'!C54","v":20340},{"$f":"'دیده بان'!D54","v":"1402/12/23"},{"$f":"'دیده بان'!E54","v":66},{"$f":"'دیده بان'!G54","v":2233},{"$f":"'دیده بان'!I54","v":611},{"$f":"C201-G201","v":19729},{"$f":"IFERROR(-G201/C201,0)","v":-3.0039331366764996E-2},{"$f":"IF(C201<=B201,G201,B201+G201-C201)/H201/E201*30","v":1.4077108455941645E-2},{"$f":"IFERROR((G201+B201-C201)/H201/E201*30,0)","v":0.14448043719674314}]
[{"$f":"'دیده بان'!A33","v":" ضهرم1226"},{"$f":"'دیده بان'!B33","v":24000},{"$f":"'دیده بان'!C33","v":20340},{"$f":"'دیده بان'!D33","v":"1402/12/23"},{"$f":"'دیده بان'!E33","v":66},{"$f":"'دیده بان'!G33","v":7158},{"$f":"'دیده بان'!I33","v":987},{"$f":"C202-G202","v":19353},{"$f":"IFERROR(-G202/C202,0)","v":-4.8525073746312687E-2},{"$f":"IF(C202<=B202,G202,B202+G202-C202)/H202/E202*30","v":2.3181747720578908E-2},{"$f":"IFERROR((G202+B202-C202)/H202/E202*30,0)","v":0.10914445963275601}]
[{"$f":"'دیده بان'!A16","v":" ضهرم1225"},{"$f":"'دیده بان'!B16","v":22000},{"$f":"'دیده بان'!C16","v":20340},{"$f":"'دیده بان'!D16","v":"1402/12/23"},{"$f":"'دیده بان'!E16","v":66},{"$f":"'دیده بان'!G16","v":11059},{"$f":"'دیده بان'!I16","v":1586},{"$f":"C203-G203","v":18754},{"$f":"IFERROR(-G203/C203,0)","v":-7.797443461160275E-2},{"$f":"IF(C203<=B203,G203,B203+G203-C203)/H203/E203*30","v":3.844028425451055E-2},{"$f":"IFERROR((G203+B203-C203)/H203/E203*30,0)","v":7.8674125277516563E-2}]
[{"$f":"'دیده بان'!A6","v":" ضهرم1224"},{"$f":"'دیده بان'!B6","v":20000},{"$f":"'دیده بان'!C6","v":20340},{"$f":"'دیده بان'!D6","v":"1402/12/23"},{"$f":"'دیده بان'!E6","v":66},{"$f":"'دیده بان'!G6","v":16232},{"$f":"'دیده بان'!I6","v":2489},{"$f":"C204-G204","v":17851},{"$f":"IFERROR(-G204/C204,0)","v":-0.12236971484759096},{"$f":"IF(C204<=B204,G204,B204+G204-C204)/H204/E204*30","v":5.4720642082694629E-2},{"$f":"IFERROR((G204+B204-C204)/H204/E204*30,0)","v":5.4720642082694629E-2}]
[{"$f":"'دیده بان'!A145","v":" ضدار1218"},{"$f":"'دیده بان'!B145","v":180000},{"$f":"'دیده بان'!C145","v":181070},{"$f":"'دیده بان'!D145","v":"1402/12/23"},{"$f":"'دیده بان'!E145","v":66},{"$f":"'دیده بان'!G145","v":104},{"$f":"'دیده بان'!I145","v":20000},{"$f":"C205-G205","v":161070},{"$f":"IFERROR(-G205/C205,0)","v":-0.11045452035124538},{"$f":"IF(C205<=B205,G205,B205+G205-C205)/H205/E205*30","v":5.3421155116070373E-2},{"$f":"IFERROR((G205+B205-C205)/H205/E205*30,0)","v":5.3421155116070373E-2}]
[{"$f":"'دیده بان'!A263","v":" ضدار1213"},{"$f":"'دیده بان'!B263","v":120000},{"$f":"'دیده بان'!C263","v":181070},{"$f":"'دیده بان'!D263","v":"1402/12/23"},{"$f":"'دیده بان'!E263","v":66},{"$f":"'دیده بان'!G263","v":0},{"$f":"'دیده بان'!I263","v":65187},{"$f":"C206-G206","v":115883},{"$f":"IFERROR(-G206/C206,0)","v":-0.36000994090683164},{"$f":"IF(C206<=B206,G206,B206+G206-C206)/H206/E206*30","v":1.6148733087369468E-2},{"$f":"IFERROR((G206+B206-C206)/H206/E206*30,0)","v":1.6148733087369468E-2}]
[{"$f":"'دیده بان'!A125","v":" ضسپا1224"},{"$f":"'دیده بان'!B125","v":3250},{"$f":"'دیده بان'!C125","v":2469},{"$f":"'دیده بان'!D125","v":"1402/12/23"},{"$f":"'دیده بان'!E125","v":66},{"$f":"'دیده بان'!G125","v":1155},{"$f":"'دیده بان'!I125","v":46},{"$f":"C207-G207","v":2423},{"$f":"IFERROR(-G207/C207,0)","v":-1.8631024706358849E-2},{"$f":"IF(C207<=B207,G207,B207+G207-C207)/H207/E207*30","v":8.6294225790717743E-3},{"$f":"IFERROR((G207+B207-C207)/H207/E207*30,0)","v":0.15514201028026864}]
[{"$f":"'دیده بان'!A72","v":" ضسپا1223"},{"$f":"'دیده بان'!B72","v":3000},{"$f":"'دیده بان'!C72","v":2469},{"$f":"'دیده بان'!D72","v":"1402/12/23"},{"$f":"'دیده بان'!E72","v":66},{"$f":"'دیده بان'!G72","v":8697},{"$f":"'دیده بان'!I72","v":70},{"$f":"C208-G208","v":2399},{"$f":"IFERROR(-G208/C208,0)","v":-2.8351559335763468E-2},{"$f":"IF(C208<=B208,G208,B208+G208-C208)/H208/E208*30","v":1.3263102050096632E-2},{"$f":"IFERROR((G208+B208-C208)/H208/E208*30,0)","v":0.11387320474440107}]
[{"$f":"'دیده بان'!A29","v":" ضسپا1222"},{"$f":"'دیده بان'!B29","v":2800},{"$f":"'دیده بان'!C29","v":2469},{"$f":"'دیده بان'!D29","v":"1402/12/23"},{"$f":"'دیده بان'!E29","v":66},{"$f":"'دیده بان'!G29","v":91819},{"$f":"'دیده بان'!I29","v":94},{"$f":"C209-G209","v":2375},{"$f":"IFERROR(-G209/C209,0)","v":-3.8072093965168086E-2},{"$f":"IF(C209<=B209,G209,B209+G209-C209)/H209/E209*30","v":1.7990430622009571E-2},{"$f":"IFERROR((G209+B209-C209)/H209/E209*30,0)","v":8.1339712918660281E-2}]
[{"$f":"'دیده بان'!A20","v":" ضسپا1221"},{"$f":"'دیده بان'!B20","v":2600},{"$f":"'دیده بان'!C20","v":2469},{"$f":"'دیده بان'!D20","v":"1402/12/23"},{"$f":"'دیده بان'!E20","v":66},{"$f":"'دیده بان'!G20","v":92178},{"$f":"'دیده بان'!I20","v":157},{"$f":"C210-G210","v":2312},{"$f":"IFERROR(-G210/C210,0)","v":-6.358849736735521E-2},{"$f":"IF(C210<=B210,G210,B210+G210-C210)/H210/E210*30","v":3.0866624724756212E-2},{"$f":"IFERROR((G210+B210-C210)/H210/E210*30,0)","v":5.6621579112928588E-2}]
[{"$f":"'دیده بان'!A15","v":" ضسپا1219"},{"$f":"'دیده بان'!B15","v":2200},{"$f":"'دیده بان'!C15","v":2469},{"$f":"'دیده بان'!D15","v":"1402/12/23"},{"$f":"'دیده بان'!E15","v":66},{"$f":"'دیده بان'!G15","v":43490},{"$f":"'دیده بان'!I15","v":391},{"$f":"C211-G211","v":2078},{"$f":"IFERROR(-G211/C211,0)","v":-0.15836371000405022},{"$f":"IF(C211<=B211,G211,B211+G211-C211)/H211/E211*30","v":2.668649925627789E-2},{"$f":"IFERROR((G211+B211-C211)/H211/E211*30,0)","v":2.668649925627789E-2}]
[{"$f":"'دیده بان'!A51","v":" ضسپا1218"},{"$f":"'دیده بان'!B51","v":2000},{"$f":"'دیده بان'!C51","v":2469},{"$f":"'دیده بان'!D51","v":"1402/12/23"},{"$f":"'دیده بان'!E51","v":66},{"$f":"'دیده بان'!G51","v":3139},{"$f":"'دیده بان'!I51","v":584},{"$f":"C212-G212","v":1885},{"$f":"IFERROR(-G212/C212,0)","v":-0.23653300931551235},{"$f":"IF(C212<=B212,G212,B212+G212-C212)/H212/E212*30","v":2.7730889799855316E-2},{"$f":"IFERROR((G212+B212-C212)/H212/E212*30,0)","v":2.7730889799855316E-2}]
[{"$f":"'دیده بان'!A89","v":" ضسپا1215"},{"$f":"'دیده بان'!B89","v":1700},{"$f":"'دیده بان'!C89","v":2469},{"$f":"'دیده بان'!D89","v":"1402/12/23"},{"$f":"'دیده بان'!E89","v":66},{"$f":"'دیده بان'!G89","v":290},{"$f":"'دیده بان'!I89","v":856},{"$f":"C213-G213","v":1613},{"$f":"IFERROR(-G213/C213,0)","v":-0.34669906844876469},{"$f":"IF(C213<=B213,G213,B213+G213-C213)/H213/E213*30","v":2.4516710815532885E-2},{"$f":"IFERROR((G213+B213-C213)/H213/E213*30,0)","v":2.4516710815532885E-2}]
[{"$f":"'دیده بان'!A93","v":" ضسپا1217"},{"$f":"'دیده بان'!B93","v":1900},{"$f":"'دیده بان'!C93","v":2469},{"$f":"'دیده بان'!D93","v":"1402/12/23"},{"$f":"'دیده بان'!E93","v":66},{"$f":"'دیده بان'!G93","v":344},{"$f":"'دیده بان'!I93","v":670},{"$f":"C214-G214","v":1799},{"$f":"IFERROR(-G214/C214,0)","v":-0.27136492507087889},{"$f":"IF(C214<=B214,G214,B214+G214-C214)/H214/E214*30","v":2.5519227853858205E-2},{"$f":"IFERROR((G214+B214-C214)/H214/E214*30,0)","v":2.5519227853858205E-2}]
[{"$f":"'دیده بان'!A62","v":" ضهرم1223"},{"$f":"'دیده بان'!B62","v":18000},{"$f":"'دیده بان'!C62","v":20340},{"$f":"'دیده بان'!D62","v":"1402/12/23"},{"$f":"'دیده بان'!E62","v":66},{"$f":"'دیده بان'!G62","v":248},{"$f":"'دیده بان'!I62","v":3750},{"$f":"C215-G215","v":16590},{"$f":"IFERROR(-G215/C215,0)","v":-0.18436578171091444},{"$f":"IF(C215<=B215,G215,B215+G215-C215)/H215/E215*30","v":3.863225382212724E-2},{"$f":"IFERROR((G215+B215-C215)/H215/E215*30,0)","v":3.863225382212724E-2}]
[{"$f":"'دیده بان'!A17","v":" ضسپا1220"},{"$f":"'دیده بان'!B17","v":2400},{"$f":"'دیده بان'!C17","v":2469},{"$f":"'دیده بان'!D17","v":"1402/12/23"},{"$f":"'دیده بان'!E17","v":66},{"$f":"'دیده بان'!G17","v":64230},{"$f":"'دیده بان'!I17","v":255},{"$f":"C216-G216","v":2214},{"$f":"IFERROR(-G216/C216,0)","v":-0.10328068043742406},{"$f":"IF(C216<=B216,G216,B216+G216-C216)/H216/E216*30","v":3.8186745503818675E-2},{"$f":"IFERROR((G216+B216-C216)/H216/E216*30,0)","v":3.8186745503818675E-2}]
[{"$f":"'دیده بان'!A161","v":" ضسپا1216"},{"$f":"'دیده بان'!B161","v":1800},{"$f":"'دیده بان'!C161","v":2469},{"$f":"'دیده بان'!D161","v":"1402/12/23"},{"$f":"'دیده بان'!E161","v":66},{"$f":"'دیده بان'!G161","v":12},{"$f":"'دیده بان'!I161","v":789},{"$f":"C217-G217","v":1680},{"$f":"IFERROR(-G217/C217,0)","v":-0.31956257594167681},{"$f":"IF(C217<=B217,G217,B217+G217-C217)/H217/E217*30","v":3.2467532467532464E-2},{"$f":"IFERROR((G217+B217-C217)/H217/E217*30,0)","v":3.2467532467532464E-2}]
[{"$f":"'دیده بان'!A200","v":" ضهرم1217"},{"$f":"'دیده بان'!B200","v":11000},{"$f":"'دیده بان'!C200","v":20340},{"$f":"'دیده بان'!D200","v":"1402/12/23"},{"$f":"'دیده بان'!E200","v":66},{"$f":"'دیده بان'!G200","v":0},{"$f":"'دیده بان'!I200","v":10500},{"$f":"C218-G218","v":9840},{"$f":"IFERROR(-G218/C218,0)","v":-0.51622418879056042},{"$f":"IF(C218<=B218,G218,B218+G218-C218)/H218/E218*30","v":5.358462675535846E-2},{"$f":"IFERROR((G218+B218-C218)/H218/E218*30,0)","v":5.358462675535846E-2}]
[{"$f":"'دیده بان'!A201","v":" ضهرم1220"},{"$f":"'دیده بان'!B201","v":14000},{"$f":"'دیده بان'!C201","v":20340},{"$f":"'دیده بان'!D201","v":"1402/12/23"},{"$f":"'دیده بان'!E201","v":66},{"$f":"'دیده بان'!G201","v":0},{"$f":"'دیده بان'!I201","v":7408},{"$f":"C219-G219","v":12932},{"$f":"IFERROR(-G219/C219,0)","v":-0.36420845624385445},{"$f":"IF(C219<=B219,G219,B219+G219-C219)/H219/E219*30","v":3.7539015268678123E-2},{"$f":"IFERROR((G219+B219-C219)/H219/E219*30,0)","v":3.7539015268678123E-2}]
[{"$f":"'دیده بان'!A202","v":" ضهرم1221"},{"$f":"'دیده بان'!B202","v":15000},{"$f":"'دیده بان'!C202","v":20340},{"$f":"'دیده بان'!D202","v":"1402/12/23"},{"$f":"'دیده بان'!E202","v":66},{"$f":"'دیده بان'!G202","v":0},{"$f":"'دیده بان'!I202","v":7499},{"$f":"C220-G220","v":12841},{"$f":"IFERROR(-G220/C220,0)","v":-0.36868239921337265},{"$f":"IF(C220<=B220,G220,B220+G220-C220)/H220/E220*30","v":7.642423770451183E-2},{"$f":"IFERROR((G220+B220-C220)/H220/E220*30,0)","v":7.642423770451183E-2}]
[{"$f":"'دیده بان'!A203","v":" ضهرم1229"},{"$f":"'دیده بان'!B203","v":30000},{"$f":"'دیده بان'!C203","v":20340},{"$f":"'دیده بان'!D203","v":"1402/12/23"},{"$f":"'دیده بان'!E203","v":66},{"$f":"'دیده بان'!G203","v":0},{"$f":"'دیده بان'!I203","v":344},{"$f":"C221-G221","v":19996},{"$f":"IFERROR(-G221/C221,0)","v":-1.6912487708947887E-2},{"$f":"IF(C221<=B221,G221,B221+G221-C221)/H221/E221*30","v":7.8197457673352851E-3},{"$f":"IFERROR((G221+B221-C221)/H221/E221*30,0)","v":0.22740911818727386}]
[{"$f":"'دیده بان'!A204","v":" ضهرم1230"},{"$f":"'دیده بان'!B204","v":34000},{"$f":"'دیده بان'!C204","v":20340},{"$f":"'دیده بان'!D204","v":"1402/12/23"},{"$f":"'دیده بان'!E204","v":66},{"$f":"'دیده بان'!G204","v":0},{"$f":"'دیده بان'!I204","v":390},{"$f":"C222-G222","v":19950},{"$f":"IFERROR(-G222/C222,0)","v":-1.9174041297935103E-2},{"$f":"IF(C222<=B222,G222,B222+G222-C222)/H222/E222*30","v":8.8858509911141498E-3},{"$f":"IFERROR((G222+B222-C222)/H222/E222*30,0)","v":0.32011847801321486}]
[{"$f":"'دیده بان'!A205","v":" ضهرم1231"},{"$f":"'دیده بان'!B205","v":38000},{"$f":"'دیده بان'!C205","v":20340},{"$f":"'دیده بان'!D205","v":"1402/12/23"},{"$f":"'دیده بان'!E205","v":66},{"$f":"'دیده بان'!G205","v":0},{"$f":"'دیده بان'!I205","v":534},{"$f":"C223-G223","v":19806},{"$f":"IFERROR(-G223/C223,0)","v":-2.6253687315634218E-2},{"$f":"IF(C223<=B223,G223,B223+G223-C223)/H223/E223*30","v":1.2255239459117072E-2},{"$f":"IFERROR((G223+B223-C223)/H223/E223*30,0)","v":0.41755023730182778}]
[{"$f":"'دیده بان'!A206","v":" ضهرم1232"},{"$f":"'دیده بان'!B206","v":42000},{"$f":"'دیده بان'!C206","v":20340},{"$f":"'دیده بان'!D206","v":"1402/12/23"},{"$f":"'دیده بان'!E206","v":66},{"$f":"'دیده بان'!G206","v":0},{"$f":"'دیده بان'!I206","v":221},{"$f":"C224-G224","v":20119},{"$f":"IFERROR(-G224/C224,0)","v":-1.0865290068829891E-2},{"$f":"IF(C224<=B224,G224,B224+G224-C224)/H224/E224*30","v":4.9930188108029952E-3},{"$f":"IFERROR((G224+B224-C224)/H224/E224*30,0)","v":0.49435404796009208}]
[{"$f":"'دیده بان'!A262","v":" ضدار1212"},{"$f":"'دیده بان'!B262","v":110000},{"$f":"'دیده بان'!C262","v":181070},{"$f":"'دیده بان'!D262","v":"1402/12/23"},{"$f":"'دیده بان'!E262","v":66},{"$f":"'دیده بان'!G262","v":0},{"$f":"'دیده بان'!I262","v":76651},{"$f":"C225-G225","v":104419},{"$f":"IFERROR(-G225/C225,0)","v":-0.42332247197216544},{"$f":"IF(C225<=B225,G225,B225+G225-C225)/H225/E225*30","v":2.4294603298424443E-2},{"$f":"IFERROR((G225+B225-C225)/H225/E225*30,0)","v":2.4294603298424443E-2}]
[{"$f":"'دیده بان'!A264","v":" ضدار1219"},{"$f":"'دیده بان'!B264","v":200000},{"$f":"'دیده بان'!C264","v":181070},{"$f":"'دیده بان'!D264","v":"1402/12/23"},{"$f":"'دیده بان'!E264","v":66},{"$f":"'دیده بان'!G264","v":0},{"$f":"'دیده بان'!I264","v":10000},{"$f":"C226-G226","v":171070},{"$f":"IFERROR(-G226/C226,0)","v":-5.522726017562269E-2},{"$f":"IF(C226<=B226,G226,B226+G226-C226)/H226/E226*30","v":2.6570728622520284E-2},{"$f":"IFERROR((G226+B226-C226)/H226/E226*30,0)","v":7.6869117904951184E-2}]
[{"$f":"'دیده بان'!A40","v":" ضهرم1222"},{"$f":"'دیده بان'!B40","v":16000},{"$f":"'دیده بان'!C40","v":20340},{"$f":"'دیده بان'!D40","v":"1402/12/23"},{"$f":"'دیده بان'!E40","v":66},{"$f":"'دیده بان'!G40","v":730},{"$f":"'دیده بان'!I40","v":5450},{"$f":"C227-G227","v":14890},{"$f":"IFERROR(-G227/C227,0)","v":-0.26794493608652903},{"$f":"IF(C227<=B227,G227,B227+G227-C227)/H227/E227*30","v":3.3884852555101048E-2},{"$f":"IFERROR((G227+B227-C227)/H227/E227*30,0)","v":3.3884852555101048E-2}]
[{"$f":"'دیده بان'!A333","v":" ضسپا1225"},{"$f":"'دیده بان'!B333","v":3500},{"$f":"'دیده بان'!C333","v":2469},{"$f":"'دیده بان'!D333","v":"1402/12/23"},{"$f":"'دیده بان'!E333","v":66},{"$f":"'دیده بان'!G333","v":0},{"$f":"'دیده بان'!I333","v":56},{"$f":"C228-G228","v":2413},{"$f":"IFERROR(-G228/C228,0)","v":-2.2681247468610773E-2},{"$f":"IF(C228<=B228,G228,B228+G228-C228)/H228/E228*30","v":1.054892061937234E-2},{"$f":"IFERROR((G228+B228-C228)/H228/E228*30,0)","v":0.20476208416531666}]
[{"$f":"'دیده بان'!A334","v":" ضسپا1227"},{"$f":"'دیده بان'!B334","v":4000},{"$f":"'دیده بان'!C334","v":2469},{"$f":"'دیده بان'!D334","v":"1402/12/23"},{"$f":"'دیده بان'!E334","v":66},{"$f":"'دیده بان'!G334","v":0},{"$f":"'دیده بان'!I334","v":44},{"$f":"C229-G229","v":2425},{"$f":"IFERROR(-G229/C229,0)","v":-1.7820980153908466E-2},{"$f":"IF(C229<=B229,G229,B229+G229-C229)/H229/E229*30","v":8.2474226804123696E-3},{"$f":"IFERROR((G229+B229-C229)/H229/E229*30,0)","v":0.29522024367385191}]
[{"$f":"'دیده بان'!A230","v":" ضبرک1003"},{"$f":"'دیده بان'!B230","v":6500},{"$f":"'دیده بان'!C230","v":6880},{"$f":"'دیده بان'!D230","v":"1402/10/17"},{"$f":"'دیده بان'!E230","v":1},{"$f":"'دیده بان'!G230","v":0},{"$f":"'دیده بان'!I230","v":334},{"$f":"C230-G230","v":6546},{"$f":"IFERROR(-G230/C230,0)","v":-4.8546511627906977E-2},{"$f":"IF(C230<=B230,G230,B230+G230-C230)/H230/E230*30","v":-0.21081576535288726},{"$f":"IFERROR((G230+B230-C230)/H230/E230*30,0)","v":-0.21081576535288726}]
[{"$f":"'دیده بان'!A231","v":" ضبرک1005"},{"$f":"'دیده بان'!B231","v":7500},{"$f":"'دیده بان'!C231","v":6880},{"$f":"'دیده بان'!D231","v":"1402/10/17"},{"$f":"'دیده بان'!E231","v":1},{"$f":"'دیده بان'!G231","v":0},{"$f":"'دیده بان'!I231","v":199},{"$f":"C231-G231","v":6681},{"$f":"IFERROR(-G231/C231,0)","v":-2.8924418604651163E-2},{"$f":"IF(C231<=B231,G231,B231+G231-C231)/H231/E231*30","v":0.89357880556802871},{"$f":"IFERROR((G231+B231-C231)/H231/E231*30,0)","v":3.6775931746744499}]
[{"$f":"'دیده بان'!A232","v":" ضبرک1007"},{"$f":"'دیده بان'!B232","v":9000},{"$f":"'دیده بان'!C232","v":6880},{"$f":"'دیده بان'!D232","v":"1402/10/17"},{"$f":"'دیده بان'!E232","v":1},{"$f":"'دیده بان'!G232","v":0},{"$f":"'دیده بان'!I232","v":40},{"$f":"C232-G232","v":6840},{"$f":"IFERROR(-G232/C232,0)","v":-5.8139534883720929E-3},{"$f":"IF(C232<=B232,G232,B232+G232-C232)/H232/E232*30","v":0.17543859649122806},{"$f":"IFERROR((G232+B232-C232)/H232/E232*30,0)","v":9.473684210526315}]
[{"$f":"'دیده بان'!A233","v":" ضبرک1008"},{"$f":"'دیده بان'!B233","v":10000},{"$f":"'دیده بان'!C233","v":6880},{"$f":"'دیده بان'!D233","v":"1402/10/17"},{"$f":"'دیده بان'!E233","v":1},{"$f":"'دیده بان'!G233","v":0},{"$f":"'دیده بان'!I233","v":100},{"$f":"C233-G233","v":6780},{"$f":"IFERROR(-G233/C233,0)","v":-1.4534883720930232E-2},{"$f":"IF(C233<=B233,G233,B233+G233-C233)/H233/E233*30","v":0.44247787610619471},{"$f":"IFERROR((G233+B233-C233)/H233/E233*30,0)","v":14.247787610619469}]
[{"$f":"'دیده بان'!A5","v":" ضهرم1219"},{"$f":"'دیده بان'!B5","v":13000},{"$f":"'دیده بان'!C5","v":20340},{"$f":"'دیده بان'!D5","v":"1402/12/23"},{"$f":"'دیده بان'!E5","v":66},{"$f":"'دیده بان'!G5","v":6599},{"$f":"'دیده بان'!I5","v":8222},{"$f":"C234-G234","v":12118},{"$f":"IFERROR(-G234/C234,0)","v":-0.40422812192723695},{"$f":"IF(C234<=B234,G234,B234+G234-C234)/H234/E234*30","v":3.3083767198307551E-2},{"$f":"IFERROR((G234+B234-C234)/H234/E234*30,0)","v":3.3083767198307551E-2}]
[{"$f":"'دیده بان'!A78","v":" ضهرم1218"},{"$f":"'دیده بان'!B78","v":12000},{"$f":"'دیده بان'!C78","v":20340},{"$f":"'دیده بان'!D78","v":"1402/12/23"},{"$f":"'دیده بان'!E78","v":66},{"$f":"'دیده بان'!G78","v":48},{"$f":"'دیده بان'!I78","v":9100},{"$f":"C235-G235","v":11240},{"$f":"IFERROR(-G235/C235,0)","v":-0.44739429695181909},{"$f":"IF(C235<=B235,G235,B235+G235-C235)/H235/E235*30","v":3.073439016499515E-2},{"$f":"IFERROR((G235+B235-C235)/H235/E235*30,0)","v":3.073439016499515E-2}]
[{"$f":"'دیده بان'!A114","v":" ضخپارس1215"},{"$f":"'دیده بان'!B114","v":1000},{"$f":"'دیده بان'!C114","v":1234},{"$f":"'دیده بان'!D114","v":"1402/12/20"},{"$f":"'دیده بان'!E114","v":63},{"$f":"'دیده بان'!G114","v":306},{"$f":"'دیده بان'!I114","v":345},{"$f":"C236-G236","v":889},{"$f":"IFERROR(-G236/C236,0)","v":-0.27957860615883307},{"$f":"IF(C236<=B236,G236,B236+G236-C236)/H236/E236*30","v":5.9456853607584764E-2},{"$f":"IFERROR((G236+B236-C236)/H236/E236*30,0)","v":5.9456853607584764E-2}]
[{"$f":"'دیده بان'!A25","v":" ضخپارس1200"},{"$f":"'دیده بان'!B25","v":1200},{"$f":"'دیده بان'!C25","v":1234},{"$f":"'دیده بان'!D25","v":"1402/12/20"},{"$f":"'دیده بان'!E25","v":63},{"$f":"'دیده بان'!G25","v":64698},{"$f":"'دیده بان'!I25","v":167},{"$f":"C237-G237","v":1067},{"$f":"IFERROR(-G237/C237,0)","v":-0.13533225283630471},{"$f":"IF(C237<=B237,G237,B237+G237-C237)/H237/E237*30","v":5.935645110902843E-2},{"$f":"IFERROR((G237+B237-C237)/H237/E237*30,0)","v":5.935645110902843E-2}]
[{"$f":"'دیده بان'!A402","v":" ضتپسی1201"},{"$f":"'دیده بان'!B402","v":4969},{"$f":"'دیده بان'!C402","v":7660},{"$f":"'دیده بان'!D402","v":"1402/12/20"},{"$f":"'دیده بان'!E402","v":63},{"$f":"'دیده بان'!G402","v":0},{"$f":"'دیده بان'!I402","v":3485},{"$f":"C238-G238","v":4175},{"$f":"IFERROR(-G238/C238,0)","v":-0.45496083550913841},{"$f":"IF(C238<=B238,G238,B238+G238-C238)/H238/E238*30","v":9.0561733675506129E-2},{"$f":"IFERROR((G238+B238-C238)/H238/E238*30,0)","v":9.0561733675506129E-2}]
[{"$f":"'دیده بان'!A391","v":" ضخپارس1210"},{"$f":"'دیده بان'!B391","v":2400},{"$f":"'دیده بان'!C391","v":1234},{"$f":"'دیده بان'!D391","v":"1402/12/20"},{"$f":"'دیده بان'!E391","v":63},{"$f":"'دیده بان'!G391","v":0},{"$f":"'دیده بان'!I391","v":13},{"$f":"C239-G239","v":1221},{"$f":"IFERROR(-G239/C239,0)","v":-1.0534846029173419E-2},{"$f":"IF(C239<=B239,G239,B239+G239-C239)/H239/E239*30","v":5.0700050700050701E-3},{"$f":"IFERROR((G239+B239-C239)/H239/E239*30,0)","v":0.45981045981045982}]
[{"$f":"'دیده بان'!A177","v":" ضخپارس1213"},{"$f":"'دیده بان'!B177","v":3000},{"$f":"'دیده بان'!C177","v":1234},{"$f":"'دیده بان'!D177","v":"1402/12/20"},{"$f":"'دیده بان'!E177","v":63},{"$f":"'دیده بان'!G177","v":222},{"$f":"'دیده بان'!I177","v":9},{"$f":"C240-G240","v":1225},{"$f":"IFERROR(-G240/C240,0)","v":-7.2933549432739062E-3},{"$f":"IF(C240<=B240,G240,B240+G240-C240)/H240/E240*30","v":3.4985422740524781E-3},{"$f":"IFERROR((G240+B240-C240)/H240/E240*30,0)","v":0.6899902818270166}]
[{"$f":"'دیده بان'!A133","v":" ضخپارس1201"},{"$f":"'دیده بان'!B133","v":1300},{"$f":"'دیده بان'!C133","v":1234},{"$f":"'دیده بان'!D133","v":"1402/12/20"},{"$f":"'دیده بان'!E133","v":63},{"$f":"'دیده بان'!G133","v":387},{"$f":"'دیده بان'!I133","v":106},{"$f":"C241-G241","v":1128},{"$f":"IFERROR(-G241/C241,0)","v":-8.5899513776337116E-2},{"$f":"IF(C241<=B241,G241,B241+G241-C241)/H241/E241*30","v":4.4748395812225603E-2},{"$f":"IFERROR((G241+B241-C241)/H241/E241*30,0)","v":7.261060452549814E-2}]
[{"$f":"'دیده بان'!A150","v":" ضخپارس1202"},{"$f":"'دیده بان'!B150","v":1400},{"$f":"'دیده بان'!C150","v":1234},{"$f":"'دیده بان'!D150","v":"1402/12/20"},{"$f":"'دیده بان'!E150","v":63},{"$f":"'دیده بان'!G150","v":208},{"$f":"'دیده بان'!I150","v":75},{"$f":"C242-G242","v":1159},{"$f":"IFERROR(-G242/C242,0)","v":-6.0777957860615885E-2},{"$f":"IF(C242<=B242,G242,B242+G242-C242)/H242/E242*30","v":3.0814741772463947E-2},{"$f":"IFERROR((G242+B242-C242)/H242/E242*30,0)","v":9.9018036895517469E-2}]
[{"$f":"'دیده بان'!A386","v":" ضخپارس1203"},{"$f":"'دیده بان'!B386","v":1500},{"$f":"'دیده بان'!C386","v":1234},{"$f":"'دیده بان'!D386","v":"1402/12/20"},{"$f":"'دیده بان'!E386","v":63},{"$f":"'دیده بان'!G386","v":0},{"$f":"'دیده بان'!I386","v":60},{"$f":"C243-G243","v":1174},{"$f":"IFERROR(-G243/C243,0)","v":-4.8622366288492709E-2},{"$f":"IF(C243<=B243,G243,B243+G243-C243)/H243/E243*30","v":2.4336821611097591E-2},{"$f":"IFERROR((G243+B243-C243)/H243/E243*30,0)","v":0.13223006408696358}]
[{"$f":"'دیده بان'!A388","v":" ضخپارس1206"},{"$f":"'دیده بان'!B388","v":1800},{"$f":"'دیده بان'!C388","v":1234},{"$f":"'دیده بان'!D388","v":"1402/12/20"},{"$f":"'دیده بان'!E388","v":63},{"$f":"'دیده بان'!G388","v":0},{"$f":"'دیده بان'!I388","v":720},{"$f":"C244-G244","v":514},{"$f":"IFERROR(-G244/C244,0)","v":-0.58346839546191243},{"$f":"IF(C244<=B244,G244,B244+G244-C244)/H244/E244*30","v":0.66703724291272926},{"$f":"IFERROR((G244+B244-C244)/H244/E244*30,0)","v":1.191402631091347}]
[{"$f":"'دیده بان'!A245","v":" ضصاد1133"},{"$f":"'دیده بان'!B245","v":1536},{"$f":"'دیده بان'!C245","v":1851},{"$f":"'دیده بان'!D245","v":"1402/11/11"},{"$f":"'دیده بان'!E245","v":24},{"$f":"'دیده بان'!G245","v":0},{"$f":"'دیده بان'!I245","v":460},{"$f":"C245-G245","v":1391},{"$f":"IFERROR(-G245/C245,0)","v":-0.24851431658562939},{"$f":"IF(C245<=B245,G245,B245+G245-C245)/H245/E245*30","v":0.1303019410496046},{"$f":"IFERROR((G245+B245-C245)/H245/E245*30,0)","v":0.1303019410496046}]
[{"$f":"'دیده بان'!A246","v":" ضصاد1134"},{"$f":"'دیده بان'!B246","v":1626},{"$f":"'دیده بان'!C246","v":1851},{"$f":"'دیده بان'!D246","v":"1402/11/11"},{"$f":"'دیده بان'!E246","v":24},{"$f":"'دیده بان'!G246","v":0},{"$f":"'دیده بان'!I246","v":300},{"$f":"C246-G246","v":1551},{"$f":"IFERROR(-G246/C246,0)","v":-0.16207455429497569},{"$f":"IF(C246<=B246,G246,B246+G246-C246)/H246/E246*30","v":6.0444874274661498E-2},{"$f":"IFERROR((G246+B246-C246)/H246/E246*30,0)","v":6.0444874274661498E-2}]
[{"$f":"'دیده بان'!A247","v":" ضصاد1135"},{"$f":"'دیده بان'!B247","v":1717},{"$f":"'دیده بان'!C247","v":1851},{"$f":"'دیده بان'!D247","v":"1402/11/11"},{"$f":"'دیده بان'!E247","v":24},{"$f":"'دیده بان'!G247","v":0},{"$f":"'دیده بان'!I247","v":470},{"$f":"C247-G247","v":1381},{"$f":"IFERROR(-G247/C247,0)","v":-0.25391680172879527},{"$f":"IF(C247<=B247,G247,B247+G247-C247)/H247/E247*30","v":0.30412744388124546},{"$f":"IFERROR((G247+B247-C247)/H247/E247*30,0)","v":0.30412744388124546}]
[{"$f":"'دیده بان'!A248","v":" ضصاد1140"},{"$f":"'دیده بان'!B248","v":2531},{"$f":"'دیده بان'!C248","v":1851},{"$f":"'دیده بان'!D248","v":"1402/11/11"},{"$f":"'دیده بان'!E248","v":24},{"$f":"'دیده بان'!G248","v":0},{"$f":"'دیده بان'!I248","v":17},{"$f":"C248-G248","v":1834},{"$f":"IFERROR(-G248/C248,0)","v":-9.1842247433819562E-3},{"$f":"IF(C248<=B248,G248,B248+G248-C248)/H248/E248*30","v":1.158669574700109E-2},{"$f":"IFERROR((G248+B248-C248)/H248/E248*30,0)","v":0.47505452562704475}]
[{"$f":"'دیده بان'!A389","v":" ضخپارس1208"},{"$f":"'دیده بان'!B389","v":2000},{"$f":"'دیده بان'!C389","v":1234},{"$f":"'دیده بان'!D389","v":"1402/12/20"},{"$f":"'دیده بان'!E389","v":63},{"$f":"'دیده بان'!G389","v":0},{"$f":"'دیده بان'!I389","v":14},{"$f":"C249-G249","v":1220},{"$f":"IFERROR(-G249/C249,0)","v":-1.1345218800648298E-2},{"$f":"IF(C249<=B249,G249,B249+G249-C249)/H249/E249*30","v":5.4644808743169399E-3},{"$f":"IFERROR((G249+B249-C249)/H249/E249*30,0)","v":0.3044496487119438}]
[{"$f":"'دیده بان'!A390","v":" ضخپارس1209"},{"$f":"'دیده بان'!B390","v":2200},{"$f":"'دیده بان'!C390","v":1234},{"$f":"'دیده بان'!D390","v":"1402/12/20"},{"$f":"'دیده بان'!E390","v":63},{"$f":"'دیده بان'!G390","v":0},{"$f":"'دیده بان'!I390","v":13},{"$f":"C250-G250","v":1221},{"$f":"IFERROR(-G250/C250,0)","v":-1.0534846029173419E-2},{"$f":"IF(C250<=B250,G250,B250+G250-C250)/H250/E250*30","v":5.0700050700050701E-3},{"$f":"IFERROR((G250+B250-C250)/H250/E250*30,0)","v":0.38181038181038179}]
[{"$f":"'دیده بان'!A392","v":" ضخپارس1211"},{"$f":"'دیده بان'!B392","v":2600},{"$f":"'دیده بان'!C392","v":1234},{"$f":"'دیده بان'!D392","v":"1402/12/20"},{"$f":"'دیده بان'!E392","v":63},{"$f":"'دیده بان'!G392","v":0},{"$f":"'دیده بان'!I392","v":13},{"$f":"C251-G251","v":1221},{"$f":"IFERROR(-G251/C251,0)","v":-1.0534846029173419E-2},{"$f":"IF(C251<=B251,G251,B251+G251-C251)/H251/E251*30","v":5.0700050700050701E-3},{"$f":"IFERROR((G251+B251-C251)/H251/E251*30,0)","v":0.53781053781053778}]
[{"$f":"'دیده بان'!A393","v":" ضخپارس1212"},{"$f":"'دیده بان'!B393","v":2800},{"$f":"'دیده بان'!C393","v":1234},{"$f":"'دیده بان'!D393","v":"1402/12/20"},{"$f":"'دیده بان'!E393","v":63},{"$f":"'دیده بان'!G393","v":0},{"$f":"'دیده بان'!I393","v":13},{"$f":"C252-G252","v":1221},{"$f":"IFERROR(-G252/C252,0)","v":-1.0534846029173419E-2},{"$f":"IF(C252<=B252,G252,B252+G252-C252)/H252/E252*30","v":5.0700050700050701E-3},{"$f":"IFERROR((G252+B252-C252)/H252/E252*30,0)","v":0.6158106158106158}]
[{"$f":"'دیده بان'!A387","v":" ضخپارس1205"},{"$f":"'دیده بان'!B387","v":1700},{"$f":"'دیده بان'!C387","v":1234},{"$f":"'دیده بان'!D387","v":"1402/12/20"},{"$f":"'دیده بان'!E387","v":63},{"$f":"'دیده بان'!G387","v":0},{"$f":"'دیده بان'!I387","v":750},{"$f":"C253-G253","v":484},{"$f":"IFERROR(-G253/C253,0)","v":-0.60777957860615883},{"$f":"IF(C253<=B253,G253,B253+G253-C253)/H253/E253*30","v":0.73789846517119251},{"$f":"IFERROR((G253+B253-C253)/H253/E253*30,0)","v":1.1963793781975602}]
[{"$f":"'دیده بان'!A429","v":" ضخپارس1207"},{"$f":"'دیده بان'!B429","v":1900},{"$f":"'دیده بان'!C429","v":1234},{"$f":"'دیده بان'!D429","v":"1402/12/20"},{"$f":"'دیده بان'!E429","v":63},{"$f":"'دیده بان'!G429","v":0},{"$f":"'دیده بان'!I429","v":930},{"$f":"C254-G254","v":304},{"$f":"IFERROR(-G254/C254,0)","v":-0.75364667747163694},{"$f":"IF(C254<=B254,G254,B254+G254-C254)/H254/E254*30","v":1.4567669172932329},{"$f":"IFERROR((G254+B254-C254)/H254/E254*30,0)","v":2.5}]
[{"$f":"'دیده بان'!A48","v":" ضروز1203"},{"$f":"'دیده بان'!B48","v":24000},{"$f":"'دیده بان'!C48","v":27700},{"$f":"'دیده بان'!D48","v":"1402/12/16"},{"$f":"'دیده بان'!E48","v":59},{"$f":"'دیده بان'!G48","v":334},{"$f":"'دیده بان'!I48","v":6772},{"$f":"C255-G255","v":20928},{"$f":"IFERROR(-G255/C255,0)","v":-0.24447653429602889},{"$f":"IF(C255<=B255,G255,B255+G255-C255)/H255/E255*30","v":7.4638469911366814E-2},{"$f":"IFERROR((G255+B255-C255)/H255/E255*30,0)","v":7.4638469911366814E-2}]
[{"$f":"'دیده بان'!A131","v":" ضجار1206"},{"$f":"'دیده بان'!B131","v":2400},{"$f":"'دیده بان'!C131","v":2257},{"$f":"'دیده بان'!D131","v":"1402/12/16"},{"$f":"'دیده بان'!E131","v":59},{"$f":"'دیده بان'!G131","v":330},{"$f":"'دیده بان'!I131","v":141},{"$f":"C256-G256","v":2116},{"$f":"IFERROR(-G256/C256,0)","v":-6.2472308373947717E-2},{"$f":"IF(C256<=B256,G256,B256+G256-C256)/H256/E256*30","v":3.3882285091794563E-2},{"$f":"IFERROR((G256+B256-C256)/H256/E256*30,0)","v":6.8245169972125208E-2}]
[{"$f":"'دیده بان'!A81","v":" ضجار1205"},{"$f":"'دیده بان'!B81","v":2200},{"$f":"'دیده بان'!C81","v":2257},{"$f":"'دیده بان'!D81","v":"1402/12/16"},{"$f":"'دیده بان'!E81","v":59},{"$f":"'دیده بان'!G81","v":1635},{"$f":"'دیده بان'!I81","v":250},{"$f":"C257-G257","v":2007},{"$f":"IFERROR(-G257/C257,0)","v":-0.11076650420912716},{"$f":"IF(C257<=B257,G257,B257+G257-C257)/H257/E257*30","v":4.8896658306098149E-2},{"$f":"IFERROR((G257+B257-C257)/H257/E257*30,0)","v":4.8896658306098149E-2}]
[{"$f":"'دیده بان'!A260","v":" ضروز1205"},{"$f":"'دیده بان'!B260","v":28000},{"$f":"'دیده بان'!C260","v":27700},{"$f":"'دیده بان'!D260","v":"1402/12/16"},{"$f":"'دیده بان'!E260","v":59},{"$f":"'دیده بان'!G260","v":0},{"$f":"'دیده بان'!I260","v":1901},{"$f":"C258-G258","v":25799},{"$f":"IFERROR(-G258/C258,0)","v":-6.862815884476535E-2},{"$f":"IF(C258<=B258,G258,B258+G258-C258)/H258/E258*30","v":3.7466962653262735E-2},{"$f":"IFERROR((G258+B258-C258)/H258/E258*30,0)","v":4.3379686901541974E-2}]
[{"$f":"'دیده بان'!A149","v":" ضجار1207"},{"$f":"'دیده بان'!B149","v":2600},{"$f":"'دیده بان'!C149","v":2257},{"$f":"'دیده بان'!D149","v":"1402/12/16"},{"$f":"'دیده بان'!E149","v":59},{"$f":"'دیده بان'!G149","v":186},{"$f":"'دیده بان'!I149","v":98},{"$f":"C259-G259","v":2159},{"$f":"IFERROR(-G259/C259,0)","v":-4.3420469649977846E-2},{"$f":"IF(C259<=B259,G259,B259+G259-C259)/H259/E259*30","v":2.3080365203601794E-2},{"$f":"IFERROR((G259+B259-C259)/H259/E259*30,0)","v":0.10386164341620807}]
[{"$f":"'دیده بان'!A270","v":" ضسلا1221"},{"$f":"'دیده بان'!B270","v":20000},{"$f":"'دیده بان'!C270","v":16400},{"$f":"'دیده بان'!D270","v":"1402/12/16"},{"$f":"'دیده بان'!E270","v":59},{"$f":"'دیده بان'!G270","v":0},{"$f":"'دیده بان'!I270","v":300},{"$f":"C260-G260","v":16100},{"$f":"IFERROR(-G260/C260,0)","v":-1.8292682926829267E-2},{"$f":"IF(C260<=B260,G260,B260+G260-C260)/H260/E260*30","v":9.4746815454258334E-3},{"$f":"IFERROR((G260+B260-C260)/H260/E260*30,0)","v":0.12317086009053586}]
[{"$f":"'دیده بان'!A118","v":" ضروز1206"},{"$f":"'دیده بان'!B118","v":30000},{"$f":"'دیده بان'!C118","v":27700},{"$f":"'دیده بان'!D118","v":"1402/12/16"},{"$f":"'دیده بان'!E118","v":59},{"$f":"'دیده بان'!G118","v":100},{"$f":"'دیده بان'!I118","v":750},{"$f":"C261-G261","v":26950},{"$f":"IFERROR(-G261/C261,0)","v":-2.7075812274368231E-2},{"$f":"IF(C261<=B261,G261,B261+G261-C261)/H261/E261*30","v":1.4150498411999621E-2},{"$f":"IFERROR((G261+B261-C261)/H261/E261*30,0)","v":5.7545360208798468E-2}]
[{"$f":"'دیده بان'!A250","v":" ضجار1200"},{"$f":"'دیده بان'!B250","v":1600},{"$f":"'دیده بان'!C250","v":2257},{"$f":"'دیده بان'!D250","v":"1402/12/16"},{"$f":"'دیده بان'!E250","v":59},{"$f":"'دیده بان'!G250","v":0},{"$f":"'دیده بان'!I250","v":850},{"$f":"C262-G262","v":1407},{"$f":"IFERROR(-G262/C262,0)","v":-0.37660611431103236},{"$f":"IF(C262<=B262,G262,B262+G262-C262)/H262/E262*30","v":6.974811174153446E-2},{"$f":"IFERROR((G262+B262-C262)/H262/E262*30,0)","v":6.974811174153446E-2}]
[{"$f":"'دیده بان'!A9","v":" ضخود1218"},{"$f":"'دیده بان'!B9","v":2600},{"$f":"'دیده بان'!C9","v":2829},{"$f":"'دیده بان'!D9","v":"1402/12/02"},{"$f":"'دیده بان'!E9","v":45},{"$f":"'دیده بان'!G9","v":80845},{"$f":"'دیده بان'!I9","v":374},{"$f":"C263-G263","v":2455},{"$f":"IFERROR(-G263/C263,0)","v":-0.13220219158713326},{"$f":"IF(C263<=B263,G263,B263+G263-C263)/H263/E263*30","v":3.9375424304141204E-2},{"$f":"IFERROR((G263+B263-C263)/H263/E263*30,0)","v":3.9375424304141204E-2}]
[{"$f":"'دیده بان'!A251","v":" ضجار1201"},{"$f":"'دیده بان'!B251","v":1700},{"$f":"'دیده بان'!C251","v":2257},{"$f":"'دیده بان'!D251","v":"1402/12/16"},{"$f":"'دیده بان'!E251","v":59},{"$f":"'دیده بان'!G251","v":0},{"$f":"'دیده بان'!I251","v":700},{"$f":"C264-G264","v":1557},{"$f":"IFERROR(-G264/C264,0)","v":-0.31014621178555607},{"$f":"IF(C264<=B264,G264,B264+G264-C264)/H264/E264*30","v":4.6699977139871326E-2},{"$f":"IFERROR((G264+B264-C264)/H264/E264*30,0)","v":4.6699977139871326E-2}]
[{"$f":"'دیده بان'!A252","v":" ضجار1202"},{"$f":"'دیده بان'!B252","v":1800},{"$f":"'دیده بان'!C252","v":2257},{"$f":"'دیده بان'!D252","v":"1402/12/16"},{"$f":"'دیده بان'!E252","v":59},{"$f":"'دیده بان'!G252","v":0},{"$f":"'دیده بان'!I252","v":616},{"$f":"C265-G265","v":1641},{"$f":"IFERROR(-G265/C265,0)","v":-0.27292866637128932},{"$f":"IF(C265<=B265,G265,B265+G265-C265)/H265/E265*30","v":4.92671892913581E-2},{"$f":"IFERROR((G265+B265-C265)/H265/E265*30,0)","v":4.92671892913581E-2}]
[{"$f":"'دیده بان'!A253","v":" ضجار1203"},{"$f":"'دیده بان'!B253","v":1900},{"$f":"'دیده بان'!C253","v":2257},{"$f":"'دیده بان'!D253","v":"1402/12/16"},{"$f":"'دیده بان'!E253","v":59},{"$f":"'دیده بان'!G253","v":0},{"$f":"'دیده بان'!I253","v":580},{"$f":"C266-G266","v":1677},{"$f":"IFERROR(-G266/C266,0)","v":-0.25697828976517501},{"$f":"IF(C266<=B266,G266,B266+G266-C266)/H266/E266*30","v":6.7614687244170885E-2},{"$f":"IFERROR((G266+B266-C266)/H266/E266*30,0)","v":6.7614687244170885E-2}]
[{"$f":"'دیده بان'!A254","v":" ضجار1208"},{"$f":"'دیده بان'!B254","v":2800},{"$f":"'دیده بان'!C254","v":2257},{"$f":"'دیده بان'!D254","v":"1402/12/16"},{"$f":"'دیده بان'!E254","v":59},{"$f":"'دیده بان'!G254","v":0},{"$f":"'دیده بان'!I254","v":40},{"$f":"C267-G267","v":2217},{"$f":"IFERROR(-G267/C267,0)","v":-1.7722640673460344E-2},{"$f":"IF(C267<=B267,G267,B267+G267-C267)/H267/E267*30","v":9.1741015114332244E-3},{"$f":"IFERROR((G267+B267-C267)/H267/E267*30,0)","v":0.13371252952913923}]
[{"$f":"'دیده بان'!A255","v":" ضجار1209"},{"$f":"'دیده بان'!B255","v":3000},{"$f":"'دیده بان'!C255","v":2257},{"$f":"'دیده بان'!D255","v":"1402/12/16"},{"$f":"'دیده بان'!E255","v":59},{"$f":"'دیده بان'!G255","v":0},{"$f":"'دیده بان'!I255","v":36},{"$f":"C268-G268","v":2221},{"$f":"IFERROR(-G268/C268,0)","v":-1.595037660611431E-2},{"$f":"IF(C268<=B268,G268,B268+G268-C268)/H268/E268*30","v":8.2418211372186911E-3},{"$f":"IFERROR((G268+B268-C268)/H268/E268*30,0)","v":0.17834385183037113}]
[{"$f":"'دیده بان'!A257","v":" ضجار1211"},{"$f":"'دیده بان'!B257","v":3500},{"$f":"'دیده بان'!C257","v":2257},{"$f":"'دیده بان'!D257","v":"1402/12/16"},{"$f":"'دیده بان'!E257","v":59},{"$f":"'دیده بان'!G257","v":0},{"$f":"'دیده بان'!I257","v":17},{"$f":"C269-G269","v":2240},{"$f":"IFERROR(-G269/C269,0)","v":-7.5321222862206466E-3},{"$f":"IF(C269<=B269,G269,B269+G269-C269)/H269/E269*30","v":3.8589588377723975E-3},{"$f":"IFERROR((G269+B269-C269)/H269/E269*30,0)","v":0.28601694915254239}]
[{"$f":"'دیده بان'!A43","v":" ضخود1220"},{"$f":"'دیده بان'!B43","v":3000},{"$f":"'دیده بان'!C43","v":2829},{"$f":"'دیده بان'!D43","v":"1402/12/02"},{"$f":"'دیده بان'!E43","v":45},{"$f":"'دیده بان'!G43","v":21920},{"$f":"'دیده بان'!I43","v":147},{"$f":"C270-G270","v":2682},{"$f":"IFERROR(-G270/C270,0)","v":-5.1961823966065745E-2},{"$f":"IF(C270<=B270,G270,B270+G270-C270)/H270/E270*30","v":3.6539895600298286E-2},{"$f":"IFERROR((G270+B270-C270)/H270/E270*30,0)","v":7.90454884414616E-2}]
[{"$f":"'دیده بان'!A258","v":" ضروز1200"},{"$f":"'دیده بان'!B258","v":18000},{"$f":"'دیده بان'!C258","v":27700},{"$f":"'دیده بان'!D258","v":"1402/12/16"},{"$f":"'دیده بان'!E258","v":59},{"$f":"'دیده بان'!G258","v":0},{"$f":"'دیده بان'!I258","v":11600},{"$f":"C271-G271","v":16100},{"$f":"IFERROR(-G271/C271,0)","v":-0.41877256317689532},{"$f":"IF(C271<=B271,G271,B271+G271-C271)/H271/E271*30","v":6.000631645436362E-2},{"$f":"IFERROR((G271+B271-C271)/H271/E271*30,0)","v":6.000631645436362E-2}]
[{"$f":"'دیده بان'!A259","v":" ضروز1204"},{"$f":"'دیده بان'!B259","v":26000},{"$f":"'دیده بان'!C259","v":27700},{"$f":"'دیده بان'!D259","v":"1402/12/16"},{"$f":"'دیده بان'!E259","v":59},{"$f":"'دیده بان'!G259","v":0},{"$f":"'دیده بان'!I259","v":4000},{"$f":"C272-G272","v":23700},{"$f":"IFERROR(-G272/C272,0)","v":-0.1444043321299639},{"$f":"IF(C272<=B272,G272,B272+G272-C272)/H272/E272*30","v":4.9345633984123574E-2},{"$f":"IFERROR((G272+B272-C272)/H272/E272*30,0)","v":4.9345633984123574E-2}]
[{"$f":"'دیده بان'!A273","v":" ضخوز1031"},{"$f":"'دیده بان'!B273","v":2600},{"$f":"'دیده بان'!C273","v":3527},{"$f":"'دیده بان'!D273","v":"1402/10/17"},{"$f":"'دیده بان'!E273","v":1},{"$f":"'دیده بان'!G273","v":0},{"$f":"'دیده بان'!I273","v":690},{"$f":"C273-G273","v":2837},{"$f":"IFERROR(-G273/C273,0)","v":-0.19563368301672809},{"$f":"IF(C273<=B273,G273,B273+G273-C273)/H273/E273*30","v":-2.5061684878392669},{"$f":"IFERROR((G273+B273-C273)/H273/E273*30,0)","v":-2.5061684878392669}]
[{"$f":"'دیده بان'!A2","v":" ضخود1122"},{"$f":"'دیده بان'!B2","v":3000},{"$f":"'دیده بان'!C2","v":2829},{"$f":"'دیده بان'!D2","v":"1402/11/11"},{"$f":"'دیده بان'!E2","v":24},{"$f":"'دیده بان'!G2","v":"3M"},{"$f":"'دیده بان'!I2","v":75},{"$f":"C274-G274","v":2754},{"$f":"IFERROR(-G274/C274,0)","v":-2.6511134676564158E-2},{"$f":"IF(C274<=B274,G274,B274+G274-C274)/H274/E274*30","v":3.4041394335511982E-2},{"$f":"IFERROR((G274+B274-C274)/H274/E274*30,0)","v":0.1116557734204793}]
[{"$f":"'دیده بان'!A261","v":" ضروز1207"},{"$f":"'دیده بان'!B261","v":34000},{"$f":"'دیده بان'!C261","v":27700},{"$f":"'دیده بان'!D261","v":"1402/12/16"},{"$f":"'دیده بان'!E261","v":59},{"$f":"'دیده بان'!G261","v":0},{"$f":"'دیده بان'!I261","v":350},{"$f":"C275-G275","v":27350},{"$f":"IFERROR(-G275/C275,0)","v":-1.263537906137184E-2},{"$f":"IF(C275<=B275,G275,B275+G275-C275)/H275/E275*30","v":6.5069872648963537E-3},{"$f":"IFERROR((G275+B275-C275)/H275/E275*30,0)","v":0.12363275803303073}]
[{"$f":"'دیده بان'!A266","v":" ضسلا1215"},{"$f":"'دیده بان'!B266","v":12000},{"$f":"'دیده بان'!C266","v":16400},{"$f":"'دیده بان'!D266","v":"1402/12/16"},{"$f":"'دیده بان'!E266","v":59},{"$f":"'دیده بان'!G266","v":0},{"$f":"'دیده بان'!I266","v":5700},{"$f":"C276-G276","v":10700},{"$f":"IFERROR(-G276/C276,0)","v":-0.34756097560975607},{"$f":"IF(C276<=B276,G276,B276+G276-C276)/H276/E276*30","v":6.1777284967527324E-2},{"$f":"IFERROR((G276+B276-C276)/H276/E276*30,0)","v":6.1777284967527324E-2}]
[{"$f":"'دیده بان'!A267","v":" ضسلا1216"},{"$f":"'دیده بان'!B267","v":13000},{"$f":"'دیده بان'!C267","v":16400},{"$f":"'دیده بان'!D267","v":"1402/12/16"},{"$f":"'دیده بان'!E267","v":59},{"$f":"'دیده بان'!G267","v":0},{"$f":"'دیده بان'!I267","v":3954},{"$f":"C277-G277","v":12446},{"$f":"IFERROR(-G277/C277,0)","v":-0.24109756097560975},{"$f":"IF(C277<=B277,G277,B277+G277-C277)/H277/E277*30","v":2.2633369376043492E-2},{"$f":"IFERROR((G277+B277-C277)/H277/E277*30,0)","v":2.2633369376043492E-2}]
[{"$f":"'دیده بان'!A268","v":" ضسلا1217"},{"$f":"'دیده بان'!B268","v":14000},{"$f":"'دیده بان'!C268","v":16400},{"$f":"'دیده بان'!D268","v":"1402/12/16"},{"$f":"'دیده بان'!E268","v":59},{"$f":"'دیده بان'!G268","v":0},{"$f":"'دیده بان'!I268","v":3182},{"$f":"C278-G278","v":13218},{"$f":"IFERROR(-G278/C278,0)","v":-0.19402439024390244},{"$f":"IF(C278<=B278,G278,B278+G278-C278)/H278/E278*30","v":3.0082245320325905E-2},{"$f":"IFERROR((G278+B278-C278)/H278/E278*30,0)","v":3.0082245320325905E-2}]
[{"$f":"'دیده بان'!A269","v":" ضسلا1220"},{"$f":"'دیده بان'!B269","v":18000},{"$f":"'دیده بان'!C269","v":16400},{"$f":"'دیده بان'!D269","v":"1402/12/16"},{"$f":"'دیده بان'!E269","v":59},{"$f":"'دیده بان'!G269","v":0},{"$f":"'دیده بان'!I269","v":150},{"$f":"C279-G279","v":16250},{"$f":"IFERROR(-G279/C279,0)","v":-9.1463414634146336E-3},{"$f":"IF(C279<=B279,G279,B279+G279-C279)/H279/E279*30","v":4.6936114732724901E-3},{"$f":"IFERROR((G279+B279-C279)/H279/E279*30,0)","v":5.4758800521512392E-2}]
[{"$f":"'دیده بان'!A412","v":" ضسلا1213"},{"$f":"'دیده بان'!B412","v":10000},{"$f":"'دیده بان'!C412","v":16400},{"$f":"'دیده بان'!D412","v":"1402/12/16"},{"$f":"'دیده بان'!E412","v":59},{"$f":"'دیده بان'!G412","v":0},{"$f":"'دیده بان'!I412","v":7325},{"$f":"C280-G280","v":9075},{"$f":"IFERROR(-G280/C280,0)","v":-0.44664634146341464},{"$f":"IF(C280<=B280,G280,B280+G280-C280)/H280/E280*30","v":5.1827987113041041E-2},{"$f":"IFERROR((G280+B280-C280)/H280/E280*30,0)","v":5.1827987113041041E-2}]
[{"$f":"'دیده بان'!A75","v":" ضجار1204"},{"$f":"'دیده بان'!B75","v":2000},{"$f":"'دیده بان'!C75","v":2257},{"$f":"'دیده بان'!D75","v":"1402/12/16"},{"$f":"'دیده بان'!E75","v":59},{"$f":"'دیده بان'!G75","v":1280},{"$f":"'دیده بان'!I75","v":380},{"$f":"C281-G281","v":1877},{"$f":"IFERROR(-G281/C281,0)","v":-0.16836508639787329},{"$f":"IF(C281<=B281,G281,B281+G281-C281)/H281/E281*30","v":3.3320390453572685E-2},{"$f":"IFERROR((G281+B281-C281)/H281/E281*30,0)","v":3.3320390453572685E-2}]
[{"$f":"'دیده بان'!A166","v":" ضسلا1223"},{"$f":"'دیده بان'!B166","v":24000},{"$f":"'دیده بان'!C166","v":16400},{"$f":"'دیده بان'!D166","v":"1402/12/16"},{"$f":"'دیده بان'!E166","v":59},{"$f":"'دیده بان'!G166","v":112},{"$f":"'دیده بان'!I166","v":40},{"$f":"C282-G282","v":16360},{"$f":"IFERROR(-G282/C282,0)","v":-2.4390243902439024E-3},{"$f":"IF(C282<=B282,G282,B282+G282-C282)/H282/E282*30","v":1.2432141229124364E-3},{"$f":"IFERROR((G282+B282-C282)/H282/E282*30,0)","v":0.23745389747627532}]
[{"$f":"'دیده بان'!A421","v":" ضسلا1218"},{"$f":"'دیده بان'!B421","v":15000},{"$f":"'دیده بان'!C421","v":16400},{"$f":"'دیده بان'!D421","v":"1402/12/16"},{"$f":"'دیده بان'!E421","v":59},{"$f":"'دیده بان'!G421","v":0},{"$f":"'دیده بان'!I421","v":2431},{"$f":"C283-G283","v":13969},{"$f":"IFERROR(-G283/C283,0)","v":-0.14823170731707316},{"$f":"IF(C283<=B283,G283,B283+G283-C283)/H283/E283*30","v":3.7528619667520448E-2},{"$f":"IFERROR((G283+B283-C283)/H283/E283*30,0)","v":3.7528619667520448E-2}]
[{"$f":"'دیده بان'!A284","v":" ضهای1100"},{"$f":"'دیده بان'!B284","v":1600},{"$f":"'دیده بان'!C284","v":2090},{"$f":"'دیده بان'!D284","v":"1402/11/15"},{"$f":"'دیده بان'!E284","v":28},{"$f":"'دیده بان'!G284","v":0},{"$f":"'دیده بان'!I284","v":600},{"$f":"C284-G284","v":1490},{"$f":"IFERROR(-G284/C284,0)","v":-0.28708133971291866},{"$f":"IF(C284<=B284,G284,B284+G284-C284)/H284/E284*30","v":7.9098753595397905E-2},{"$f":"IFERROR((G284+B284-C284)/H284/E284*30,0)","v":7.9098753595397905E-2}]
[{"$f":"'دیده بان'!A285","v":" ضهای1102"},{"$f":"'دیده بان'!B285","v":1800},{"$f":"'دیده بان'!C285","v":2090},{"$f":"'دیده بان'!D285","v":"1402/11/15"},{"$f":"'دیده بان'!E285","v":28},{"$f":"'دیده بان'!G285","v":0},{"$f":"'دیده بان'!I285","v":400},{"$f":"C285-G285","v":1690},{"$f":"IFERROR(-G285/C285,0)","v":-0.19138755980861244},{"$f":"IF(C285<=B285,G285,B285+G285-C285)/H285/E285*30","v":6.973795435333896E-2},{"$f":"IFERROR((G285+B285-C285)/H285/E285*30,0)","v":6.973795435333896E-2}]
[{"$f":"'دیده بان'!A286","v":" ضهای1106"},{"$f":"'دیده بان'!B286","v":2400},{"$f":"'دیده بان'!C286","v":2090},{"$f":"'دیده بان'!D286","v":"1402/11/15"},{"$f":"'دیده بان'!E286","v":28},{"$f":"'دیده بان'!G286","v":0},{"$f":"'دیده بان'!I286","v":28},{"$f":"C286-G286","v":2062},{"$f":"IFERROR(-G286/C286,0)","v":-1.3397129186602871E-2},{"$f":"IF(C286<=B286,G286,B286+G286-C286)/H286/E286*30","v":1.4548981571290009E-2},{"$f":"IFERROR((G286+B286-C286)/H286/E286*30,0)","v":0.17562699182485797}]
[{"$f":"'دیده بان'!A428","v":" ضسلا1219"},{"$f":"'دیده بان'!B428","v":16000},{"$f":"'دیده بان'!C428","v":16400},{"$f":"'دیده بان'!D428","v":"1402/12/16"},{"$f":"'دیده بان'!E428","v":59},{"$f":"'دیده بان'!G428","v":0},{"$f":"'دیده بان'!I428","v":2250},{"$f":"C287-G287","v":14150},{"$f":"IFERROR(-G287/C287,0)","v":-0.13719512195121952},{"$f":"IF(C287<=B287,G287,B287+G287-C287)/H287/E287*30","v":6.6479008205066789E-2},{"$f":"IFERROR((G287+B287-C287)/H287/E287*30,0)","v":6.6479008205066789E-2}]
[{"$f":"'دیده بان'!A256","v":" ضجار1210"},{"$f":"'دیده بان'!B256","v":3250},{"$f":"'دیده بان'!C256","v":2257},{"$f":"'دیده بان'!D256","v":"1402/12/16"},{"$f":"'دیده بان'!E256","v":59},{"$f":"'دیده بان'!G256","v":0},{"$f":"'دیده بان'!I256","v":25},{"$f":"C288-G288","v":2232},{"$f":"IFERROR(-G288/C288,0)","v":-1.1076650420912717E-2},{"$f":"IF(C288<=B288,G288,B288+G288-C288)/H288/E288*30","v":5.6952797521414248E-3},{"$f":"IFERROR((G288+B288-C288)/H288/E288*30,0)","v":0.23191179150719882}]
[{"$f":"'دیده بان'!A289","v":" ضخود1127"},{"$f":"'دیده بان'!B289","v":4500},{"$f":"'دیده بان'!C289","v":2829},{"$f":"'دیده بان'!D289","v":"1402/11/11"},{"$f":"'دیده بان'!E289","v":24},{"$f":"'دیده بان'!G289","v":0},{"$f":"'دیده بان'!I289","v":4},{"$f":"C289-G289","v":2825},{"$f":"IFERROR(-G289/C289,0)","v":-1.4139271827500884E-3},{"$f":"IF(C289<=B289,G289,B289+G289-C289)/H289/E289*30","v":1.769911504424779E-3},{"$f":"IFERROR((G289+B289-C289)/H289/E289*30,0)","v":0.74115044247787609}]
[{"$f":"'دیده بان'!A52","v":" ضکرمان1200"},{"$f":"'دیده بان'!B52","v":898},{"$f":"'دیده بان'!C52","v":1323},{"$f":"'دیده بان'!D52","v":"1402/12/14"},{"$f":"'دیده بان'!E52","v":57},{"$f":"'دیده بان'!G52","v":3760},{"$f":"'دیده بان'!I52","v":451},{"$f":"C290-G290","v":872},{"$f":"IFERROR(-G290/C290,0)","v":-0.34089191232048377},{"$f":"IF(C290<=B290,G290,B290+G290-C290)/H290/E290*30","v":1.5692901979719943E-2},{"$f":"IFERROR((G290+B290-C290)/H290/E290*30,0)","v":1.5692901979719943E-2}]
[{"$f":"'دیده بان'!A14","v":" ضتوان1203"},{"$f":"'دیده بان'!B14","v":18000},{"$f":"'دیده بان'!C14","v":18431},{"$f":"'دیده بان'!D14","v":"1402/12/14"},{"$f":"'دیده بان'!E14","v":57},{"$f":"'دیده بان'!G14","v":9384},{"$f":"'دیده بان'!I14","v":2000},{"$f":"C291-G291","v":16431},{"$f":"IFERROR(-G291/C291,0)","v":-0.10851283164234171},{"$f":"IF(C291<=B291,G291,B291+G291-C291)/H291/E291*30","v":5.0258016778297762E-2},{"$f":"IFERROR((G291+B291-C291)/H291/E291*30,0)","v":5.0258016778297762E-2}]
[{"$f":"'دیده بان'!A90","v":" ضکرمان1205"},{"$f":"'دیده بان'!B90","v":1298},{"$f":"'دیده بان'!C90","v":1323},{"$f":"'دیده بان'!D90","v":"1402/12/14"},{"$f":"'دیده بان'!E90","v":57},{"$f":"'دیده بان'!G90","v":1602},{"$f":"'دیده بان'!I90","v":138},{"$f":"C292-G292","v":1185},{"$f":"IFERROR(-G292/C292,0)","v":-0.10430839002267574},{"$f":"IF(C292<=B292,G292,B292+G292-C292)/H292/E292*30","v":5.0188763046857654E-2},{"$f":"IFERROR((G292+B292-C292)/H292/E292*30,0)","v":5.0188763046857654E-2}]
[{"$f":"'دیده بان'!A82","v":" ضکرمان1204"},{"$f":"'دیده بان'!B82","v":1198},{"$f":"'دیده بان'!C82","v":1323},{"$f":"'دیده بان'!D82","v":"1402/12/14"},{"$f":"'دیده بان'!E82","v":57},{"$f":"'دیده بان'!G82","v":1539},{"$f":"'دیده بان'!I82","v":208},{"$f":"C293-G293","v":1115},{"$f":"IFERROR(-G293/C293,0)","v":-0.15721844293272866},{"$f":"IF(C293<=B293,G293,B293+G293-C293)/H293/E293*30","v":3.9178664149162136E-2},{"$f":"IFERROR((G293+B293-C293)/H293/E293*30,0)","v":3.9178664149162136E-2}]
[{"$f":"'دیده بان'!A380","v":" ضکرمان1201"},{"$f":"'دیده بان'!B380","v":948},{"$f":"'دیده بان'!C380","v":1323},{"$f":"'دیده بان'!D380","v":"1402/12/14"},{"$f":"'دیده بان'!E380","v":57},{"$f":"'دیده بان'!G380","v":0},{"$f":"'دیده بان'!I380","v":600},{"$f":"C294-G294","v":723},{"$f":"IFERROR(-G294/C294,0)","v":-0.45351473922902497},{"$f":"IF(C294<=B294,G294,B294+G294-C294)/H294/E294*30","v":0.16379122079056563},{"$f":"IFERROR((G294+B294-C294)/H294/E294*30,0)","v":0.16379122079056563}]
[{"$f":"'دیده بان'!A405","v":" ضتوان1200"},{"$f":"'دیده بان'!B405","v":15000},{"$f":"'دیده بان'!C405","v":18431},{"$f":"'دیده بان'!D405","v":"1402/12/14"},{"$f":"'دیده بان'!E405","v":57},{"$f":"'دیده بان'!G405","v":0},{"$f":"'دیده بان'!I405","v":5000},{"$f":"C295-G295","v":13431},{"$f":"IFERROR(-G295/C295,0)","v":-0.27128207910585428},{"$f":"IF(C295<=B295,G295,B295+G295-C295)/H295/E295*30","v":6.1483841388147609E-2},{"$f":"IFERROR((G295+B295-C295)/H295/E295*30,0)","v":6.1483841388147609E-2}]
[{"$f":"'دیده بان'!A151","v":" ضکرمان1203"},{"$f":"'دیده بان'!B151","v":1098},{"$f":"'دیده بان'!C151","v":1323},{"$f":"'دیده بان'!D151","v":"1402/12/14"},{"$f":"'دیده بان'!E151","v":57},{"$f":"'دیده بان'!G151","v":54},{"$f":"'دیده بان'!I151","v":290},{"$f":"C296-G296","v":1033},{"$f":"IFERROR(-G296/C296,0)","v":-0.21919879062736206},{"$f":"IF(C296<=B296,G296,B296+G296-C296)/H296/E296*30","v":3.3117644061751661E-2},{"$f":"IFERROR((G296+B296-C296)/H296/E296*30,0)","v":3.3117644061751661E-2}]
[{"$f":"'دیده بان'!A135","v":" ضتوان1208"},{"$f":"'دیده بان'!B135","v":26000},{"$f":"'دیده بان'!C135","v":18431},{"$f":"'دیده بان'!D135","v":"1402/12/14"},{"$f":"'دیده بان'!E135","v":57},{"$f":"'دیده بان'!G135","v":214},{"$f":"'دیده بان'!I135","v":160},{"$f":"C297-G297","v":18271},{"$f":"IFERROR(-G297/C297,0)","v":-8.6810265313873366E-3},{"$f":"IF(C297<=B297,G297,B297+G297-C297)/H297/E297*30","v":4.6089719400027075E-3},{"$f":"IFERROR((G297+B297-C297)/H297/E297*30,0)","v":0.22264215077675578}]
[{"$f":"'دیده بان'!A144","v":" ضکرمان1202"},{"$f":"'دیده بان'!B144","v":998},{"$f":"'دیده بان'!C144","v":1323},{"$f":"'دیده بان'!D144","v":"1402/12/14"},{"$f":"'دیده بان'!E144","v":57},{"$f":"'دیده بان'!G144","v":57},{"$f":"'دیده بان'!I144","v":400},{"$f":"C298-G298","v":923},{"$f":"IFERROR(-G298/C298,0)","v":-0.30234315948601664},{"$f":"IF(C298<=B298,G298,B298+G298-C298)/H298/E298*30","v":4.2766721788219199E-2},{"$f":"IFERROR((G298+B298-C298)/H298/E298*30,0)","v":4.2766721788219199E-2}]
[{"$f":"'دیده بان'!A299","v":" ضرول1000"},{"$f":"'دیده بان'!B299","v":1350},{"$f":"'دیده بان'!C299","v":1999},{"$f":"'دیده بان'!D299","v":"1402/10/24"},{"$f":"'دیده بان'!E299","v":7},{"$f":"'دیده بان'!G299","v":0},{"$f":"'دیده بان'!I299","v":743},{"$f":"C299-G299","v":1256},{"$f":"IFERROR(-G299/C299,0)","v":-0.37168584292146073},{"$f":"IF(C299<=B299,G299,B299+G299-C299)/H299/E299*30","v":0.32074613284804365},{"$f":"IFERROR((G299+B299-C299)/H299/E299*30,0)","v":0.32074613284804365}]
[{"$f":"'دیده بان'!A300","v":" ضرول1001"},{"$f":"'دیده بان'!B300","v":1450},{"$f":"'دیده بان'!C300","v":1999},{"$f":"'دیده بان'!D300","v":"1402/10/24"},{"$f":"'دیده بان'!E300","v":7},{"$f":"'دیده بان'!G300","v":0},{"$f":"'دیده بان'!I300","v":555},{"$f":"C300-G300","v":1444},{"$f":"IFERROR(-G300/C300,0)","v":-0.27763881940970486},{"$f":"IF(C300<=B300,G300,B300+G300-C300)/H300/E300*30","v":1.7807677087455481E-2},{"$f":"IFERROR((G300+B300-C300)/H300/E300*30,0)","v":1.7807677087455481E-2}]
[{"$f":"'دیده بان'!A301","v":" ضرول1011"},{"$f":"'دیده بان'!B301","v":2950},{"$f":"'دیده بان'!C301","v":1999},{"$f":"'دیده بان'!D301","v":"1402/10/24"},{"$f":"'دیده بان'!E301","v":7},{"$f":"'دیده بان'!G301","v":0},{"$f":"'دیده بان'!I301","v":35},{"$f":"C301-G301","v":1964},{"$f":"IFERROR(-G301/C301,0)","v":-1.7508754377188594E-2},{"$f":"IF(C301<=B301,G301,B301+G301-C301)/H301/E301*30","v":7.6374745417515266E-2},{"$f":"IFERROR((G301+B301-C301)/H301/E301*30,0)","v":2.151585685190573}]
[{"$f":"'دیده بان'!A190","v":" ضکرمان1208"},{"$f":"'دیده بان'!B190","v":1598},{"$f":"'دیده بان'!C190","v":1323},{"$f":"'دیده بان'!D190","v":"1402/12/14"},{"$f":"'دیده بان'!E190","v":57},{"$f":"'دیده بان'!G190","v":1},{"$f":"'دیده بان'!I190","v":150},{"$f":"C302-G302","v":1173},{"$f":"IFERROR(-G302/C302,0)","v":-0.11337868480725624},{"$f":"IF(C302<=B302,G302,B302+G302-C302)/H302/E302*30","v":6.7303809395611786E-2},{"$f":"IFERROR((G302+B302-C302)/H302/E302*30,0)","v":0.19069412662090007}]
[{"$f":"'دیده بان'!A413","v":" ضستا1116"},{"$f":"'دیده بان'!B413","v":1500},{"$f":"'دیده بان'!C413","v":1244},{"$f":"'دیده بان'!D413","v":"1402/11/11"},{"$f":"'دیده بان'!E413","v":24},{"$f":"'دیده بان'!G413","v":0},{"$f":"'دیده بان'!I413","v":7},{"$f":"C303-G303","v":1237},{"$f":"IFERROR(-G303/C303,0)","v":-5.627009646302251E-3},{"$f":"IF(C303<=B303,G303,B303+G303-C303)/H303/E303*30","v":7.0735650767987058E-3},{"$f":"IFERROR((G303+B303-C303)/H303/E303*30,0)","v":0.26576394502829426}]
[{"$f":"'دیده بان'!A12","v":" ضتوان1201"},{"$f":"'دیده بان'!B12","v":16000},{"$f":"'دیده بان'!C12","v":18431},{"$f":"'دیده بان'!D12","v":"1402/12/14"},{"$f":"'دیده بان'!E12","v":57},{"$f":"'دیده بان'!G12","v":7485},{"$f":"'دیده بان'!I12","v":3500},{"$f":"C304-G304","v":14931},{"$f":"IFERROR(-G304/C304,0)","v":-0.189897455374098},{"$f":"IF(C304<=B304,G304,B304+G304-C304)/H304/E304*30","v":3.7682109634141613E-2},{"$f":"IFERROR((G304+B304-C304)/H304/E304*30,0)","v":3.7682109634141613E-2}]
[{"$f":"'دیده بان'!A305","v":" ضملی1178"},{"$f":"'دیده بان'!B305","v":5500},{"$f":"'دیده بان'!C305","v":7300},{"$f":"'دیده بان'!D305","v":"1402/11/02"},{"$f":"'دیده بان'!E305","v":15},{"$f":"'دیده بان'!G305","v":0},{"$f":"'دیده بان'!I305","v":2500},{"$f":"C305-G305","v":4800},{"$f":"IFERROR(-G305/C305,0)","v":-0.34246575342465752},{"$f":"IF(C305<=B305,G305,B305+G305-C305)/H305/E305*30","v":0.29166666666666669},{"$f":"IFERROR((G305+B305-C305)/H305/E305*30,0)","v":0.29166666666666669}]
[{"$f":"'دیده بان'!A306","v":" ضملی1182"},{"$f":"'دیده بان'!B306","v":7500},{"$f":"'دیده بان'!C306","v":7300},{"$f":"'دیده بان'!D306","v":"1402/11/02"},{"$f":"'دیده بان'!E306","v":15},{"$f":"'دیده بان'!G306","v":0},{"$f":"'دیده بان'!I306","v":10},{"$f":"C306-G306","v":7290},{"$f":"IFERROR(-G306/C306,0)","v":-1.3698630136986301E-3},{"$f":"IF(C306<=B306,G306,B306+G306-C306)/H306/E306*30","v":2.7434842249657062E-3},{"$f":"IFERROR((G306+B306-C306)/H306/E306*30,0)","v":5.7613168724279837E-2}]
[{"$f":"'دیده بان'!A156","v":" ضتوان1202"},{"$f":"'دیده بان'!B156","v":17000},{"$f":"'دیده بان'!C156","v":18431},{"$f":"'دیده بان'!D156","v":"1402/12/14"},{"$f":"'دیده بان'!E156","v":57},{"$f":"'دیده بان'!G156","v":5},{"$f":"'دیده بان'!I156","v":2810},{"$f":"C307-G307","v":15621},{"$f":"IFERROR(-G307/C307,0)","v":-0.15246052845749009},{"$f":"IF(C307<=B307,G307,B307+G307-C307)/H307/E307*30","v":4.6462420695487519E-2},{"$f":"IFERROR((G307+B307-C307)/H307/E307*30,0)","v":4.6462420695487519E-2}]
[{"$f":"'دیده بان'!A191","v":" ضکرمان1207"},{"$f":"'دیده بان'!B191","v":1498},{"$f":"'دیده بان'!C191","v":1323},{"$f":"'دیده بان'!D191","v":"1402/12/14"},{"$f":"'دیده بان'!E191","v":57},{"$f":"'دیده بان'!G191","v":1},{"$f":"'دیده بان'!I191","v":140},{"$f":"C308-G308","v":1183},{"$f":"IFERROR(-G308/C308,0)","v":-0.10582010582010581},{"$f":"IF(C308<=B308,G308,B308+G308-C308)/H308/E308*30","v":6.2285892245406413E-2},{"$f":"IFERROR((G308+B308-C308)/H308/E308*30,0)","v":0.14014325755216445}]
[{"$f":"'دیده بان'!A406","v":" ضتوان1204"},{"$f":"'دیده بان'!B406","v":19000},{"$f":"'دیده بان'!C406","v":18431},{"$f":"'دیده بان'!D406","v":"1402/12/14"},{"$f":"'دیده بان'!E406","v":57},{"$f":"'دیده بان'!G406","v":0},{"$f":"'دیده بان'!I406","v":1700},{"$f":"C309-G309","v":16731},{"$f":"IFERROR(-G309/C309,0)","v":-9.2235906895990455E-2},{"$f":"IF(C309<=B309,G309,B309+G309-C309)/H309/E309*30","v":5.3477786271308531E-2},{"$f":"IFERROR((G309+B309-C309)/H309/E309*30,0)","v":7.1377115911528857E-2}]
[{"$f":"'دیده بان'!A396","v":" ضزاگرس1218"},{"$f":"'دیده بان'!B396","v":229000},{"$f":"'دیده بان'!C396","v":126800},{"$f":"'دیده بان'!D396","v":"1402/12/14"},{"$f":"'دیده بان'!E396","v":57},{"$f":"'دیده بان'!G396","v":0},{"$f":"'دیده بان'!I396","v":200},{"$f":"C310-G310","v":126600},{"$f":"IFERROR(-G310/C310,0)","v":-1.5772870662460567E-3},{"$f":"IF(C310<=B310,G310,B310+G310-C310)/H310/E310*30","v":8.3146254261245523E-4},{"$f":"IFERROR((G310+B310-C310)/H310/E310*30,0)","v":0.42570882181757708}]
[{"$f":"'دیده بان'!A381","v":" ضکرمان1206"},{"$f":"'دیده بان'!B381","v":1398},{"$f":"'دیده بان'!C381","v":1323},{"$f":"'دیده بان'!D381","v":"1402/12/14"},{"$f":"'دیده بان'!E381","v":57},{"$f":"'دیده بان'!G381","v":0},{"$f":"'دیده بان'!I381","v":100},{"$f":"C311-G311","v":1223},{"$f":"IFERROR(-G311/C311,0)","v":-7.5585789871504161E-2},{"$f":"IF(C311<=B311,G311,B311+G311-C311)/H311/E311*30","v":4.3034815165468865E-2},{"$f":"IFERROR((G311+B311-C311)/H311/E311*30,0)","v":7.5310926539570514E-2}]
[{"$f":"'دیده بان'!A382","v":" ضکرمان1209"},{"$f":"'دیده بان'!B382","v":1698},{"$f":"'دیده بان'!C382","v":1323},{"$f":"'دیده بان'!D382","v":"1402/12/14"},{"$f":"'دیده بان'!E382","v":57},{"$f":"'دیده بان'!G382","v":0},{"$f":"'دیده بان'!I382","v":200},{"$f":"C312-G312","v":1123},{"$f":"IFERROR(-G312/C312,0)","v":-0.15117157974300832},{"$f":"IF(C312<=B312,G312,B312+G312-C312)/H312/E312*30","v":9.373388948774429E-2},{"$f":"IFERROR((G312+B312-C312)/H312/E312*30,0)","v":0.26948493227726489}]
[{"$f":"'دیده بان'!A383","v":" ضکرمان1210"},{"$f":"'دیده بان'!B383","v":1798},{"$f":"'دیده بان'!C383","v":1323},{"$f":"'دیده بان'!D383","v":"1402/12/14"},{"$f":"'دیده بان'!E383","v":57},{"$f":"'دیده بان'!G383","v":0},{"$f":"'دیده بان'!I383","v":14},{"$f":"C313-G313","v":1309},{"$f":"IFERROR(-G313/C313,0)","v":-1.0582010582010581E-2},{"$f":"IF(C313<=B313,G313,B313+G313-C313)/H313/E313*30","v":5.6290458767238949E-3},{"$f":"IFERROR((G313+B313-C313)/H313/E313*30,0)","v":0.19661453097985607}]
[{"$f":"'دیده بان'!A384","v":" ضکرمان1214"},{"$f":"'دیده بان'!B384","v":2398},{"$f":"'دیده بان'!C384","v":1323},{"$f":"'دیده بان'!D384","v":"1402/12/14"},{"$f":"'دیده بان'!E384","v":57},{"$f":"'دیده بان'!G384","v":0},{"$f":"'دیده بان'!I384","v":10},{"$f":"C314-G314","v":1313},{"$f":"IFERROR(-G314/C314,0)","v":-7.5585789871504159E-3},{"$f":"IF(C314<=B314,G314,B314+G314-C314)/H314/E314*30","v":4.0084980157934821E-3},{"$f":"IFERROR((G314+B314-C314)/H314/E314*30,0)","v":0.43492203471359281}]
[{"$f":"'دیده بان'!A50","v":" ضتوان1205"},{"$f":"'دیده بان'!B50","v":20000},{"$f":"'دیده بان'!C50","v":18431},{"$f":"'دیده بان'!D50","v":"1402/12/14"},{"$f":"'دیده بان'!E50","v":57},{"$f":"'دیده بان'!G50","v":2033},{"$f":"'دیده بان'!I50","v":990},{"$f":"C315-G315","v":17441},{"$f":"IFERROR(-G315/C315,0)","v":-5.3713851662959146E-2},{"$f":"IF(C315<=B315,G315,B315+G315-C315)/H315/E315*30","v":2.9875158051656869E-2},{"$f":"IFERROR((G315+B315-C315)/H315/E315*30,0)","v":7.7222757024434263E-2}]
[{"$f":"'دیده بان'!A407","v":" ضتوان1206"},{"$f":"'دیده بان'!B407","v":22000},{"$f":"'دیده بان'!C407","v":18431},{"$f":"'دیده بان'!D407","v":"1402/12/14"},{"$f":"'دیده بان'!E407","v":57},{"$f":"'دیده بان'!G407","v":0},{"$f":"'دیده بان'!I407","v":500},{"$f":"C316-G316","v":17931},{"$f":"IFERROR(-G316/C316,0)","v":-2.7128207910585428E-2},{"$f":"IF(C316<=B316,G316,B316+G316-C316)/H316/E316*30","v":1.4676141583673086E-2},{"$f":"IFERROR((G316+B316-C316)/H316/E316*30,0)","v":0.11943444020793158}]
[{"$f":"'دیده بان'!A39","v":" ضستا1220"},{"$f":"'دیده بان'!B39","v":1612},{"$f":"'دیده بان'!C39","v":1244},{"$f":"'دیده بان'!D39","v":"1402/12/09"},{"$f":"'دیده بان'!E39","v":52},{"$f":"'دیده بان'!G39","v":220916},{"$f":"'دیده بان'!I39","v":17},{"$f":"C317-G317","v":1227},{"$f":"IFERROR(-G317/C317,0)","v":-1.3665594855305467E-2},{"$f":"IF(C317<=B317,G317,B317+G317-C317)/H317/E317*30","v":7.9932292646229079E-3},{"$f":"IFERROR((G317+B317-C317)/H317/E317*30,0)","v":0.18102313334587172}]
[{"$f":"'دیده بان'!A80","v":" ضستا1219"},{"$f":"'دیده بان'!B80","v":1512},{"$f":"'دیده بان'!C80","v":1244},{"$f":"'دیده بان'!D80","v":"1402/12/09"},{"$f":"'دیده بان'!E80","v":52},{"$f":"'دیده بان'!G80","v":15609},{"$f":"'دیده بان'!I80","v":24},{"$f":"C318-G318","v":1220},{"$f":"IFERROR(-G318/C318,0)","v":-1.9292604501607719E-2},{"$f":"IF(C318<=B318,G318,B318+G318-C318)/H318/E318*30","v":1.1349306431273645E-2},{"$f":"IFERROR((G318+B318-C318)/H318/E318*30,0)","v":0.13808322824716268}]
[{"$f":"'دیده بان'!A58","v":" ضستا1218"},{"$f":"'دیده بان'!B58","v":1412},{"$f":"'دیده بان'!C58","v":1244},{"$f":"'دیده بان'!D58","v":"1402/12/09"},{"$f":"'دیده بان'!E58","v":52},{"$f":"'دیده بان'!G58","v":35940},{"$f":"'دیده بان'!I58","v":35},{"$f":"C319-G319","v":1209},{"$f":"IFERROR(-G319/C319,0)","v":-2.8135048231511254E-2},{"$f":"IF(C319<=B319,G319,B319+G319-C319)/H319/E319*30","v":1.6701660622256153E-2},{"$f":"IFERROR((G319+B319-C319)/H319/E319*30,0)","v":9.686963160908571E-2}]
[{"$f":"'دیده بان'!A23","v":" ضستا1217"},{"$f":"'دیده بان'!B23","v":1312},{"$f":"'دیده بان'!C23","v":1244},{"$f":"'دیده بان'!D23","v":"1402/12/09"},{"$f":"'دیده بان'!E23","v":52},{"$f":"'دیده بان'!G23","v":189518},{"$f":"'دیده بان'!I23","v":61},{"$f":"C320-G320","v":1183},{"$f":"IFERROR(-G320/C320,0)","v":-4.9035369774919617E-2},{"$f":"IF(C320<=B320,G320,B320+G320-C320)/H320/E320*30","v":2.9748358150725015E-2},{"$f":"IFERROR((G320+B320-C320)/H320/E320*30,0)","v":6.2910462318746349E-2}]
[{"$f":"'دیده بان'!A13","v":" ضستا1216"},{"$f":"'دیده بان'!B13","v":1212},{"$f":"'دیده بان'!C13","v":1244},{"$f":"'دیده بان'!D13","v":"1402/12/09"},{"$f":"'دیده بان'!E13","v":52},{"$f":"'دیده بان'!G13","v":197286},{"$f":"'دیده بان'!I13","v":117},{"$f":"C321-G321","v":1127},{"$f":"IFERROR(-G321/C321,0)","v":-9.4051446945337625E-2},{"$f":"IF(C321<=B321,G321,B321+G321-C321)/H321/E321*30","v":4.3512388232885127E-2},{"$f":"IFERROR((G321+B321-C321)/H321/E321*30,0)","v":4.3512388232885127E-2}]
[{"$f":"'دیده بان'!A98","v":" ضپلا1221"},{"$f":"'دیده بان'!B98","v":135200},{"$f":"'دیده بان'!C98","v":142010},{"$f":"'دیده بان'!D98","v":"1402/12/09"},{"$f":"'دیده بان'!E98","v":52},{"$f":"'دیده بان'!G98","v":1075},{"$f":"'دیده بان'!I98","v":17500},{"$f":"C322-G322","v":124510},{"$f":"IFERROR(-G322/C322,0)","v":-0.12323075839729597},{"$f":"IF(C322<=B322,G322,B322+G322-C322)/H322/E322*30","v":4.9532629445889424E-2},{"$f":"IFERROR((G322+B322-C322)/H322/E322*30,0)","v":4.9532629445889424E-2}]
[{"$f":"'دیده بان'!A170","v":" ضپلا1216"},{"$f":"'دیده بان'!B170","v":85200},{"$f":"'دیده بان'!C170","v":142010},{"$f":"'دیده بان'!D170","v":"1402/12/09"},{"$f":"'دیده بان'!E170","v":52},{"$f":"'دیده بان'!G170","v":6},{"$f":"'دیده بان'!I170","v":65999},{"$f":"C323-G323","v":76011},{"$f":"IFERROR(-G323/C323,0)","v":-0.46474896134075067},{"$f":"IF(C323<=B323,G323,B323+G323-C323)/H323/E323*30","v":6.9744460062966598E-2},{"$f":"IFERROR((G323+B323-C323)/H323/E323*30,0)","v":6.9744460062966598E-2}]
[{"$f":"'دیده بان'!A27","v":" ضستا1213"},{"$f":"'دیده بان'!B27","v":912},{"$f":"'دیده بان'!C27","v":1244},{"$f":"'دیده بان'!D27","v":"1402/12/09"},{"$f":"'دیده بان'!E27","v":52},{"$f":"'دیده بان'!G27","v":29749},{"$f":"'دیده بان'!I27","v":385},{"$f":"C324-G324","v":859},{"$f":"IFERROR(-G324/C324,0)","v":-0.30948553054662381},{"$f":"IF(C324<=B324,G324,B324+G324-C324)/H324/E324*30","v":3.5595952359631054E-2},{"$f":"IFERROR((G324+B324-C324)/H324/E324*30,0)","v":3.5595952359631054E-2}]
[{"$f":"'دیده بان'!A21","v":" ضستا1215"},{"$f":"'دیده بان'!B21","v":1112},{"$f":"'دیده بان'!C21","v":1244},{"$f":"'دیده بان'!D21","v":"1402/12/09"},{"$f":"'دیده بان'!E21","v":52},{"$f":"'دیده بان'!G21","v":71198},{"$f":"'دیده بان'!I21","v":196},{"$f":"C325-G325","v":1048},{"$f":"IFERROR(-G325/C325,0)","v":-0.15755627009646303},{"$f":"IF(C325<=B325,G325,B325+G325-C325)/H325/E325*30","v":3.5231943628890192E-2},{"$f":"IFERROR((G325+B325-C325)/H325/E325*30,0)","v":3.5231943628890192E-2}]
[{"$f":"'دیده بان'!A26","v":" ضستا1214"},{"$f":"'دیده بان'!B26","v":1012},{"$f":"'دیده بان'!C26","v":1244},{"$f":"'دیده بان'!D26","v":"1402/12/09"},{"$f":"'دیده بان'!E26","v":52},{"$f":"'دیده بان'!G26","v":39288},{"$f":"'دیده بان'!I26","v":290},{"$f":"C326-G326","v":954},{"$f":"IFERROR(-G326/C326,0)","v":-0.23311897106109325},{"$f":"IF(C326<=B326,G326,B326+G326-C326)/H326/E326*30","v":3.5074987905176581E-2},{"$f":"IFERROR((G326+B326-C326)/H326/E326*30,0)","v":3.5074987905176581E-2}]
[{"$f":"'دیده بان'!A309","v":" ضپلا1224"},{"$f":"'دیده بان'!B309","v":185200},{"$f":"'دیده بان'!C309","v":142010},{"$f":"'دیده بان'!D309","v":"1402/12/09"},{"$f":"'دیده بان'!E309","v":52},{"$f":"'دیده بان'!G309","v":0},{"$f":"'دیده بان'!I309","v":710},{"$f":"C327-G327","v":141300},{"$f":"IFERROR(-G327/C327,0)","v":-4.9996479121188651E-3},{"$f":"IF(C327<=B327,G327,B327+G327-C327)/H327/E327*30","v":2.8989057651478034E-3},{"$f":"IFERROR((G327+B327-C327)/H327/E327*30,0)","v":0.17924220153519518}]
[{"$f":"'دیده بان'!A335","v":" ضستا1211"},{"$f":"'دیده بان'!B335","v":712},{"$f":"'دیده بان'!C335","v":1244},{"$f":"'دیده بان'!D335","v":"1402/12/09"},{"$f":"'دیده بان'!E335","v":52},{"$f":"'دیده بان'!G335","v":0},{"$f":"'دیده بان'!I335","v":578},{"$f":"C328-G328","v":666},{"$f":"IFERROR(-G328/C328,0)","v":-0.46463022508038587},{"$f":"IF(C328<=B328,G328,B328+G328-C328)/H328/E328*30","v":3.9847539847539845E-2},{"$f":"IFERROR((G328+B328-C328)/H328/E328*30,0)","v":3.9847539847539845E-2}]
[{"$f":"'دیده بان'!A42","v":" ضستا1209"},{"$f":"'دیده بان'!B42","v":512},{"$f":"'دیده بان'!C42","v":1244},{"$f":"'دیده بان'!D42","v":"1402/12/09"},{"$f":"'دیده بان'!E42","v":52},{"$f":"'دیده بان'!G42","v":5019},{"$f":"'دیده بان'!I42","v":760},{"$f":"C329-G329","v":484},{"$f":"IFERROR(-G329/C329,0)","v":-0.61093247588424437},{"$f":"IF(C329<=B329,G329,B329+G329-C329)/H329/E329*30","v":3.3375715193897017E-2},{"$f":"IFERROR((G329+B329-C329)/H329/E329*30,0)","v":3.3375715193897017E-2}]
[{"$f":"'دیده بان'!A330","v":" ضسپا1008"},{"$f":"'دیده بان'!B330","v":4000},{"$f":"'دیده بان'!C330","v":2469},{"$f":"'دیده بان'!D330","v":"1402/10/20"},{"$f":"'دیده بان'!E330","v":3},{"$f":"'دیده بان'!G330","v":0},{"$f":"'دیده بان'!I330","v":1},{"$f":"C330-G330","v":2468},{"$f":"IFERROR(-G330/C330,0)","v":-4.050222762251924E-4},{"$f":"IF(C330<=B330,G330,B330+G330-C330)/H330/E330*30","v":4.0518638573743921E-3},{"$f":"IFERROR((G330+B330-C330)/H330/E330*30,0)","v":6.2074554294975695}]
[{"$f":"'دیده بان'!A331","v":" ضسپا1009"},{"$f":"'دیده بان'!B331","v":4500},{"$f":"'دیده بان'!C331","v":2469},{"$f":"'دیده بان'!D331","v":"1402/10/20"},{"$f":"'دیده بان'!E331","v":3},{"$f":"'دیده بان'!G331","v":0},{"$f":"'دیده بان'!I331","v":1},{"$f":"C331-G331","v":2468},{"$f":"IFERROR(-G331/C331,0)","v":-4.050222762251924E-4},{"$f":"IF(C331<=B331,G331,B331+G331-C331)/H331/E331*30","v":4.0518638573743921E-3},{"$f":"IFERROR((G331+B331-C331)/H331/E331*30,0)","v":8.2333873581847659}]
[{"$f":"'دیده بان'!A95","v":" ضستا1210"},{"$f":"'دیده بان'!B95","v":612},{"$f":"'دیده بان'!C95","v":1244},{"$f":"'دیده بان'!D95","v":"1402/12/09"},{"$f":"'دیده بان'!E95","v":52},{"$f":"'دیده بان'!G95","v":346},{"$f":"'دیده بان'!I95","v":645},{"$f":"C332-G332","v":599},{"$f":"IFERROR(-G332/C332,0)","v":-0.51848874598070738},{"$f":"IF(C332<=B332,G332,B332+G332-C332)/H332/E332*30","v":1.2520868113522538E-2},{"$f":"IFERROR((G332+B332-C332)/H332/E332*30,0)","v":1.2520868113522538E-2}]
[{"$f":"'دیده بان'!A105","v":" ضپلا1222"},{"$f":"'دیده بان'!B105","v":145200},{"$f":"'دیده بان'!C105","v":142010},{"$f":"'دیده بان'!D105","v":"1402/12/09"},{"$f":"'دیده بان'!E105","v":52},{"$f":"'دیده بان'!G105","v":3900},{"$f":"'دیده بان'!I105","v":4100},{"$f":"C333-G333","v":137910},{"$f":"IFERROR(-G333/C333,0)","v":-2.8871206253080768E-2},{"$f":"IF(C333<=B333,G333,B333+G333-C333)/H333/E333*30","v":1.7151654088787001E-2},{"$f":"IFERROR((G333+B333-C333)/H333/E333*30,0)","v":3.04964776359164E-2}]
[{"$f":"'دیده بان'!A36","v":" ضستا1212"},{"$f":"'دیده بان'!B36","v":812},{"$f":"'دیده بان'!C36","v":1244},{"$f":"'دیده بان'!D36","v":"1402/12/09"},{"$f":"'دیده بان'!E36","v":52},{"$f":"'دیده بان'!G36","v":11635},{"$f":"'دیده بان'!I36","v":473},{"$f":"C334-G334","v":771},{"$f":"IFERROR(-G334/C334,0)","v":-0.38022508038585207},{"$f":"IF(C334<=B334,G334,B334+G334-C334)/H334/E334*30","v":3.0679437294223288E-2},{"$f":"IFERROR((G334+B334-C334)/H334/E334*30,0)","v":3.0679437294223288E-2}]
[{"$f":"'دیده بان'!A174","v":" ضخوز1206"},{"$f":"'دیده بان'!B174","v":3250},{"$f":"'دیده بان'!C174","v":3527},{"$f":"'دیده بان'!D174","v":"1402/12/07"},{"$f":"'دیده بان'!E174","v":50},{"$f":"'دیده بان'!G174","v":7},{"$f":"'دیده بان'!I174","v":420},{"$f":"C335-G335","v":3107},{"$f":"IFERROR(-G335/C335,0)","v":-0.11908137227105188},{"$f":"IF(C335<=B335,G335,B335+G335-C335)/H335/E335*30","v":2.7615062761506277E-2},{"$f":"IFERROR((G335+B335-C335)/H335/E335*30,0)","v":2.7615062761506277E-2}]
[{"$f":"'دیده بان'!A336","v":" ضستا1109"},{"$f":"'دیده بان'!B336","v":800},{"$f":"'دیده بان'!C336","v":1244},{"$f":"'دیده بان'!D336","v":"1402/11/11"},{"$f":"'دیده بان'!E336","v":24},{"$f":"'دیده بان'!G336","v":0},{"$f":"'دیده بان'!I336","v":450},{"$f":"C336-G336","v":794},{"$f":"IFERROR(-G336/C336,0)","v":-0.36173633440514469},{"$f":"IF(C336<=B336,G336,B336+G336-C336)/H336/E336*30","v":9.4458438287153643E-3},{"$f":"IFERROR((G336+B336-C336)/H336/E336*30,0)","v":9.4458438287153643E-3}]
[{"$f":"'دیده بان'!A337","v":" ضستا1110"},{"$f":"'دیده بان'!B337","v":900},{"$f":"'دیده بان'!C337","v":1244},{"$f":"'دیده بان'!D337","v":"1402/11/11"},{"$f":"'دیده بان'!E337","v":24},{"$f":"'دیده بان'!G337","v":0},{"$f":"'دیده بان'!I337","v":365},{"$f":"C337-G337","v":879},{"$f":"IFERROR(-G337/C337,0)","v":-0.29340836012861737},{"$f":"IF(C337<=B337,G337,B337+G337-C337)/H337/E337*30","v":2.9863481228668946E-2},{"$f":"IFERROR((G337+B337-C337)/H337/E337*30,0)","v":2.9863481228668946E-2}]
[{"$f":"'دیده بان'!A338","v":" ضستا1111"},{"$f":"'دیده بان'!B338","v":1000},{"$f":"'دیده بان'!C338","v":1244},{"$f":"'دیده بان'!D338","v":"1402/11/11"},{"$f":"'دیده بان'!E338","v":24},{"$f":"'دیده بان'!G338","v":0},{"$f":"'دیده بان'!I338","v":409},{"$f":"C338-G338","v":835},{"$f":"IFERROR(-G338/C338,0)","v":-0.3287781350482315},{"$f":"IF(C338<=B338,G338,B338+G338-C338)/H338/E338*30","v":0.24700598802395213},{"$f":"IFERROR((G338+B338-C338)/H338/E338*30,0)","v":0.24700598802395213}]
[{"$f":"'دیده بان'!A339","v":" ضستا1113"},{"$f":"'دیده بان'!B339","v":1200},{"$f":"'دیده بان'!C339","v":1244},{"$f":"'دیده بان'!D339","v":"1402/11/11"},{"$f":"'دیده بان'!E339","v":24},{"$f":"'دیده بان'!G339","v":0},{"$f":"'دیده بان'!I339","v":22},{"$f":"C339-G339","v":1222},{"$f":"IFERROR(-G339/C339,0)","v":-1.7684887459807074E-2},{"$f":"IF(C339<=B339,G339,B339+G339-C339)/H339/E339*30","v":-2.2504091653027823E-2},{"$f":"IFERROR((G339+B339-C339)/H339/E339*30,0)","v":-2.2504091653027823E-2}]
[{"$f":"'دیده بان'!A236","v":" ضبرک1202"},{"$f":"'دیده بان'!B236","v":4500},{"$f":"'دیده بان'!C236","v":6880},{"$f":"'دیده بان'!D236","v":"1402/12/07"},{"$f":"'دیده بان'!E236","v":50},{"$f":"'دیده بان'!G236","v":0},{"$f":"'دیده بان'!I236","v":2930},{"$f":"C340-G340","v":3950},{"$f":"IFERROR(-G340/C340,0)","v":-0.42587209302325579},{"$f":"IF(C340<=B340,G340,B340+G340-C340)/H340/E340*30","v":8.3544303797468356E-2},{"$f":"IFERROR((G340+B340-C340)/H340/E340*30,0)","v":8.3544303797468356E-2}]
[{"$f":"'دیده بان'!A237","v":" ضبرک1203"},{"$f":"'دیده بان'!B237","v":5000},{"$f":"'دیده بان'!C237","v":6880},{"$f":"'دیده بان'!D237","v":"1402/12/07"},{"$f":"'دیده بان'!E237","v":50},{"$f":"'دیده بان'!G237","v":0},{"$f":"'دیده بان'!I237","v":1520},{"$f":"C341-G341","v":5360},{"$f":"IFERROR(-G341/C341,0)","v":-0.22093023255813954},{"$f":"IF(C341<=B341,G341,B341+G341-C341)/H341/E341*30","v":-4.0298507462686567E-2},{"$f":"IFERROR((G341+B341-C341)/H341/E341*30,0)","v":-4.0298507462686567E-2}]
[{"$f":"'دیده بان'!A238","v":" ضبرک1204"},{"$f":"'دیده بان'!B238","v":5500},{"$f":"'دیده بان'!C238","v":6880},{"$f":"'دیده بان'!D238","v":"1402/12/07"},{"$f":"'دیده بان'!E238","v":50},{"$f":"'دیده بان'!G238","v":0},{"$f":"'دیده بان'!I238","v":1800},{"$f":"C342-G342","v":5080},{"$f":"IFERROR(-G342/C342,0)","v":-0.26162790697674421},{"$f":"IF(C342<=B342,G342,B342+G342-C342)/H342/E342*30","v":4.9606299212598431E-2},{"$f":"IFERROR((G342+B342-C342)/H342/E342*30,0)","v":4.9606299212598431E-2}]
[{"$f":"'دیده بان'!A239","v":" ضبرک1205"},{"$f":"'دیده بان'!B239","v":6000},{"$f":"'دیده بان'!C239","v":6880},{"$f":"'دیده بان'!D239","v":"1402/12/07"},{"$f":"'دیده بان'!E239","v":50},{"$f":"'دیده بان'!G239","v":0},{"$f":"'دیده بان'!I239","v":1300},{"$f":"C343-G343","v":5580},{"$f":"IFERROR(-G343/C343,0)","v":-0.18895348837209303},{"$f":"IF(C343<=B343,G343,B343+G343-C343)/H343/E343*30","v":4.5161290322580643E-2},{"$f":"IFERROR((G343+B343-C343)/H343/E343*30,0)","v":4.5161290322580643E-2}]
[{"$f":"'دیده بان'!A240","v":" ضبرک1206"},{"$f":"'دیده بان'!B240","v":6500},{"$f":"'دیده بان'!C240","v":6880},{"$f":"'دیده بان'!D240","v":"1402/12/07"},{"$f":"'دیده بان'!E240","v":50},{"$f":"'دیده بان'!G240","v":0},{"$f":"'دیده بان'!I240","v":930},{"$f":"C344-G344","v":5950},{"$f":"IFERROR(-G344/C344,0)","v":-0.13517441860465115},{"$f":"IF(C344<=B344,G344,B344+G344-C344)/H344/E344*30","v":5.5462184873949577E-2},{"$f":"IFERROR((G344+B344-C344)/H344/E344*30,0)","v":5.5462184873949577E-2}]
[{"$f":"'دیده بان'!A241","v":" ضبرک1207"},{"$f":"'دیده بان'!B241","v":7000},{"$f":"'دیده بان'!C241","v":6880},{"$f":"'دیده بان'!D241","v":"1402/12/07"},{"$f":"'دیده بان'!E241","v":50},{"$f":"'دیده بان'!G241","v":0},{"$f":"'دیده بان'!I241","v":700},{"$f":"C345-G345","v":6180},{"$f":"IFERROR(-G345/C345,0)","v":-0.10174418604651163},{"$f":"IF(C345<=B345,G345,B345+G345-C345)/H345/E345*30","v":6.7961165048543687E-2},{"$f":"IFERROR((G345+B345-C345)/H345/E345*30,0)","v":7.9611650485436905E-2}]
[{"$f":"'دیده بان'!A242","v":" ضبرک1208"},{"$f":"'دیده بان'!B242","v":7500},{"$f":"'دیده بان'!C242","v":6880},{"$f":"'دیده بان'!D242","v":"1402/12/07"},{"$f":"'دیده بان'!E242","v":50},{"$f":"'دیده بان'!G242","v":0},{"$f":"'دیده بان'!I242","v":1},{"$f":"C346-G346","v":6879},{"$f":"IFERROR(-G346/C346,0)","v":-1.4534883720930232E-4},{"$f":"IF(C346<=B346,G346,B346+G346-C346)/H346/E346*30","v":8.7221979938944603E-5},{"$f":"IFERROR((G346+B346-C346)/H346/E346*30,0)","v":5.41648495420846E-2}]
[{"$f":"'دیده بان'!A347","v":" ضذوب1114"},{"$f":"'دیده بان'!B347","v":2200},{"$f":"'دیده بان'!C347","v":4546},{"$f":"'دیده بان'!D347","v":"1402/11/02"},{"$f":"'دیده بان'!E347","v":15},{"$f":"'دیده بان'!G347","v":0},{"$f":"'دیده بان'!I347","v":2200},{"$f":"C347-G347","v":2346},{"$f":"IFERROR(-G347/C347,0)","v":-0.48394192696876376},{"$f":"IF(C347<=B347,G347,B347+G347-C347)/H347/E347*30","v":-0.12446717817561807},{"$f":"IFERROR((G347+B347-C347)/H347/E347*30,0)","v":-0.12446717817561807}]
[{"$f":"'دیده بان'!A243","v":" ضبرک1209"},{"$f":"'دیده بان'!B243","v":8000},{"$f":"'دیده بان'!C243","v":6880},{"$f":"'دیده بان'!D243","v":"1402/12/07"},{"$f":"'دیده بان'!E243","v":50},{"$f":"'دیده بان'!G243","v":0},{"$f":"'دیده بان'!I243","v":400},{"$f":"C348-G348","v":6480},{"$f":"IFERROR(-G348/C348,0)","v":-5.8139534883720929E-2},{"$f":"IF(C348<=B348,G348,B348+G348-C348)/H348/E348*30","v":3.7037037037037035E-2},{"$f":"IFERROR((G348+B348-C348)/H348/E348*30,0)","v":0.14074074074074075}]
[{"$f":"'دیده بان'!A349","v":" ضذوب1117"},{"$f":"'دیده بان'!B349","v":2800},{"$f":"'دیده بان'!C349","v":4546},{"$f":"'دیده بان'!D349","v":"1402/11/02"},{"$f":"'دیده بان'!E349","v":15},{"$f":"'دیده بان'!G349","v":0},{"$f":"'دیده بان'!I349","v":1300},{"$f":"C349-G349","v":3246},{"$f":"IFERROR(-G349/C349,0)","v":-0.28596568411790585},{"$f":"IF(C349<=B349,G349,B349+G349-C349)/H349/E349*30","v":-0.27479975354282193},{"$f":"IFERROR((G349+B349-C349)/H349/E349*30,0)","v":-0.27479975354282193}]
[{"$f":"'دیده بان'!A244","v":" ضبرک1210"},{"$f":"'دیده بان'!B244","v":9000},{"$f":"'دیده بان'!C244","v":6880},{"$f":"'دیده بان'!D244","v":"1402/12/07"},{"$f":"'دیده بان'!E244","v":50},{"$f":"'دیده بان'!G244","v":0},{"$f":"'دیده بان'!I244","v":150},{"$f":"C350-G350","v":6730},{"$f":"IFERROR(-G350/C350,0)","v":-2.1802325581395349E-2},{"$f":"IF(C350<=B350,G350,B350+G350-C350)/H350/E350*30","v":1.3372956909361069E-2},{"$f":"IFERROR((G350+B350-C350)/H350/E350*30,0)","v":0.20237741456166422}]
[{"$f":"'دیده بان'!A275","v":" ضخوز1210"},{"$f":"'دیده بان'!B275","v":4500},{"$f":"'دیده بان'!C275","v":3527},{"$f":"'دیده بان'!D275","v":"1402/12/07"},{"$f":"'دیده بان'!E275","v":50},{"$f":"'دیده بان'!G275","v":0},{"$f":"'دیده بان'!I275","v":20},{"$f":"C351-G351","v":3507},{"$f":"IFERROR(-G351/C351,0)","v":-5.6705415367167564E-3},{"$f":"IF(C351<=B351,G351,B351+G351-C351)/H351/E351*30","v":3.4217279726261761E-3},{"$f":"IFERROR((G351+B351-C351)/H351/E351*30,0)","v":0.16988879384088965}]
[{"$f":"'دیده بان'!A427","v":" ضخوز1200"},{"$f":"'دیده بان'!B427","v":2000},{"$f":"'دیده بان'!C427","v":3527},{"$f":"'دیده بان'!D427","v":"1402/12/07"},{"$f":"'دیده بان'!E427","v":50},{"$f":"'دیده بان'!G427","v":0},{"$f":"'دیده بان'!I427","v":1250},{"$f":"C352-G352","v":2277},{"$f":"IFERROR(-G352/C352,0)","v":-0.35440884604479728},{"$f":"IF(C352<=B352,G352,B352+G352-C352)/H352/E352*30","v":-7.299077733860343E-2},{"$f":"IFERROR((G352+B352-C352)/H352/E352*30,0)","v":-7.299077733860343E-2}]
[{"$f":"'دیده بان'!A111","v":" ضشنا1207"},{"$f":"'دیده بان'!B111","v":10000},{"$f":"'دیده بان'!C111","v":8210},{"$f":"'دیده بان'!D111","v":"1402/12/02"},{"$f":"'دیده بان'!E111","v":45},{"$f":"'دیده بان'!G111","v":2326},{"$f":"'دیده بان'!I111","v":50},{"$f":"C353-G353","v":8160},{"$f":"IFERROR(-G353/C353,0)","v":-6.0901339829476245E-3},{"$f":"IF(C353<=B353,G353,B353+G353-C353)/H353/E353*30","v":4.0849673202614373E-3},{"$f":"IFERROR((G353+B353-C353)/H353/E353*30,0)","v":0.15032679738562091}]
[{"$f":"'دیده بان'!A94","v":" ضشنا1206"},{"$f":"'دیده بان'!B94","v":9000},{"$f":"'دیده بان'!C94","v":8210},{"$f":"'دیده بان'!D94","v":"1402/12/02"},{"$f":"'دیده بان'!E94","v":45},{"$f":"'دیده بان'!G94","v":1015},{"$f":"'دیده بان'!I94","v":230},{"$f":"C354-G354","v":7980},{"$f":"IFERROR(-G354/C354,0)","v":-2.8014616321559074E-2},{"$f":"IF(C354<=B354,G354,B354+G354-C354)/H354/E354*30","v":1.921470342522974E-2},{"$f":"IFERROR((G354+B354-C354)/H354/E354*30,0)","v":8.5213032581453629E-2}]
[{"$f":"'دیده بان'!A436","v":" ضستر1208"},{"$f":"'دیده بان'!B436","v":5500},{"$f":"'دیده بان'!C436","v":4690},{"$f":"'دیده بان'!D436","v":"1402/12/02"},{"$f":"'دیده بان'!E436","v":45},{"$f":"'دیده بان'!G436","v":0},{"$f":"'دیده بان'!I436","v":130},{"$f":"C355-G355","v":4560},{"$f":"IFERROR(-G355/C355,0)","v":-2.7718550106609809E-2},{"$f":"IF(C355<=B355,G355,B355+G355-C355)/H355/E355*30","v":1.9005847953216373E-2},{"$f":"IFERROR((G355+B355-C355)/H355/E355*30,0)","v":0.13742690058479534}]
[{"$f":"'دیده بان'!A11","v":" ضسپا1002"},{"$f":"'دیده بان'!B11","v":2600},{"$f":"'دیده بان'!C11","v":2469},{"$f":"'دیده بان'!D11","v":"1402/10/20"},{"$f":"'دیده بان'!E11","v":3},{"$f":"'دیده بان'!G11","v":"2M"},{"$f":"'دیده بان'!I11","v":9},{"$f":"C356-G356","v":2460},{"$f":"IFERROR(-G356/C356,0)","v":-3.6452004860267314E-3},{"$f":"IF(C356<=B356,G356,B356+G356-C356)/H356/E356*30","v":3.6585365853658534E-2},{"$f":"IFERROR((G356+B356-C356)/H356/E356*30,0)","v":0.56910569105691056}]
[{"$f":"'دیده بان'!A10","v":" ضخود1217"},{"$f":"'دیده بان'!B10","v":2400},{"$f":"'دیده بان'!C10","v":2829},{"$f":"'دیده بان'!D10","v":"1402/12/02"},{"$f":"'دیده بان'!E10","v":45},{"$f":"'دیده بان'!G10","v":54594},{"$f":"'دیده بان'!I10","v":541},{"$f":"C357-G357","v":2288},{"$f":"IFERROR(-G357/C357,0)","v":-0.19123365146694946},{"$f":"IF(C357<=B357,G357,B357+G357-C357)/H357/E357*30","v":3.2634032634032632E-2},{"$f":"IFERROR((G357+B357-C357)/H357/E357*30,0)","v":3.2634032634032632E-2}]
[{"$f":"'دیده بان'!A358","v":" ضسامان1105"},{"$f":"'دیده بان'!B358","v":3400},{"$f":"'دیده بان'!C358","v":3379},{"$f":"'دیده بان'!D358","v":"1402/11/04"},{"$f":"'دیده بان'!E358","v":17},{"$f":"'دیده بان'!G358","v":0},{"$f":"'دیده بان'!I358","v":60},{"$f":"C358-G358","v":3319},{"$f":"IFERROR(-G358/C358,0)","v":-1.7756732761171946E-2},{"$f":"IF(C358<=B358,G358,B358+G358-C358)/H358/E358*30","v":3.1901883983481913E-2},{"$f":"IFERROR((G358+B358-C358)/H358/E358*30,0)","v":4.3067543377700579E-2}]
[{"$f":"'دیده بان'!A99","v":" ضشنا1205"},{"$f":"'دیده بان'!B99","v":8000},{"$f":"'دیده بان'!C99","v":8210},{"$f":"'دیده بان'!D99","v":"1402/12/02"},{"$f":"'دیده بان'!E99","v":45},{"$f":"'دیده بان'!G99","v":273},{"$f":"'دیده بان'!I99","v":650},{"$f":"C359-G359","v":7560},{"$f":"IFERROR(-G359/C359,0)","v":-7.9171741778319121E-2},{"$f":"IF(C359<=B359,G359,B359+G359-C359)/H359/E359*30","v":3.8800705467372132E-2},{"$f":"IFERROR((G359+B359-C359)/H359/E359*30,0)","v":3.8800705467372132E-2}]
[{"$f":"'دیده بان'!A360","v":" ضبساما1101"},{"$f":"'دیده بان'!B360","v":9000},{"$f":"'دیده بان'!C360","v":9700},{"$f":"'دیده بان'!D360","v":"1402/11/04"},{"$f":"'دیده بان'!E360","v":17},{"$f":"'دیده بان'!G360","v":0},{"$f":"'دیده بان'!I360","v":1696},{"$f":"C360-G360","v":8004},{"$f":"IFERROR(-G360/C360,0)","v":-0.17484536082474228},{"$f":"IF(C360<=B360,G360,B360+G360-C360)/H360/E360*30","v":0.21959608431078581},{"$f":"IFERROR((G360+B360-C360)/H360/E360*30,0)","v":0.21959608431078581}]
[{"$f":"'دیده بان'!A361","v":" ضبساما1104"},{"$f":"'دیده بان'!B361","v":11000},{"$f":"'دیده بان'!C361","v":9700},{"$f":"'دیده بان'!D361","v":"1402/11/04"},{"$f":"'دیده بان'!E361","v":17},{"$f":"'دیده بان'!G361","v":0},{"$f":"'دیده بان'!I361","v":150},{"$f":"C361-G361","v":9550},{"$f":"IFERROR(-G361/C361,0)","v":-1.5463917525773196E-2},{"$f":"IF(C361<=B361,G361,B361+G361-C361)/H361/E361*30","v":2.7717893440098548E-2},{"$f":"IFERROR((G361+B361-C361)/H361/E361*30,0)","v":0.26793963658761932}]
[{"$f":"'دیده بان'!A362","v":" ضبساما1110"},{"$f":"'دیده بان'!B362","v":17000},{"$f":"'دیده بان'!C362","v":9700},{"$f":"'دیده بان'!D362","v":"1402/11/04"},{"$f":"'دیده بان'!E362","v":17},{"$f":"'دیده بان'!G362","v":0},{"$f":"'دیده بان'!I362","v":100},{"$f":"C362-G362","v":9600},{"$f":"IFERROR(-G362/C362,0)","v":-1.0309278350515464E-2},{"$f":"IF(C362<=B362,G362,B362+G362-C362)/H362/E362*30","v":1.8382352941176471E-2},{"$f":"IFERROR((G362+B362-C362)/H362/E362*30,0)","v":1.3602941176470589}]
[{"$f":"'دیده بان'!A32","v":" ضخود1216"},{"$f":"'دیده بان'!B32","v":2200},{"$f":"'دیده بان'!C32","v":2829},{"$f":"'دیده بان'!D32","v":"1402/12/02"},{"$f":"'دیده بان'!E32","v":45},{"$f":"'دیده بان'!G32","v":9933},{"$f":"'دیده بان'!I32","v":729},{"$f":"C363-G363","v":2100},{"$f":"IFERROR(-G363/C363,0)","v":-0.25768822905620359},{"$f":"IF(C363<=B363,G363,B363+G363-C363)/H363/E363*30","v":3.1746031746031744E-2},{"$f":"IFERROR((G363+B363-C363)/H363/E363*30,0)","v":3.1746031746031744E-2}]
[{"$f":"'دیده بان'!A38","v":" ضخود1119"},{"$f":"'دیده بان'!B38","v":2400},{"$f":"'دیده بان'!C38","v":2829},{"$f":"'دیده بان'!D38","v":"1402/11/11"},{"$f":"'دیده بان'!E38","v":24},{"$f":"'دیده بان'!G38","v":8582},{"$f":"'دیده بان'!I38","v":488},{"$f":"C364-G364","v":2341},{"$f":"IFERROR(-G364/C364,0)","v":-0.17249911629551079},{"$f":"IF(C364<=B364,G364,B364+G364-C364)/H364/E364*30","v":3.1503630926954296E-2},{"$f":"IFERROR((G364+B364-C364)/H364/E364*30,0)","v":3.1503630926954296E-2}]
[{"$f":"'دیده بان'!A37","v":" ضخود1215"},{"$f":"'دیده بان'!B37","v":2000},{"$f":"'دیده بان'!C37","v":2829},{"$f":"'دیده بان'!D37","v":"1402/12/02"},{"$f":"'دیده بان'!E37","v":45},{"$f":"'دیده بان'!G37","v":5787},{"$f":"'دیده بان'!I37","v":909},{"$f":"C365-G365","v":1920},{"$f":"IFERROR(-G365/C365,0)","v":-0.3213149522799576},{"$f":"IF(C365<=B365,G365,B365+G365-C365)/H365/E365*30","v":2.7777777777777776E-2},{"$f":"IFERROR((G365+B365-C365)/H365/E365*30,0)","v":2.7777777777777776E-2}]
[{"$f":"'دیده بان'!A68","v":" ضخود1118"},{"$f":"'دیده بان'!B68","v":2200},{"$f":"'دیده بان'!C68","v":2829},{"$f":"'دیده بان'!D68","v":"1402/11/11"},{"$f":"'دیده بان'!E68","v":24},{"$f":"'دیده بان'!G68","v":1090},{"$f":"'دیده بان'!I68","v":670},{"$f":"C366-G366","v":2159},{"$f":"IFERROR(-G366/C366,0)","v":-0.23683280311063981},{"$f":"IF(C366<=B366,G366,B366+G366-C366)/H366/E366*30","v":2.3737841593330245E-2},{"$f":"IFERROR((G366+B366-C366)/H366/E366*30,0)","v":2.3737841593330245E-2}]
[{"$f":"'دیده بان'!A168","v":" ضشنا1202"},{"$f":"'دیده بان'!B168","v":6500},{"$f":"'دیده بان'!C168","v":8210},{"$f":"'دیده بان'!D168","v":"1402/12/02"},{"$f":"'دیده بان'!E168","v":45},{"$f":"'دیده بان'!G168","v":2},{"$f":"'دیده بان'!I168","v":2000},{"$f":"C367-G367","v":6210},{"$f":"IFERROR(-G367/C367,0)","v":-0.243605359317905},{"$f":"IF(C367<=B367,G367,B367+G367-C367)/H367/E367*30","v":3.1132581857219538E-2},{"$f":"IFERROR((G367+B367-C367)/H367/E367*30,0)","v":3.1132581857219538E-2}]
[{"$f":"'دیده بان'!A282","v":" ضستر1206"},{"$f":"'دیده بان'!B282","v":4500},{"$f":"'دیده بان'!C282","v":4690},{"$f":"'دیده بان'!D282","v":"1402/12/02"},{"$f":"'دیده بان'!E282","v":45},{"$f":"'دیده بان'!G282","v":0},{"$f":"'دیده بان'!I282","v":554},{"$f":"C368-G368","v":4136},{"$f":"IFERROR(-G368/C368,0)","v":-0.11812366737739873},{"$f":"IF(C368<=B368,G368,B368+G368-C368)/H368/E368*30","v":5.8671824629271438E-2},{"$f":"IFERROR((G368+B368-C368)/H368/E368*30,0)","v":5.8671824629271438E-2}]
[{"$f":"'دیده بان'!A194","v":" ضخود1225"},{"$f":"'دیده بان'!B194","v":4500},{"$f":"'دیده بان'!C194","v":2829},{"$f":"'دیده بان'!D194","v":"1402/12/02"},{"$f":"'دیده بان'!E194","v":45},{"$f":"'دیده بان'!G194","v":3},{"$f":"'دیده بان'!I194","v":14},{"$f":"C369-G369","v":2815},{"$f":"IFERROR(-G369/C369,0)","v":-4.9487451396253096E-3},{"$f":"IF(C369<=B369,G369,B369+G369-C369)/H369/E369*30","v":3.3155713439905268E-3},{"$f":"IFERROR((G369+B369-C369)/H369/E369*30,0)","v":0.39905269390171699}]
[{"$f":"'دیده بان'!A281","v":" ضستر1209"},{"$f":"'دیده بان'!B281","v":6000},{"$f":"'دیده بان'!C281","v":4690},{"$f":"'دیده بان'!D281","v":"1402/12/02"},{"$f":"'دیده بان'!E281","v":45},{"$f":"'دیده بان'!G281","v":0},{"$f":"'دیده بان'!I281","v":55},{"$f":"C370-G370","v":4635},{"$f":"IFERROR(-G370/C370,0)","v":-1.1727078891257996E-2},{"$f":"IF(C370<=B370,G370,B370+G370-C370)/H370/E370*30","v":7.9108234448040278E-3},{"$f":"IFERROR((G370+B370-C370)/H370/E370*30,0)","v":0.19633225458468176}]
[{"$f":"'دیده بان'!A283","v":" ضستر1207"},{"$f":"'دیده بان'!B283","v":5000},{"$f":"'دیده بان'!C283","v":4690},{"$f":"'دیده بان'!D283","v":"1402/12/02"},{"$f":"'دیده بان'!E283","v":45},{"$f":"'دیده بان'!G283","v":0},{"$f":"'دیده بان'!I283","v":280},{"$f":"C371-G371","v":4410},{"$f":"IFERROR(-G371/C371,0)","v":-5.9701492537313432E-2},{"$f":"IF(C371<=B371,G371,B371+G371-C371)/H371/E371*30","v":4.2328042328042326E-2},{"$f":"IFERROR((G371+B371-C371)/H371/E371*30,0)","v":8.919123204837491E-2}]
[{"$f":"'دیده بان'!A290","v":" ضخود1222"},{"$f":"'دیده بان'!B290","v":3500},{"$f":"'دیده بان'!C290","v":2829},{"$f":"'دیده بان'!D290","v":"1402/12/02"},{"$f":"'دیده بان'!E290","v":45},{"$f":"'دیده بان'!G290","v":0},{"$f":"'دیده بان'!I290","v":53},{"$f":"C372-G372","v":2776},{"$f":"IFERROR(-G372/C372,0)","v":-1.8734535171438672E-2},{"$f":"IF(C372<=B372,G372,B372+G372-C372)/H372/E372*30","v":1.2728146013448606E-2},{"$f":"IFERROR((G372+B372-C372)/H372/E372*30,0)","v":0.17387127761767535}]
[{"$f":"'دیده بان'!A291","v":" ضخود1223"},{"$f":"'دیده بان'!B291","v":3750},{"$f":"'دیده بان'!C291","v":2829},{"$f":"'دیده بان'!D291","v":"1402/12/02"},{"$f":"'دیده بان'!E291","v":45},{"$f":"'دیده بان'!G291","v":0},{"$f":"'دیده بان'!I291","v":24},{"$f":"C373-G373","v":2805},{"$f":"IFERROR(-G373/C373,0)","v":-8.483563096500531E-3},{"$f":"IF(C373<=B373,G373,B373+G373-C373)/H373/E373*30","v":5.7040998217468813E-3},{"$f":"IFERROR((G373+B373-C373)/H373/E373*30,0)","v":0.22459893048128343}]
[{"$f":"'دیده بان'!A292","v":" ضخود1224"},{"$f":"'دیده بان'!B292","v":4000},{"$f":"'دیده بان'!C292","v":2829},{"$f":"'دیده بان'!D292","v":"1402/12/02"},{"$f":"'دیده بان'!E292","v":45},{"$f":"'دیده بان'!G292","v":0},{"$f":"'دیده بان'!I292","v":22},{"$f":"C374-G374","v":2807},{"$f":"IFERROR(-G374/C374,0)","v":-7.7765995051254861E-3},{"$f":"IF(C374<=B374,G374,B374+G374-C374)/H374/E374*30","v":5.225032656454103E-3},{"$f":"IFERROR((G374+B374-C374)/H374/E374*30,0)","v":0.28333927087044292}]
[{"$f":"'دیده بان'!A310","v":" ضشنا1203"},{"$f":"'دیده بان'!B310","v":7000},{"$f":"'دیده بان'!C310","v":8210},{"$f":"'دیده بان'!D310","v":"1402/12/02"},{"$f":"'دیده بان'!E310","v":45},{"$f":"'دیده بان'!G310","v":0},{"$f":"'دیده بان'!I310","v":1700},{"$f":"C375-G375","v":6510},{"$f":"IFERROR(-G375/C375,0)","v":-0.20706455542021923},{"$f":"IF(C375<=B375,G375,B375+G375-C375)/H375/E375*30","v":5.0179211469534052E-2},{"$f":"IFERROR((G375+B375-C375)/H375/E375*30,0)","v":5.0179211469534052E-2}]
[{"$f":"'دیده بان'!A312","v":" ضشنا1210"},{"$f":"'دیده بان'!B312","v":13000},{"$f":"'دیده بان'!C312","v":8210},{"$f":"'دیده بان'!D312","v":"1402/12/02"},{"$f":"'دیده بان'!E312","v":45},{"$f":"'دیده بان'!G312","v":0},{"$f":"'دیده بان'!I312","v":35},{"$f":"C376-G376","v":8175},{"$f":"IFERROR(-G376/C376,0)","v":-4.2630937880633376E-3},{"$f":"IF(C376<=B376,G376,B376+G376-C376)/H376/E376*30","v":2.8542303771661569E-3},{"$f":"IFERROR((G376+B376-C376)/H376/E376*30,0)","v":0.39347604485219168}]
[{"$f":"'دیده بان'!A311","v":" ضشنا1208"},{"$f":"'دیده بان'!B311","v":11000},{"$f":"'دیده بان'!C311","v":8210},{"$f":"'دیده بان'!D311","v":"1402/12/02"},{"$f":"'دیده بان'!E311","v":45},{"$f":"'دیده بان'!G311","v":0},{"$f":"'دیده بان'!I311","v":20},{"$f":"C377-G377","v":8190},{"$f":"IFERROR(-G377/C377,0)","v":-2.4360535931790498E-3},{"$f":"IF(C377<=B377,G377,B377+G377-C377)/H377/E377*30","v":1.6280016280016279E-3},{"$f":"IFERROR((G377+B377-C377)/H377/E377*30,0)","v":0.22873422873422872}]
[{"$f":"'دیده بان'!A127","v":" ضخود0122"},{"$f":"'دیده بان'!B127","v":3250},{"$f":"'دیده بان'!C127","v":2829},{"$f":"'دیده بان'!D127","v":"1403/01/08"},{"$f":"'دیده بان'!E127","v":80},{"$f":"'دیده بان'!G127","v":310},{"$f":"'دیده بان'!I127","v":160},{"$f":"C378-G378","v":2669},{"$f":"IFERROR(-G378/C378,0)","v":-5.6557087310003536E-2},{"$f":"IF(C378<=B378,G378,B378+G378-C378)/H378/E378*30","v":2.2480329711502434E-2},{"$f":"IFERROR((G378+B378-C378)/H378/E378*30,0)","v":8.1631697264893222E-2}]
[{"$f":"'دیده بان'!A332","v":" ضسپا1010"},{"$f":"'دیده بان'!B332","v":5000},{"$f":"'دیده بان'!C332","v":2469},{"$f":"'دیده بان'!D332","v":"1402/10/20"},{"$f":"'دیده بان'!E332","v":3},{"$f":"'دیده بان'!G332","v":0},{"$f":"'دیده بان'!I332","v":2},{"$f":"C379-G379","v":2467},{"$f":"IFERROR(-G379/C379,0)","v":-8.1004455245038481E-4},{"$f":"IF(C379<=B379,G379,B379+G379-C379)/H379/E379*30","v":8.1070125658694765E-3},{"$f":"IFERROR((G379+B379-C379)/H379/E379*30,0)","v":10.267531414673693}]
[{"$f":"'دیده بان'!A49","v":" ضخود1221"},{"$f":"'دیده بان'!B49","v":3250},{"$f":"'دیده بان'!C49","v":2829},{"$f":"'دیده بان'!D49","v":"1402/12/02"},{"$f":"'دیده بان'!E49","v":45},{"$f":"'دیده بان'!G49","v":24692},{"$f":"'دیده بان'!I49","v":63},{"$f":"C380-G380","v":2766},{"$f":"IFERROR(-G380/C380,0)","v":-2.2269353128313893E-2},{"$f":"IF(C380<=B380,G380,B380+G380-C380)/H380/E380*30","v":1.5184381778741866E-2},{"$f":"IFERROR((G380+B380-C380)/H380/E380*30,0)","v":0.11665461557001687}]
[{"$f":"'دیده بان'!A432","v":" ضشنا1200"},{"$f":"'دیده بان'!B432","v":5500},{"$f":"'دیده بان'!C432","v":8210},{"$f":"'دیده بان'!D432","v":"1402/12/02"},{"$f":"'دیده بان'!E432","v":45},{"$f":"'دیده بان'!G432","v":0},{"$f":"'دیده بان'!I432","v":3100},{"$f":"C381-G381","v":5110},{"$f":"IFERROR(-G381/C381,0)","v":-0.37758830694275275},{"$f":"IF(C381<=B381,G381,B381+G381-C381)/H381/E381*30","v":5.0880626223091974E-2},{"$f":"IFERROR((G381+B381-C381)/H381/E381*30,0)","v":5.0880626223091974E-2}]
[{"$f":"'دیده بان'!A418","v":" ضهم وزن1103"},{"$f":"'دیده بان'!B418","v":12000},{"$f":"'دیده بان'!C418","v":16421},{"$f":"'دیده بان'!D418","v":"1402/11/29"},{"$f":"'دیده بان'!E418","v":42},{"$f":"'دیده بان'!G418","v":0},{"$f":"'دیده بان'!I418","v":4500},11921,-0.27403933986967904,4.7335434467386485E-3,4.7335434467386485E-3]
[{"$f":"'دیده بان'!A369","v":" ضهم وزن1101"},{"$f":"'دیده بان'!B369","v":9000},{"$f":"'دیده بان'!C369","v":16421},{"$f":"'دیده بان'!D369","v":"1402/11/29"},{"$f":"'دیده بان'!E369","v":42},{"$f":"'دیده بان'!G369","v":0},{"$f":"'دیده بان'!I369","v":8000},8421,-0.48718104865720724,4.9111914092320214E-2,4.9111914092320214E-2]
[{"$f":"'دیده بان'!A370","v":" ضهم وزن1102"},{"$f":"'دیده بان'!B370","v":10000},{"$f":"'دیده بان'!C370","v":16421},{"$f":"'دیده بان'!D370","v":"1402/11/29"},{"$f":"'دیده بان'!E370","v":42},{"$f":"'دیده بان'!G370","v":0},{"$f":"'دیده بان'!I370","v":5369},11052,-0.32695938128006818,-6.799027971666409E-2,-6.799027971666409E-2]
[{"$f":"'دیده بان'!A371","v":" ضهم وزن1104"},{"$f":"'دیده بان'!B371","v":14000},{"$f":"'دیده بان'!C371","v":16421},{"$f":"'دیده بان'!D371","v":"1402/11/29"},{"$f":"'دیده بان'!E371","v":42},{"$f":"'دیده بان'!G371","v":0},{"$f":"'دیده بان'!I371","v":2450},13971,-0.14919919615126973,1.4826630673742548E-3,1.4826630673742548E-3]
[{"$f":"'دیده بان'!A372","v":" ضهم وزن1105"},{"$f":"'دیده بان'!B372","v":16000},{"$f":"'دیده بان'!C372","v":16421},{"$f":"'دیده بان'!D372","v":"1402/11/29"},{"$f":"'دیده بان'!E372","v":42},{"$f":"'دیده بان'!G372","v":0},{"$f":"'دیده بان'!I372","v":1750},{"$f":"C386-G386","v":14671},{"$f":"IFERROR(-G386/C386,0)","v":-0.10657085439376408},{"$f":"IF(C386<=B386,G386,B386+G386-C386)/H386/E386*30","v":6.4704908614662549E-2},{"$f":"IFERROR((G386+B386-C386)/H386/E386*30,0)","v":6.4704908614662549E-2}]
[{"$f":"'دیده بان'!A368","v":" ضهم وزن1100"},{"$f":"'دیده بان'!B368","v":8000},{"$f":"'دیده بان'!C368","v":16421},{"$f":"'دیده بان'!D368","v":"1402/11/29"},{"$f":"'دیده بان'!E368","v":42},{"$f":"'دیده بان'!G368","v":0},{"$f":"'دیده بان'!I368","v":8000},8421,-0.48718104865720724,-3.571004461635028E-2,-3.571004461635028E-2]
[{"$f":"'دیده بان'!A173","v":" ضفلا1180"},{"$f":"'دیده بان'!B173","v":3750},{"$f":"'دیده بان'!C173","v":6200},{"$f":"'دیده بان'!D173","v":"1402/11/25"},{"$f":"'دیده بان'!E173","v":38},{"$f":"'دیده بان'!G173","v":1},{"$f":"'دیده بان'!I173","v":3300},2900,-0.532258064516129,0.23139745916515425,0.23139745916515425]
[{"$f":"'دیده بان'!A185","v":" ضفلا1185"},{"$f":"'دیده بان'!B185","v":6000},{"$f":"'دیده بان'!C185","v":6200},{"$f":"'دیده بان'!D185","v":"1402/11/25"},{"$f":"'دیده بان'!E185","v":38},{"$f":"'دیده بان'!G185","v":1},{"$f":"'دیده بان'!I185","v":577},5623,-9.3064516129032257E-2,5.2931100648651683E-2,5.2931100648651683E-2]
[{"$f":"'دیده بان'!A117","v":" ضمیا1100"},{"$f":"'دیده بان'!B117","v":4500},{"$f":"'دیده بان'!C117","v":6070},{"$f":"'دیده بان'!D117","v":"1402/11/25"},{"$f":"'دیده بان'!E117","v":38},{"$f":"'دیده بان'!G117","v":40},{"$f":"'دیده بان'!I117","v":1750},4320,-0.28830313014827019,3.2894736842105261E-2,3.2894736842105261E-2]
[{"$f":"'دیده بان'!A276","v":" ضفلا1184"},{"$f":"'دیده بان'!B276","v":5500},{"$f":"'دیده بان'!C276","v":6200},{"$f":"'دیده بان'!D276","v":"1402/11/25"},{"$f":"'دیده بان'!E276","v":38},{"$f":"'دیده بان'!G276","v":0},{"$f":"'دیده بان'!I276","v":1100},5100,-0.17741935483870969,6.1919504643962842E-2,6.1919504643962842E-2]
[{"$f":"'دیده بان'!A277","v":" ضفلا1186"},{"$f":"'دیده بان'!B277","v":6500},{"$f":"'دیده بان'!C277","v":6200},{"$f":"'دیده بان'!D277","v":"1402/11/25"},{"$f":"'دیده بان'!E277","v":38},{"$f":"'دیده بان'!G277","v":0},{"$f":"'دیده بان'!I277","v":250},5950,-4.0322580645161289E-2,3.3171163202122954E-2,7.29765590446705E-2]
[{"$f":"'دیده بان'!A278","v":" ضفلا1187"},{"$f":"'دیده بان'!B278","v":7000},{"$f":"'دیده بان'!C278","v":6200},{"$f":"'دیده بان'!D278","v":"1402/11/25"},{"$f":"'دیده بان'!E278","v":38},{"$f":"'دیده بان'!G278","v":0},{"$f":"'دیده بان'!I278","v":100},6100,-1.6129032258064516E-2,1.2942191544434859E-2,0.11647972389991372]
[{"$f":"'دیده بان'!A279","v":" ضفلا1188"},{"$f":"'دیده بان'!B279","v":7500},{"$f":"'دیده بان'!C279","v":6200},{"$f":"'دیده بان'!D279","v":"1402/11/25"},{"$f":"'دیده بان'!E279","v":38},{"$f":"'دیده بان'!G279","v":0},{"$f":"'دیده بان'!I279","v":190},6010,-3.0645161290322579E-2,2.4958402662229619E-2,0.1957264208774849]
[{"$f":"'دیده بان'!A316","v":" ضترا1151"},{"$f":"'دیده بان'!B316","v":3000},{"$f":"'دیده بان'!C316","v":4200},{"$f":"'دیده بان'!D316","v":"1402/11/23"},{"$f":"'دیده بان'!E316","v":36},{"$f":"'دیده بان'!G316","v":0},{"$f":"'دیده بان'!I316","v":1600},2600,-0.38095238095238093,0.12820512820512822,0.12820512820512822]
[{"$f":"'دیده بان'!A319","v":" ضترا1158"},{"$f":"'دیده بان'!B319","v":5500},{"$f":"'دیده بان'!C319","v":4200},{"$f":"'دیده بان'!D319","v":"1402/11/23"},{"$f":"'دیده بان'!E319","v":36},{"$f":"'دیده بان'!G319","v":0},{"$f":"'دیده بان'!I319","v":1},4199,-2.380952380952381E-4,1.9845995078193219E-4,0.25819639596729377]
[{"$f":"'دیده بان'!A180","v":" ضترا1155"},{"$f":"'دیده بان'!B180","v":4000},{"$f":"'دیده بان'!C180","v":4200},{"$f":"'دیده بان'!D180","v":"1402/11/23"},{"$f":"'دیده بان'!E180","v":36},{"$f":"'دیده بان'!G180","v":3},{"$f":"'دیده بان'!I180","v":500},3700,-0.11904761904761904,6.7567567567567571E-2,6.7567567567567571E-2]
[{"$f":"'دیده بان'!A165","v":" ضهمن1102"},{"$f":"'دیده بان'!B165","v":1500},{"$f":"'دیده بان'!C165","v":1980},{"$f":"'دیده بان'!D165","v":"1402/11/23"},{"$f":"'دیده بان'!E165","v":36},{"$f":"'دیده بان'!G165","v":10},{"$f":"'دیده بان'!I165","v":450},1530,-0.22727272727272727,-1.6339869281045749E-2,-1.6339869281045749E-2]
[{"$f":"'دیده بان'!A55","v":" ضسپا1013"},{"$f":"'دیده بان'!B55","v":2000},{"$f":"'دیده بان'!C55","v":2469},{"$f":"'دیده بان'!D55","v":"1402/10/20"},{"$f":"'دیده بان'!E55","v":3},{"$f":"'دیده بان'!G55","v":3294},{"$f":"'دیده بان'!I55","v":435},2034,-0.17618469015795868,-0.16715830875122908,-0.16715830875122908]
[{"$f":"'دیده بان'!A143","v":" ضهمن1105"},{"$f":"'دیده بان'!B143","v":1800},{"$f":"'دیده بان'!C143","v":1980},{"$f":"'دیده بان'!D143","v":"1402/11/23"},{"$f":"'دیده بان'!E143","v":36},{"$f":"'دیده بان'!G143","v":94},{"$f":"'دیده بان'!I143","v":250},1730,-0.12626262626262627,3.3718689788053952E-2,3.3718689788053952E-2]
[{"$f":"'دیده بان'!A221","v":" ضهمن1100"},{"$f":"'دیده بان'!B221","v":1300},{"$f":"'دیده بان'!C221","v":1980},{"$f":"'دیده بان'!D221","v":"1402/11/23"},{"$f":"'دیده بان'!E221","v":36},{"$f":"'دیده بان'!G221","v":0},{"$f":"'دیده بان'!I221","v":750},1230,-0.37878787878787878,4.7425474254742542E-2,4.7425474254742542E-2]
[{"$f":"'دیده بان'!A274","v":" ضخوز1037"},{"$f":"'دیده بان'!B274","v":4000},{"$f":"'دیده بان'!C274","v":3527},{"$f":"'دیده بان'!D274","v":"1402/10/17"},{"$f":"'دیده بان'!E274","v":1},{"$f":"'دیده بان'!G274","v":0},{"$f":"'دیده بان'!I274","v":25},3502,-7.0881769208959453E-3,0.21416333523700742,4.2661336379211878]
[{"$f":"'دیده بان'!A222","v":" ضهمن1103"},{"$f":"'دیده بان'!B222","v":1600},{"$f":"'دیده بان'!C222","v":1980},{"$f":"'دیده بان'!D222","v":"1402/11/23"},{"$f":"'دیده بان'!E222","v":36},{"$f":"'دیده بان'!G222","v":0},{"$f":"'دیده بان'!I222","v":520},1460,-0.26262626262626265,7.9908675799086754E-2,7.9908675799086754E-2]
[{"$f":"'دیده بان'!A223","v":" ضهمن1104"},{"$f":"'دیده بان'!B223","v":1700},{"$f":"'دیده بان'!C223","v":1980},{"$f":"'دیده بان'!D223","v":"1402/11/23"},{"$f":"'دیده بان'!E223","v":36},{"$f":"'دیده بان'!G223","v":0},{"$f":"'دیده بان'!I223","v":333},1647,-0.16818181818181818,2.6816433920259057E-2,2.6816433920259057E-2]
[{"$f":"'دیده بان'!A224","v":" ضهمن1107"},{"$f":"'دیده بان'!B224","v":2000},{"$f":"'دیده بان'!C224","v":1980},{"$f":"'دیده بان'!D224","v":"1402/11/23"},{"$f":"'دیده بان'!E224","v":36},{"$f":"'دیده بان'!G224","v":0},{"$f":"'دیده بان'!I224","v":190},1790,-9.5959595959595953E-2,8.8454376163873374E-2,9.7765363128491628E-2]
[{"$f":"'دیده بان'!A225","v":" ضهمن1108"},{"$f":"'دیده بان'!B225","v":2200},{"$f":"'دیده بان'!C225","v":1980},{"$f":"'دیده بان'!D225","v":"1402/11/23"},{"$f":"'دیده بان'!E225","v":36},{"$f":"'دیده بان'!G225","v":0},{"$f":"'دیده بان'!I225","v":233},1747,-0.11767676767676767,0.1111429116580805,0.21608471665712653]
[{"$f":"'دیده بان'!A226","v":" ضهمن1109"},{"$f":"'دیده بان'!B226","v":2400},{"$f":"'دیده بان'!C226","v":1980},{"$f":"'دیده بان'!D226","v":"1402/11/23"},{"$f":"'دیده بان'!E226","v":36},{"$f":"'دیده بان'!G226","v":0},{"$f":"'دیده بان'!I226","v":45},1935,-2.2727272727272728E-2,1.937984496124031E-2,0.20025839793281655]
[{"$f":"'دیده بان'!A227","v":" ضهمن1110"},{"$f":"'دیده بان'!B227","v":2600},{"$f":"'دیده بان'!C227","v":1980},{"$f":"'دیده بان'!D227","v":"1402/11/23"},{"$f":"'دیده بان'!E227","v":36},{"$f":"'دیده بان'!G227","v":0},{"$f":"'دیده بان'!I227","v":80},1900,-4.0404040404040407E-2,3.5087719298245612E-2,0.30701754385964908]
[{"$f":"'دیده بان'!A228","v":" ضهمن1111"},{"$f":"'دیده بان'!B228","v":2800},{"$f":"'دیده بان'!C228","v":1980},{"$f":"'دیده بان'!D228","v":"1402/11/23"},{"$f":"'دیده بان'!E228","v":36},{"$f":"'دیده بان'!G228","v":0},{"$f":"'دیده بان'!I228","v":22},1958,-1.1111111111111112E-2,9.3632958801498131E-3,0.3583588695948246]
[{"$f":"'دیده بان'!A315","v":" ضترا1150"},{"$f":"'دیده بان'!B315","v":2800},{"$f":"'دیده بان'!C315","v":4200},{"$f":"'دیده بان'!D315","v":"1402/11/23"},{"$f":"'دیده بان'!E315","v":36},{"$f":"'دیده بان'!G315","v":0},{"$f":"'دیده بان'!I315","v":1820},2380,-0.43333333333333335,0.14705882352941177,0.14705882352941177]
[{"$f":"'دیده بان'!A318","v":" ضترا1156"},{"$f":"'دیده بان'!B318","v":4500},{"$f":"'دیده بان'!C318","v":4200},{"$f":"'دیده بان'!D318","v":"1402/11/23"},{"$f":"'دیده بان'!E318","v":36},{"$f":"'دیده بان'!G318","v":0},{"$f":"'دیده بان'!I318","v":350},3850,-8.3333333333333329E-2,7.575757575757576E-2,0.1406926406926407]
[{"$f":"'دیده بان'!A320","v":" ضترا1160"},{"$f":"'دیده بان'!B320","v":6500},{"$f":"'دیده بان'!C320","v":4200},{"$f":"'دیده بان'!D320","v":"1402/11/23"},{"$f":"'دیده بان'!E320","v":36},{"$f":"'دیده بان'!G320","v":0},{"$f":"'دیده بان'!I320","v":35},4165,-8.3333333333333332E-3,7.0028011204481787E-3,0.46718687474990001]
[{"$f":"'دیده بان'!A317","v":" ضترا1154"},{"$f":"'دیده بان'!B317","v":3750},{"$f":"'دیده بان'!C317","v":4200},{"$f":"'دیده بان'!D317","v":"1402/11/23"},{"$f":"'دیده بان'!E317","v":36},{"$f":"'دیده بان'!G317","v":0},{"$f":"'دیده بان'!I317","v":1000},3200,-0.23809523809523808,0.14322916666666669,0.14322916666666669]
[{"$f":"'دیده بان'!A122","v":" ضهمن1106"},{"$f":"'دیده بان'!B122","v":1900},{"$f":"'دیده بان'!C122","v":1980},{"$f":"'دیده بان'!D122","v":"1402/11/23"},{"$f":"'دیده بان'!E122","v":36},{"$f":"'دیده بان'!G122","v":316},{"$f":"'دیده بان'!I122","v":180},1800,-9.0909090909090912E-2,4.6296296296296294E-2,4.6296296296296294E-2]
[{"$f":"'دیده بان'!A417","v":" ضهمن1101"},{"$f":"'دیده بان'!B417","v":1400},{"$f":"'دیده بان'!C417","v":1980},{"$f":"'دیده بان'!D417","v":"1402/11/23"},{"$f":"'دیده بان'!E417","v":36},{"$f":"'دیده بان'!G417","v":0},{"$f":"'دیده بان'!I417","v":600},1380,-0.30303030303030304,1.2077294685990338E-2,1.2077294685990338E-2]
[{"$f":"'دیده بان'!A439","v":" ضترا1157"},{"$f":"'دیده بان'!B439","v":5000},{"$f":"'دیده بان'!C439","v":4200},{"$f":"'دیده بان'!D439","v":"1402/11/23"},{"$f":"'دیده بان'!E439","v":36},{"$f":"'دیده بان'!G439","v":0},{"$f":"'دیده بان'!I439","v":10},4190,-2.3809523809523812E-3,1.988862370723946E-3,0.1610978520286396]
[{"$f":"'دیده بان'!A441","v":" ضترا1153"},{"$f":"'دیده بان'!B441","v":3500},{"$f":"'دیده بان'!C441","v":4200},{"$f":"'دیده بان'!D441","v":"1402/11/23"},{"$f":"'دیده بان'!E441","v":36},{"$f":"'دیده بان'!G441","v":0},{"$f":"'دیده بان'!I441","v":1150},3050,-0.27380952380952384,0.12295081967213116,0.12295081967213116]
[{"$f":"'دیده بان'!A59","v":" ضدی1104"},{"$f":"'دیده بان'!B59","v":1000},{"$f":"'دیده بان'!C59","v":1110},{"$f":"'دیده بان'!D59","v":"1402/11/18"},{"$f":"'دیده بان'!E59","v":31},{"$f":"'دیده بان'!G59","v":8096},{"$f":"'دیده بان'!I59","v":161},949,-0.14504504504504503,5.2007206227268094E-2,5.2007206227268094E-2]
[{"$f":"'دیده بان'!A61","v":" ضفصبا1100"},{"$f":"'دیده بان'!B61","v":4800},{"$f":"'دیده بان'!C61","v":6290},{"$f":"'دیده بان'!D61","v":"1402/11/18"},{"$f":"'دیده بان'!E61","v":31},{"$f":"'دیده بان'!G61","v":986},{"$f":"'دیده بان'!I61","v":968},5322,-0.15389507154213036,-9.4919445757719031E-2,-9.4919445757719031E-2]
[{"$f":"'دیده بان'!A399","v":" ضفصبا1104"},{"$f":"'دیده بان'!B399","v":6800},{"$f":"'دیده بان'!C399","v":6290},{"$f":"'دیده بان'!D399","v":"1402/11/18"},{"$f":"'دیده بان'!E399","v":31},{"$f":"'دیده بان'!G399","v":0},{"$f":"'دیده بان'!I399","v":100},6190,-1.5898251192368838E-2,1.5633956954505188E-2,9.5367137422481624E-2]
[{"$f":"'دیده بان'!A103","v":" ضفصبا1102"},{"$f":"'دیده بان'!B103","v":5800},{"$f":"'دیده بان'!C103","v":6290},{"$f":"'دیده بان'!D103","v":"1402/11/18"},{"$f":"'دیده بان'!E103","v":31},{"$f":"'دیده بان'!G103","v":873},{"$f":"'دیده بان'!I103","v":174},6116,-2.7662957074721779E-2,-5.0001054874575415E-2,-5.0001054874575415E-2]
[{"$f":"'دیده بان'!A307","v":" ضملی1183"},{"$f":"'دیده بان'!B307","v":8000},{"$f":"'دیده بان'!C307","v":7300},{"$f":"'دیده بان'!D307","v":"1402/11/02"},{"$f":"'دیده بان'!E307","v":15},{"$f":"'دیده بان'!G307","v":0},{"$f":"'دیده بان'!I307","v":5},7295,-6.8493150684931507E-4,1.3708019191226869E-3,0.19328307059629884]
[{"$f":"'دیده بان'!A423","v":" ضترو1105"},{"$f":"'دیده بان'!B423","v":12000},{"$f":"'دیده بان'!C423","v":11740},{"$f":"'دیده بان'!D423","v":"1402/11/15"},{"$f":"'دیده بان'!E423","v":28},{"$f":"'دیده بان'!G423","v":0},{"$f":"'دیده بان'!I423","v":550},11190,-4.6848381601362864E-2,5.2661815396399851E-2,7.7556491765607055E-2]
[{"$f":"'دیده بان'!A162","v":" ضدی1119"},{"$f":"'دیده بان'!B162","v":3000},{"$f":"'دیده بان'!C162","v":1110},{"$f":"'دیده بان'!D162","v":"1402/11/18"},{"$f":"'دیده بان'!E162","v":31},{"$f":"'دیده بان'!G162","v":1556},{"$f":"'دیده بان'!I162","v":4},1106,-3.6036036036036037E-3,3.499970833576387E-3,1.6572361896984191]
[{"$f":"'دیده بان'!A169","v":" ضدی1118"},{"$f":"'دیده بان'!B169","v":2800},{"$f":"'دیده بان'!C169","v":1110},{"$f":"'دیده بان'!D169","v":"1402/11/18"},{"$f":"'دیده بان'!E169","v":31},{"$f":"'دیده بان'!G169","v":1000},{"$f":"'دیده بان'!I169","v":4},1106,-3.6036036036036037E-3,3.499970833576387E-3,1.4822376480195998]
[{"$f":"'دیده بان'!A120","v":" ضدی1108"},{"$f":"'دیده بان'!B120","v":1400},{"$f":"'دیده بان'!C120","v":1110},{"$f":"'دیده بان'!D120","v":"1402/11/18"},{"$f":"'دیده بان'!E120","v":31},{"$f":"'دیده بان'!G120","v":3115},{"$f":"'دیده بان'!I120","v":26},1084,-2.3423423423423424E-2,2.3211522437805027E-2,0.28210927270563024]
[{"$f":"'دیده بان'!A35","v":" ضدی1107"},{"$f":"'دیده بان'!B35","v":1300},{"$f":"'دیده بان'!C35","v":1110},{"$f":"'دیده بان'!D35","v":"1402/11/18"},{"$f":"'دیده بان'!E35","v":31},{"$f":"'دیده بان'!G35","v":194173},{"$f":"'دیده بان'!I35","v":36},1074,-3.2432432432432434E-2,3.2438277167057127E-2,0.20364029554874752]
[{"$f":"'دیده بان'!A86","v":" ضدی1106"},{"$f":"'دیده بان'!B86","v":1200},{"$f":"'دیده بان'!C86","v":1110},{"$f":"'دیده بان'!D86","v":"1402/11/18"},{"$f":"'دیده بان'!E86","v":31},{"$f":"'دیده بان'!G86","v":6406},{"$f":"'دیده بان'!I86","v":51},1059,-4.5945945945945948E-2,4.6605135703189249E-2,0.12884949282646438]
[{"$f":"'دیده بان'!A53","v":" ضدی1105"},{"$f":"'دیده بان'!B53","v":1100},{"$f":"'دیده بان'!C53","v":1110},{"$f":"'دیده بان'!D53","v":"1402/11/18"},{"$f":"'دیده بان'!E53","v":31},{"$f":"'دیده بان'!G53","v":24408},{"$f":"'دیده بان'!I53","v":84},1026,-7.567567567567568E-2,6.979815129220901E-2,6.979815129220901E-2]
[{"$f":"'دیده بان'!A106","v":" ضدی1101"},{"$f":"'دیده بان'!B106","v":850},{"$f":"'دیده بان'!C106","v":1110},{"$f":"'دیده بان'!D106","v":"1402/11/18"},{"$f":"'دیده بان'!E106","v":31},{"$f":"'دیده بان'!G106","v":542},{"$f":"'دیده بان'!I106","v":270},840,-0.24324324324324326,1.1520737327188941E-2,1.1520737327188941E-2]
[{"$f":"'دیده بان'!A431","v":" ضبرک1006"},{"$f":"'دیده بان'!B431","v":8000},{"$f":"'دیده بان'!C431","v":6880},{"$f":"'دیده بان'!D431","v":"1402/10/17"},{"$f":"'دیده بان'!E431","v":1},{"$f":"'دیده بان'!G431","v":0},{"$f":"'دیده بان'!I431","v":20},6860,-2.9069767441860465E-3,8.7463556851311949E-2,4.9854227405247817]
[{"$f":"'دیده بان'!A31","v":" ضدی1100"},{"$f":"'دیده بان'!B31","v":800},{"$f":"'دیده بان'!C31","v":1110},{"$f":"'دیده بان'!D31","v":"1402/11/18"},{"$f":"'دیده بان'!E31","v":31},{"$f":"'دیده بان'!G31","v":25618},{"$f":"'دیده بان'!I31","v":340},770,-0.30630630630630629,3.7704231252618348E-2,3.7704231252618348E-2]
[{"$f":"'دیده بان'!A159","v":" ضدی1102"},{"$f":"'دیده بان'!B159","v":900},{"$f":"'دیده بان'!C159","v":1110},{"$f":"'دیده بان'!D159","v":"1402/11/18"},{"$f":"'دیده بان'!E159","v":31},{"$f":"'دیده بان'!G159","v":48},{"$f":"'دیده بان'!I159","v":247},863,-0.22252252252252253,4.149067394310918E-2,4.149067394310918E-2]
[{"$f":"'دیده بان'!A356","v":" ضدی1113"},{"$f":"'دیده بان'!B356","v":1900},{"$f":"'دیده بان'!C356","v":1110},{"$f":"'دیده بان'!D356","v":"1402/11/18"},{"$f":"'دیده بان'!E356","v":31},{"$f":"'دیده بان'!G356","v":0},{"$f":"'دیده بان'!I356","v":5},1105,-4.5045045045045045E-3,4.3789227849948915E-3,0.6962487228141877]
[{"$f":"'دیده بان'!A415","v":" ضدی1111"},{"$f":"'دیده بان'!B415","v":1700},{"$f":"'دیده بان'!C415","v":1110},{"$f":"'دیده بان'!D415","v":"1402/11/18"},{"$f":"'دیده بان'!E415","v":31},{"$f":"'دیده بان'!G415","v":0},{"$f":"'دیده بان'!I415","v":5},1105,-4.5045045045045045E-3,4.3789227849948915E-3,0.52109181141439209]
[{"$f":"'دیده بان'!A235","v":" ضبرک1010"},{"$f":"'دیده بان'!B235","v":12000},{"$f":"'دیده بان'!C235","v":6880},{"$f":"'دیده بان'!D235","v":"1402/10/17"},{"$f":"'دیده بان'!E235","v":1},{"$f":"'دیده بان'!G235","v":0},{"$f":"'دیده بان'!I235","v":20},6860,-2.9069767441860465E-3,8.7463556851311949E-2,22.47813411078717]
[{"$f":"'دیده بان'!A353","v":" ضدی1103"},{"$f":"'دیده بان'!B353","v":950},{"$f":"'دیده بان'!C353","v":1110},{"$f":"'دیده بان'!D353","v":"1402/11/18"},{"$f":"'دیده بان'!E353","v":31},{"$f":"'دیده بان'!G353","v":0},{"$f":"'دیده بان'!I353","v":151},959,-0.13603603603603603,-9.0820411046452967E-3,-9.0820411046452967E-3]
[{"$f":"'دیده بان'!A234","v":" ضبرک1009"},{"$f":"'دیده بان'!B234","v":11000},{"$f":"'دیده بان'!C234","v":6880},{"$f":"'دیده بان'!D234","v":"1402/10/17"},{"$f":"'دیده بان'!E234","v":1},{"$f":"'دیده بان'!G234","v":0},{"$f":"'دیده بان'!I234","v":100},6780,-1.4534883720930232E-2,0.44247787610619471,18.672566371681416]
[{"$f":"'دیده بان'!A354","v":" ضدی1110"},{"$f":"'دیده بان'!B354","v":1600},{"$f":"'دیده بان'!C354","v":1110},{"$f":"'دیده بان'!D354","v":"1402/11/18"},{"$f":"'دیده بان'!E354","v":31},{"$f":"'دیده بان'!G354","v":0},{"$f":"'دیده بان'!I354","v":1},1109,-9.0090090090090091E-4,8.7262573082404953E-4,0.42845923383460832]
[{"$f":"'دیده بان'!A355","v":" ضدی1112"},{"$f":"'دیده بان'!B355","v":1800},{"$f":"'دیده بان'!C355","v":1110},{"$f":"'دیده بان'!D355","v":"1402/11/18"},{"$f":"'دیده بان'!E355","v":31},{"$f":"'دیده بان'!G355","v":0},{"$f":"'دیده بان'!I355","v":5},1105,-4.5045045045045045E-3,4.3789227849948915E-3,0.60867026711428984]
[{"$f":"'دیده بان'!A397","v":" ضفصبا1101"},{"$f":"'دیده بان'!B397","v":5300},{"$f":"'دیده بان'!C397","v":6290},{"$f":"'دیده بان'!D397","v":"1402/11/18"},{"$f":"'دیده بان'!E397","v":31},{"$f":"'دیده بان'!G397","v":0},{"$f":"'دیده بان'!I397","v":800},5490,-0.12718600953895071,-3.3491979552265114E-2,-3.3491979552265114E-2]
[{"$f":"'دیده بان'!A398","v":" ضفصبا1103"},{"$f":"'دیده بان'!B398","v":6300},{"$f":"'دیده بان'!C398","v":6290},{"$f":"'دیده بان'!D398","v":"1402/11/18"},{"$f":"'دیده بان'!E398","v":31},{"$f":"'دیده بان'!G398","v":0},{"$f":"'دیده بان'!I398","v":75},6215,-1.192368839427663E-2,1.1678301715412762E-2,1.3235408610801131E-2]
[{"$f":"'دیده بان'!A443","v":0},{"$f":"'دیده بان'!B443","v":0},{"$f":"'دیده بان'!C443","v":0},{"$f":"'دیده بان'!D443","v":0},{"$f":"'دیده بان'!E443","v":0},{"$f":"'دیده بان'!G443","v":0},{"$f":"'دیده بان'!I443","v":0},{"$f":"C443-G443","v":0},{"$f":"IFERROR(-G443/C443,0)","v":0},{"$f":"IF(C443<=B443,G443,B443+G443-C443)/H443/E443*30","v":{"$error":"#DIV/0!"}},{"$f":"IFERROR((G443+B443-C443)/H443/E443*30,0)","v":0}]
[{"$f":"'دیده بان'!A444","v":0},{"$f":"'دیده بان'!B444","v":0},{"$f":"'دیده بان'!C444","v":0},{"$f":"'دیده بان'!D444","v":0},{"$f":"'دیده بان'!E444","v":0},{"$f":"'دیده بان'!G444","v":0},{"$f":"'دیده بان'!I444","v":0},0,0,{"$error":"#DIV/0!"},0]
[{"$f":"'دیده بان'!A445","v":0},{"$f":"'دیده بان'!B445","v":0},{"$f":"'دیده بان'!C445","v":0},{"$f":"'دیده بان'!D445","v":0},{"$f":"'دیده بان'!E445","v":0},{"$f":"'دیده بان'!G445","v":0},{"$f":"'دیده بان'!I445","v":0},0,0,{"$error":"#DIV/0!"},0]
[{"$f":"'دیده بان'!A446","v":0},{"$f":"'دیده بان'!B446","v":0},{"$f":"'دیده بان'!C446","v":0},{"$f":"'دیده بان'!D446","v":0},{"$f":"'دیده بان'!E446","v":0},{"$f":"'دیده بان'!G446","v":0},{"$f":"'دیده بان'!I446","v":0},0,0,{"$error":"#DIV/0!"},0]
[{"$f":"'دیده بان'!A447","v":0},{"$f":"'دیده بان'!B447","v":0},{"$f":"'دیده بان'!C447","v":0},{"$f":"'دیده بان'!D447","v":0},{"$f":"'دیده بان'!E447","v":0},{"$f":"'دیده بان'!G447","v":0},{"$f":"'دیده بان'!I447","v":0},0,0,{"$error":"#DIV/0!"},0]
[{"$f":"'دیده بان'!A448","v":0},{"$f":"'دیده بان'!B448","v":0},{"$f":"'دیده بان'!C448","v":0},{"$f":"'دیده بان'!D448","v":0},{"$f":"'دیده بان'!E448","v":0},{"$f":"'دیده بان'!G448","v":0},{"$f":"'دیده بان'!I448","v":0},0,0,{"$error":"#DIV/0!"},0]
[{"$f":"'دیده بان'!A449","v":0},{"$f":"'دیده بان'!B449","v":0},{"$f":"'دیده بان'!C449","v":0},{"$f":"'دیده بان'!D449","v":0},{"$f":"'دیده بان'!E449","v":0},{"$f":"'دیده بان'!G449","v":0},{"$f":"'دیده بان'!I449","v":0},0,0,{"$error":"#DIV/0!"},0]
[{"$f":"'دیده بان'!A450","v":0},{"$f":"'دیده بان'!B450","v":0},{"$f":"'دیده بان'!C450","v":0},{"$f":"'دیده بان'!D450","v":0},{"$f":"'دیده بان'!E450","v":0},{"$f":"'دیده بان'!G450","v":0},{"$f":"'دیده بان'!I450","v":0},{"$f":"C450-G450","v":0},{"$f":"IFERROR(-G450/C450,0)","v":0},{"$error":"#DIV/0!"},{"$f":"IFERROR((G450+B450-C450)/H450/E450*30,0)","v":0}]
[{"$f":"'دیده بان'!A451","v":0},{"$f":"'دیده بان'!B451","v":0},{"$f":"'دیده بان'!C451","v":0},{"$f":"'دیده بان'!D451","v":0},{"$f":"'دیده بان'!E451","v":0},{"$f":"'دیده بان'!G451","v":0},{"$f":"'دیده بان'!I451","v":0},0,0,{"$f":"IF(C451<=B451,G451,B451+G451-C451)/H451/E451*30","v":{"$error":"#DIV/0!"}},0]
[{"$f":"'دیده بان'!A452","v":0},{"$f":"'دیده بان'!B452","v":0},{"$f":"'دیده بان'!C452","v":0},{"$f":"'دیده بان'!D452","v":0},{"$f":"'دیده بان'!E452","v":0},{"$f":"'دیده بان'!G452","v":0},{"$f":"'دیده بان'!I452","v":0},0,0,{"$error":"#DIV/0!"},0]
[{"$f":"'دیده بان'!A453","v":0},{"$f":"'دیده بان'!B453","v":0},{"$f":"'دیده بان'!C453","v":0},{"$f":"'دیده بان'!D453","v":0},{"$f":"'دیده بان'!E453","v":0},{"$f":"'دیده بان'!G453","v":0},{"$f":"'دیده بان'!I453","v":0},0,0,{"$error":"#DIV/0!"},0]
[{"$f":"'دیده بان'!A454","v":0},{"$f":"'دیده بان'!B454","v":0},{"$f":"'دیده بان'!C454","v":0},{"$f":"'دیده بان'!D454","v":0},{"$f":"'دیده بان'!E454","v":0},{"$f":"'دیده بان'!G454","v":0},{"$f":"'دیده بان'!I454","v":0},0,0,{"$error":"#DIV/0!"},0]
[{"$f":"'دیده بان'!A455","v":0},{"$f":"'دیده بان'!B455","v":0},{"$f":"'دیده بان'!C455","v":0},{"$f":"'دیده بان'!D455","v":0},{"$f":"'دیده بان'!E455","v":0},{"$f":"'دیده بان'!G455","v":0},{"$f":"'دیده بان'!I455","v":0},0,0,{"$error":"#DIV/0!"},0]
[{"$f":"'دیده بان'!A456","v":0},{"$f":"'دیده بان'!B456","v":0},{"$f":"'دیده بان'!C456","v":0},{"$f":"'دیده بان'!D456","v":0},{"$f":"'دیده بان'!E456","v":0},{"$f":"'دیده بان'!G456","v":0},{"$f":"'دیده بان'!I456","v":0},0,0,{"$error":"#DIV/0!"},0]
[{"$f":"'دیده بان'!A457","v":0},{"$f":"'دیده بان'!B457","v":0},{"$f":"'دیده بان'!C457","v":0},{"$f":"'دیده بان'!D457","v":0},{"$f":"'دیده بان'!E457","v":0},{"$f":"'دیده بان'!G457","v":0},{"$f":"'دیده بان'!I457","v":0},0,0,{"$error":"#DIV/0!"},0]
[{"$f":"'دیده بان'!A458","v":0},{"$f":"'دیده بان'!B458","v":0},{"$f":"'دیده بان'!C458","v":0},{"$f":"'دیده بان'!D458","v":0},{"$f":"'دیده بان'!E458","v":0},{"$f":"'دیده بان'!G458","v":0},{"$f":"'دیده بان'!I458","v":0},0,0,{"$error":"#DIV/0!"},0]
[{"$f":"'دیده بان'!A459","v":0},{"$f":"'دیده بان'!B459","v":0},{"$f":"'دیده بان'!C459","v":0},{"$f":"'دیده بان'!D459","v":0},{"$f":"'دیده بان'!E459","v":0},{"$f":"'دیده بان'!G459","v":0},{"$f":"'دیده بان'!I459","v":0},0,0,{"$error":"#DIV/0!"},0]
[{"$f":"'دیده بان'!A460","v":0},{"$f":"'دیده بان'!B460","v":0},{"$f":"'دیده بان'!C460","v":0},{"$f":"'دیده بان'!D460","v":0},{"$f":"'دیده بان'!E460","v":0},{"$f":"'دیده بان'!G460","v":0},{"$f":"'دیده بان'!I460","v":0},0,0,{"$error":"#DIV/0!"},0]
[{"$f":"'دیده بان'!A461","v":0},{"$f":"'دیده بان'!B461","v":0},{"$f":"'دیده بان'!C461","v":0},{"$f":"'دیده بان'!D461","v":0},{"$f":"'دیده بان'!E461","v":0},{"$f":"'دیده بان'!G461","v":0},{"$f":"'دیده بان'!I461","v":0},0,0,{"$error":"#DIV/0!"},0]
[{"$f":"'دیده بان'!A462","v":0},{"$f":"'دیده بان'!B462","v":0},{"$f":"'دیده بان'!C462","v":0},{"$f":"'دیده بان'!D462","v":0},{"$f":"'دیده بان'!E462","v":0},{"$f":"'دیده بان'!G462","v":0},{"$f":"'دیده بان'!I462","v":0},0,0,{"$error":"#DIV/0!"},0]
[{"$f":"'دیده بان'!A463","v":0},{"$f":"'دیده بان'!B463","v":0},{"$f":"'دیده بان'!C463","v":0},{"$f":"'دیده بان'!D463","v":0},{"$f":"'دیده بان'!E463","v":0},{"$f":"'دیده بان'!G463","v":0},{"$f":"'دیده بان'!I463","v":0},0,0,{"$error":"#DIV/0!"},0]
[{"$f":"'دیده بان'!A464","v":0},{"$f":"'دیده بان'!B464","v":0},{"$f":"'دیده بان'!C464","v":0},{"$f":"'دیده بان'!D464","v":0},{"$f":"'دیده بان'!E464","v":0},{"$f":"'دیده بان'!G464","v":0},{"$f":"'دیده بان'!I464","v":0},0,0,{"$error":"#DIV/0!"},0]
[{"$f":"'دیده بان'!A465","v":0},{"$f":"'دیده بان'!B465","v":0},{"$f":"'دیده بان'!C465","v":0},{"$f":"'دیده بان'!D465","v":0},{"$f":"'دیده بان'!E465","v":0},{"$f":"'دیده بان'!G465","v":0},{"$f":"'دیده بان'!I465","v":0},0,0,{"$error":"#DIV/0!"},0]
[{"$f":"'دیده بان'!A466","v":0},{"$f":"'دیده بان'!B466","v":0},{"$f":"'دیده بان'!C466","v":0},{"$f":"'دیده بان'!D466","v":0},{"$f":"'دیده بان'!E466","v":0},{"$f":"'دیده بان'!G466","v":0},{"$f":"'دیده بان'!I466","v":0},0,0,{"$error":"#DIV/0!"},0]
[{"$f":"'دیده بان'!A467","v":0},{"$f":"'دیده بان'!B467","v":0},{"$f":"'دیده بان'!C467","v":0},{"$f":"'دیده بان'!D467","v":0},{"$f":"'دیده بان'!E467","v":0},{"$f":"'دیده بان'!G467","v":0},{"$f":"'دیده بان'!I467","v":0},0,0,{"$error":"#DIV/0!"},0]
[{"$f":"'دیده بان'!A468","v":0},{"$f":"'دیده بان'!B468","v":0},{"$f":"'دیده بان'!C468","v":0},{"$f":"'دیده بان'!D468","v":0},{"$f":"'دیده بان'!E468","v":0},{"$f":"'دیده بان'!G468","v":0},{"$f":"'دیده بان'!I468","v":0},0,0,{"$error":"#DIV/0!"},0]
[{"$f":"'دیده بان'!A469","v":0},{"$f":"'دیده بان'!B469","v":0},{"$f":"'دیده بان'!C469","v":0},{"$f":"'دیده بان'!D469","v":0},{"$f":"'دیده بان'!E469","v":0},{"$f":"'دیده بان'!G469","v":0},{"$f":"'دیده بان'!I469","v":0},0,0,{"$error":"#DIV/0!"},0]
[{"$f":"'دیده بان'!A470","v":0},{"$f":"'دیده بان'!B470","v":0},{"$f":"'دیده بان'!C470","v":0},{"$f":"'دیده بان'!D470","v":0},{"$f":"'دیده بان'!E470","v":0},{"$f":"'دیده بان'!G470","v":0},{"$f":"'دیده بان'!I470","v":0},0,0,{"$error":"#DIV/0!"},0]
[{"$f":"'دیده بان'!A471","v":0},{"$f":"'دیده بان'!B471","v":0},{"$f":"'دیده بان'!C471","v":0},{"$f":"'دیده بان'!D471","v":0},{"$f":"'دیده بان'!E471","v":0},{"$f":"'دیده بان'!G471","v":0},{"$f":"'دیده بان'!I471","v":0},0,0,{"$error":"#DIV/0!"},0]
[{"$f":"'دیده بان'!A472","v":0},{"$f":"'دیده بان'!B472","v":0},{"$f":"'دیده بان'!C472","v":0},{"$f":"'دیده بان'!D472","v":0},{"$f":"'دیده بان'!E472","v":0},{"$f":"'دیده بان'!G472","v":0},{"$f":"'دیده بان'!I472","v":0},0,0,{"$error":"#DIV/0!"},0]
[{"$f":"'دیده بان'!A473","v":0},{"$f":"'دیده بان'!B473","v":0},{"$f":"'دیده بان'!C473","v":0},{"$f":"'دیده بان'!D473","v":0},{"$f":"'دیده بان'!E473","v":0},{"$f":"'دیده بان'!G473","v":0},{"$f":"'دیده بان'!I473","v":0},0,0,{"$error":"#DIV/0!"},0]
[{"$f":"'دیده بان'!A474","v":0},{"$f":"'دیده بان'!B474","v":0},{"$f":"'دیده بان'!C474","v":0},{"$f":"'دیده بان'!D474","v":0},{"$f":"'دیده بان'!E474","v":0},{"$f":"'دیده بان'!G474","v":0},{"$f":"'دیده بان'!I474","v":0},0,0,{"$error":"#DIV/0!"},0]
[{"$f":"'دیده بان'!A475","v":0},{"$f":"'دیده بان'!B475","v":0},{"$f":"'دیده بان'!C475","v":0},{"$f":"'دیده بان'!D475","v":0},{"$f":"'دیده بان'!E475","v":0},{"$f":"'دیده بان'!G475","v":0},{"$f":"'دیده بان'!I475","v":0},0,0,{"$error":"#DIV/0!"},0]
[{"$f":"'دیده بان'!A476","v":0},{"$f":"'دیده بان'!B476","v":0},{"$f":"'دیده بان'!C476","v":0},{"$f":"'دیده بان'!D476","v":0},{"$f":"'دیده بان'!E476","v":0},{"$f":"'دیده بان'!G476","v":0},{"$f":"'دیده بان'!I476","v":0},0,0,{"$error":"#DIV/0!"},0]
[{"$f":"'دیده بان'!A477","v":0},{"$f":"'دیده بان'!B477","v":0},{"$f":"'دیده بان'!C477","v":0},{"$f":"'دیده بان'!D477","v":0},{"$f":"'دیده بان'!E477","v":0},{"$f":"'دیده بان'!G477","v":0},{"$f":"'دیده بان'!I477","v":0},0,0,{"$error":"#DIV/0!"},0]
[{"$f":"'دیده بان'!A478","v":0},{"$f":"'دیده بان'!B478","v":0},{"$f":"'دیده بان'!C478","v":0},{"$f":"'دیده بان'!D478","v":0},{"$f":"'دیده بان'!E478","v":0},{"$f":"'دیده بان'!G478","v":0},{"$f":"'دیده بان'!I478","v":0},0,0,{"$error":"#DIV/0!"},0]
[{"$f":"'دیده بان'!A479","v":0},{"$f":"'دیده بان'!B479","v":0},{"$f":"'دیده بان'!C479","v":0},{"$f":"'دیده بان'!D479","v":0},{"$f":"'دیده بان'!E479","v":0},{"$f":"'دیده بان'!G479","v":0},{"$f":"'دیده بان'!I479","v":0},0,0,{"$error":"#DIV/0!"},0]
[{"$f":"'دیده بان'!A480","v":0},{"$f":"'دیده بان'!B480","v":0},{"$f":"'دیده بان'!C480","v":0},{"$f":"'دیده بان'!D480","v":0},{"$f":"'دیده بان'!E480","v":0},{"$f":"'دیده بان'!G480","v":0},{"$f":"'دیده بان'!I480","v":0},0,0,{"$error":"#DIV/0!"},0]
[{"$f":"'دیده بان'!A481","v":0},{"$f":"'دیده بان'!B481","v":0},{"$f":"'دیده بان'!C481","v":0},{"$f":"'دیده بان'!D481","v":0},{"$f":"'دیده بان'!E481","v":0},{"$f":"'دیده بان'!G481","v":0},{"$f":"'دیده بان'!I481","v":0},0,0,{"$error":"#DIV/0!"},0]
[{"$f":"'دیده بان'!A482","v":0},{"$f":"'دیده بان'!B482","v":0},{"$f":"'دیده بان'!C482","v":0},{"$f":"'دیده بان'!D482","v":0},{"$f":"'دیده بان'!E482","v":0},{"$f":"'دیده بان'!G482","v":0},{"$f":"'دیده بان'!I482","v":0},0,0,{"$error":"#DIV/0!"},0]
[{"$f":"'دیده بان'!A483","v":0},{"$f":"'دیده بان'!B483","v":0},{"$f":"'دیده بان'!C483","v":0},{"$f":"'دیده بان'!D483","v":0},{"$f":"'دیده بان'!E483","v":0},{"$f":"'دیده بان'!G483","v":0},{"$f":"'دیده بان'!I483","v":0},0,0,{"$error":"#DIV/0!"},0]
[{"$f":"'دیده بان'!A484","v":0},{"$f":"'دیده بان'!B484","v":0},{"$f":"'دیده بان'!C484","v":0},{"$f":"'دیده بان'!D484","v":0},{"$f":"'دیده بان'!E484","v":0},{"$f":"'دیده بان'!G484","v":0},{"$f":"'دیده بان'!I484","v":0},0,0,{"$error":"#DIV/0!"},0]
[{"$f":"'دیده بان'!A485","v":0},{"$f":"'دیده بان'!B485","v":0},{"$f":"'دیده بان'!C485","v":0},{"$f":"'دیده بان'!D485","v":0},{"$f":"'دیده بان'!E485","v":0},{"$f":"'دیده بان'!G485","v":0},{"$f":"'دیده بان'!I485","v":0},0,0,{"$error":"#DIV/0!"},0]
[{"$f":"'دیده بان'!A486","v":0},{"$f":"'دیده بان'!B486","v":0},{"$f":"'دیده بان'!C486","v":0},{"$f":"'دیده بان'!D486","v":0},{"$f":"'دیده بان'!E486","v":0},{"$f":"'دیده بان'!G486","v":0},{"$f":"'دیده بان'!I486","v":0},0,0,{"$error":"#DIV/0!"},0]
[{"$f":"'دیده بان'!A487","v":0},{"$f":"'دیده بان'!B487","v":0},{"$f":"'دیده بان'!C487","v":0},{"$f":"'دیده بان'!D487","v":0},{"$f":"'دیده بان'!E487","v":0},{"$f":"'دیده بان'!G487","v":0},{"$f":"'دیده بان'!I487","v":0},0,0,{"$error":"#DIV/0!"},0]
[{"$f":"'دیده بان'!A488","v":0},{"$f":"'دیده بان'!B488","v":0},{"$f":"'دیده بان'!C488","v":0},{"$f":"'دیده بان'!D488","v":0},{"$f":"'دیده بان'!E488","v":0},{"$f":"'دیده بان'!G488","v":0},{"$f":"'دیده بان'!I488","v":0},0,0,{"$error":"#DIV/0!"},0]
[{"$f":"'دیده بان'!A489","v":0},{"$f":"'دیده بان'!B489","v":0},{"$f":"'دیده بان'!C489","v":0},{"$f":"'دیده بان'!D489","v":0},{"$f":"'دیده بان'!E489","v":0},{"$f":"'دیده بان'!G489","v":0},{"$f":"'دیده بان'!I489","v":0},0,0,{"$error":"#DIV/0!"},0]
[{"$f":"'دیده بان'!A490","v":0},{"$f":"'دیده بان'!B490","v":0},{"$f":"'دیده بان'!C490","v":0},{"$f":"'دیده بان'!D490","v":0},{"$f":"'دیده بان'!E490","v":0},{"$f":"'دیده بان'!G490","v":0},{"$f":"'دیده بان'!I490","v":0},0,0,{"$error":"#DIV/0!"},0]
[{"$f":"'دیده بان'!A491","v":0},{"$f":"'دیده بان'!B491","v":0},{"$f":"'دیده بان'!C491","v":0},{"$f":"'دیده بان'!D491","v":0},{"$f":"'دیده بان'!E491","v":0},{"$f":"'دیده بان'!G491","v":0},{"$f":"'دیده بان'!I491","v":0},0,0,{"$error":"#DIV/0!"},0]
[{"$f":"'دیده بان'!A492","v":0},{"$f":"'دیده بان'!B492","v":0},{"$f":"'دیده بان'!C492","v":0},{"$f":"'دیده بان'!D492","v":0},{"$f":"'دیده بان'!E492","v":0},{"$f":"'دیده بان'!G492","v":0},{"$f":"'دیده بان'!I492","v":0},0,0,{"$error":"#DIV/0!"},0]
[{"$f":"'دیده بان'!A493","v":0},{"$f":"'دیده بان'!B493","v":0},{"$f":"'دیده بان'!C493","v":0},{"$f":"'دیده بان'!D493","v":0},{"$f":"'دیده بان'!E493","v":0},{"$f":"'دیده بان'!G493","v":0},{"$f":"'دیده بان'!I493","v":0},0,0,{"$error":"#DIV/0!"},0]
[{"$f":"'دیده بان'!A494","v":0},{"$f":"'دیده بان'!B494","v":0},{"$f":"'دیده بان'!C494","v":0},{"$f":"'دیده بان'!D494","v":0},{"$f":"'دیده بان'!E494","v":0},{"$f":"'دیده بان'!G494","v":0},{"$f":"'دیده بان'!I494","v":0},0,0,{"$error":"#DIV/0!"},0]
[{"$f":"'دیده بان'!A495","v":0},{"$f":"'دیده بان'!B495","v":0},{"$f":"'دیده بان'!C495","v":0},{"$f":"'دیده بان'!D495","v":0},{"$f":"'دیده بان'!E495","v":0},{"$f":"'دیده بان'!G495","v":0},{"$f":"'دیده بان'!I495","v":0},0,0,{"$error":"#DIV/0!"},0]
[{"$f":"'دیده بان'!A496","v":0},{"$f":"'دیده بان'!B496","v":0},{"$f":"'دیده بان'!C496","v":0},{"$f":"'دیده بان'!D496","v":0},{"$f":"'دیده بان'!E496","v":0},{"$f":"'دیده بان'!G496","v":0},{"$f":"'دیده بان'!I496","v":0},0,0,{"$error":"#DIV/0!"},0]
[{"$f":"'دیده بان'!A497","v":0},{"$f":"'دیده بان'!B497","v":0},{"$f":"'دیده بان'!C497","v":0},{"$f":"'دیده بان'!D497","v":0},{"$f":"'دیده بان'!E497","v":0},{"$f":"'دیده بان'!G497","v":0},{"$f":"'دیده بان'!I497","v":0},0,0,{"$error":"#DIV/0!"},0]
[{"$f":"'دیده بان'!A498","v":0},{"$f":"'دیده بان'!B498","v":0},{"$f":"'دیده بان'!C498","v":0},{"$f":"'دیده بان'!D498","v":0},{"$f":"'دیده بان'!E498","v":0},{"$f":"'دیده بان'!G498","v":0},{"$f":"'دیده بان'!I498","v":0},0,0,{"$error":"#DIV/0!"},0]
[{"$f":"'دیده بان'!A499","v":0},{"$f":"'دیده بان'!B499","v":0},{"$f":"'دیده بان'!C499","v":0},{"$f":"'دیده بان'!D499","v":0},{"$f":"'دیده بان'!E499","v":0},{"$f":"'دیده بان'!G499","v":0},{"$f":"'دیده بان'!I499","v":0},0,0,{"$error":"#DIV/0!"},0]
[{"$f":"'دیده بان'!A500","v":0},{"$f":"'دیده بان'!B500","v":0},{"$f":"'دیده بان'!C500","v":0},{"$f":"'دیده بان'!D500","v":0},{"$f":"'دیده بان'!E500","v":0},{"$f":"'دیده بان'!G500","v":0},{"$f":"'دیده بان'!I500","v":0},0,0,{"$error":"#DIV/0!"},0]
[{"$f":"'دیده بان'!A501","v":0},{"$f":"'دیده بان'!B501","v":0},{"$f":"'دیده بان'!C501","v":0},{"$f":"'دیده بان'!D501","v":0},{"$f":"'دیده بان'!E501","v":0},{"$f":"'دیده بان'!G501","v":0},{"$f":"'دیده بان'!I501","v":0},0,0,{"$error":"#DIV/0!"},0]
[{"$f":"'دیده بان'!A502","v":0},{"$f":"'دیده بان'!B502","v":0},{"$f":"'دیده بان'!C502","v":0},{"$f":"'دیده بان'!D502","v":0},{"$f":"'دیده بان'!E502","v":0},{"$f":"'دیده بان'!G502","v":0},{"$f":"'دیده بان'!I502","v":0},0,0,{"$error":"#DIV/0!"},0]
[{"$f":"'دیده بان'!A503","v":0},{"$f":"'دیده بان'!B503","v":0},{"$f":"'دیده بان'!C503","v":0},{"$f":"'دیده بان'!D503","v":0},{"$f":"'دیده بان'!E503","v":0},{"$f":"'دیده بان'!G503","v":0},{"$f":"'دیده بان'!I503","v":0},0,0,{"$error":"#DIV/0!"},0]
[{"$f":"'دیده بان'!A504","v":0},{"$f":"'دیده بان'!B504","v":0},{"$f":"'دیده بان'!C504","v":0},{"$f":"'دیده بان'!D504","v":0},{"$f":"'دیده بان'!E504","v":0},{"$f":"'دیده بان'!G504","v":0},{"$f":"'دیده بان'!I504","v":0},0,0,{"$error":"#DIV/0!"},0]
[{"$f":"'دیده بان'!A505","v":0},{"$f":"'دیده بان'!B505","v":0},{"$f":"'دیده بان'!C505","v":0},{"$f":"'دیده بان'!D505","v":0},{"$f":"'دیده بان'!E505","v":0},{"$f":"'دیده بان'!G505","v":0},{"$f":"'دیده بان'!I505","v":0},0,0,{"$error":"#DIV/0!"},0]
[{"$f":"'دیده بان'!A506","v":0},{"$f":"'دیده بان'!B506","v":0},{"$f":"'دیده بان'!C506","v":0},{"$f":"'دیده بان'!D506","v":0},{"$f":"'دیده بان'!E506","v":0},{"$f":"'دیده بان'!G506","v":0},{"$f":"'دیده بان'!I506","v":0},0,0,{"$error":"#DIV/0!"},0]
[{"$f":"'دیده بان'!A507","v":0},{"$f":"'دیده بان'!B507","v":0},{"$f":"'دیده بان'!C507","v":0},{"$f":"'دیده بان'!D507","v":0},{"$f":"'دیده بان'!E507","v":0},{"$f":"'دیده بان'!G507","v":0},{"$f":"'دیده بان'!I507","v":0},0,0,{"$error":"#DIV/0!"},0]
[{"$f":"'دیده بان'!A508","v":0},{"$f":"'دیده بان'!B508","v":0},{"$f":"'دیده بان'!C508","v":0},{"$f":"'دیده بان'!D508","v":0},{"$f":"'دیده بان'!E508","v":0},{"$f":"'دیده بان'!G508","v":0},{"$f":"'دیده بان'!I508","v":0},0,0,{"$error":"#DIV/0!"},0]
[{"$f":"'دیده بان'!A509","v":0},{"$f":"'دیده بان'!B509","v":0},{"$f":"'دیده بان'!C509","v":0},{"$f":"'دیده بان'!D509","v":0},{"$f":"'دیده بان'!E509","v":0},{"$f":"'دیده بان'!G509","v":0},{"$f":"'دیده بان'!I509","v":0},0,0,{"$error":"#DIV/0!"},0]
[{"$f":"'دیده بان'!A510","v":0},{"$f":"'دیده بان'!B510","v":0},{"$f":"'دیده بان'!C510","v":0},{"$f":"'دیده بان'!D510","v":0},{"$f":"'دیده بان'!E510","v":0},{"$f":"'دیده بان'!G510","v":0},{"$f":"'دیده بان'!I510","v":0},0,0,{"$error":"#DIV/0!"},0]
[{"$f":"'دیده بان'!A511","v":0},{"$f":"'دیده بان'!B511","v":0},{"$f":"'دیده بان'!C511","v":0},{"$f":"'دیده بان'!D511","v":0},{"$f":"'دیده بان'!E511","v":0},{"$f":"'دیده بان'!G511","v":0},{"$f":"'دیده بان'!I511","v":0},0,0,{"$error":"#DIV/0!"},0]
[{"$f":"'دیده بان'!A512","v":0},{"$f":"'دیده بان'!B512","v":0},{"$f":"'دیده بان'!C512","v":0},{"$f":"'دیده بان'!D512","v":0},{"$f":"'دیده بان'!E512","v":0},{"$f":"'دیده بان'!G512","v":0},{"$f":"'دیده بان'!I512","v":0},0,0,{"$error":"#DIV/0!"},0]
[{"$f":"'دیده بان'!A513","v":0},{"$f":"'دیده بان'!B513","v":0},{"$f":"'دیده بان'!C513","v":0},{"$f":"'دیده بان'!D513","v":0},{"$f":"'دیده بان'!E513","v":0},{"$f":"'دیده بان'!G513","v":0},{"$f":"'دیده بان'!I513","v":0},0,0,{"$error":"#DIV/0!"},0]
[{"$f":"'دیده بان'!A514","v":0},{"$f":"'دیده بان'!B514","v":0},{"$f":"'دیده بان'!C514","v":0},{"$f":"'دیده بان'!D514","v":0},{"$f":"'دیده بان'!E514","v":0},{"$f":"'دیده بان'!G514","v":0},{"$f":"'دیده بان'!I514","v":0},{"$f":"C514-G514","v":0},{"$f":"IFERROR(-G514/C514,0)","v":0},{"$error":"#DIV/0!"},{"$f":"IFERROR((G514+B514-C514)/H514/E514*30,0)","v":0}]
[{"$f":"'دیده بان'!A515","v":0},{"$f":"'دیده بان'!B515","v":0},{"$f":"'دیده بان'!C515","v":0},{"$f":"'دیده بان'!D515","v":0},{"$f":"'دیده بان'!E515","v":0},{"$f":"'دیده بان'!G515","v":0},{"$f":"'دیده بان'!I515","v":0},0,0,{"$f":"IF(C515<=B515,G515,B515+G515-C515)/H515/E515*30","v":{"$error":"#DIV/0!"}},0]
[{"$f":"'دیده بان'!A516","v":0},{"$f":"'دیده بان'!B516","v":0},{"$f":"'دیده بان'!C516","v":0},{"$f":"'دیده بان'!D516","v":0},{"$f":"'دیده بان'!E516","v":0},{"$f":"'دیده بان'!G516","v":0},{"$f":"'دیده بان'!I516","v":0},0,0,{"$error":"#DIV/0!"},0]
[{"$f":"'دیده بان'!A517","v":0},{"$f":"'دیده بان'!B517","v":0},{"$f":"'دیده بان'!C517","v":0},{"$f":"'دیده بان'!D517","v":0},{"$f":"'دیده بان'!E517","v":0},{"$f":"'دیده بان'!G517","v":0},{"$f":"'دیده بان'!I517","v":0},0,0,{"$error":"#DIV/0!"},0]
[{"$f":"'دیده بان'!A518","v":0},{"$f":"'دیده بان'!B518","v":0},{"$f":"'دیده بان'!C518","v":0},{"$f":"'دیده بان'!D518","v":0},{"$f":"'دیده بان'!E518","v":0},{"$f":"'دیده بان'!G518","v":0},{"$f":"'دیده بان'!I518","v":0},0,0,{"$error":"#DIV/0!"},0]
[{"$f":"'دیده بان'!A519","v":0},{"$f":"'دیده بان'!B519","v":0},{"$f":"'دیده بان'!C519","v":0},{"$f":"'دیده بان'!D519","v":0},{"$f":"'دیده بان'!E519","v":0},{"$f":"'دیده بان'!G519","v":0},{"$f":"'دیده بان'!I519","v":0},0,0,{"$error":"#DIV/0!"},0]
[{"$f":"'دیده بان'!A520","v":0},{"$f":"'دیده بان'!B520","v":0},{"$f":"'دیده بان'!C520","v":0},{"$f":"'دیده بان'!D520","v":0},{"$f":"'دیده بان'!E520","v":0},{"$f":"'دیده بان'!G520","v":0},{"$f":"'دیده بان'!I520","v":0},0,0,{"$error":"#DIV/0!"},0]
[{"$f":"'دیده بان'!A521","v":0},{"$f":"'دیده بان'!B521","v":0},{"$f":"'دیده بان'!C521","v":0},{"$f":"'دیده بان'!D521","v":0},{"$f":"'دیده بان'!E521","v":0},{"$f":"'دیده بان'!G521","v":0},{"$f":"'دیده بان'!I521","v":0},0,0,{"$error":"#DIV/0!"},0]
[{"$f":"'دیده بان'!A522","v":0},{"$f":"'دیده بان'!B522","v":0},{"$f":"'دیده بان'!C522","v":0},{"$f":"'دیده بان'!D522","v":0},{"$f":"'دیده بان'!E522","v":0},{"$f":"'دیده بان'!G522","v":0},{"$f":"'دیده بان'!I522","v":0},0,0,{"$error":"#DIV/0!"},0]
[{"$f":"'دیده بان'!A523","v":0},{"$f":"'دیده بان'!B523","v":0},{"$f":"'دیده بان'!C523","v":0},{"$f":"'دیده بان'!D523","v":0},{"$f":"'دیده بان'!E523","v":0},{"$f":"'دیده بان'!G523","v":0},{"$f":"'دیده بان'!I523","v":0},0,0,{"$error":"#DIV/0!"},0]
[{"$f":"'دیده بان'!A524","v":0},{"$f":"'دیده بان'!B524","v":0},{"$f":"'دیده بان'!C524","v":0},{"$f":"'دیده بان'!D524","v":0},{"$f":"'دیده بان'!E524","v":0},{"$f":"'دیده بان'!G524","v":0},{"$f":"'دیده بان'!I524","v":0},0,0,{"$error":"#DIV/0!"},0]
[{"$f":"'دیده بان'!A525","v":0},{"$f":"'دیده بان'!B525","v":0},{"$f":"'دیده بان'!C525","v":0},{"$f":"'دیده بان'!D525","v":0},{"$f":"'دیده بان'!E525","v":0},{"$f":"'دیده بان'!G525","v":0},{"$f":"'دیده بان'!I525","v":0},0,0,{"$error":"#DIV/0!"},0]
[{"$f":"'دیده بان'!A526","v":0},{"$f":"'دیده بان'!B526","v":0},{"$f":"'دیده بان'!C526","v":0},{"$f":"'دیده بان'!D526","v":0},{"$f":"'دیده بان'!E526","v":0},{"$f":"'دیده بان'!G526","v":0},{"$f":"'دیده بان'!I526","v":0},0,0,{"$error":"#DIV/0!"},0]
[{"$f":"'دیده بان'!A527","v":0},{"$f":"'دیده بان'!B527","v":0},{"$f":"'دیده بان'!C527","v":0},{"$f":"'دیده بان'!D527","v":0},{"$f":"'دیده بان'!E527","v":0},{"$f":"'دیده بان'!G527","v":0},{"$f":"'دیده بان'!I527","v":0},0,0,{"$error":"#DIV/0!"},0]
[{"$f":"'دیده بان'!A528","v":0},{"$f":"'دیده بان'!B528","v":0},{"$f":"'دیده بان'!C528","v":0},{"$f":"'دیده بان'!D528","v":0},{"$f":"'دیده بان'!E528","v":0},{"$f":"'دیده بان'!G528","v":0},{"$f":"'دیده بان'!I528","v":0},0,0,{"$error":"#DIV/0!"},0]
[{"$f":"'دیده بان'!A529","v":0},{"$f":"'دیده بان'!B529","v":0},{"$f":"'دیده بان'!C529","v":0},{"$f":"'دیده بان'!D529","v":0},{"$f":"'دیده بان'!E529","v":0},{"$f":"'دیده بان'!G529","v":0},{"$f":"'دیده بان'!I529","v":0},0,0,{"$error":"#DIV/0!"},0]
[{"$f":"'دیده بان'!A530","v":0},{"$f":"'دیده بان'!B530","v":0},{"$f":"'دیده بان'!C530","v":0},{"$f":"'دیده بان'!D530","v":0},{"$f":"'دیده بان'!E530","v":0},{"$f":"'دیده بان'!G530","v":0},{"$f":"'دیده بان'!I530","v":0},0,0,{"$error":"#DIV/0!"},0]
[{"$f":"'دیده بان'!A531","v":0},{"$f":"'دیده بان'!B531","v":0},{"$f":"'دیده بان'!C531","v":0},{"$f":"'دیده بان'!D531","v":0},{"$f":"'دیده بان'!E531","v":0},{"$f":"'دیده بان'!G531","v":0},{"$f":"'دیده بان'!I531","v":0},0,0,{"$error":"#DIV/0!"},0]
[{"$f":"'دیده بان'!A532","v":0},{"$f":"'دیده بان'!B532","v":0},{"$f":"'دیده بان'!C532","v":0},{"$f":"'دیده بان'!D532","v":0},{"$f":"'دیده بان'!E532","v":0},{"$f":"'دیده بان'!G532","v":0},{"$f":"'دیده بان'!I532","v":0},0,0,{"$error":"#DIV/0!"},0]
[{"$f":"'دیده بان'!A533","v":0},{"$f":"'دیده بان'!B533","v":0},{"$f":"'دیده بان'!C533","v":0},{"$f":"'دیده بان'!D533","v":0},{"$f":"'دیده بان'!E533","v":0},{"$f":"'دیده بان'!G533","v":0},{"$f":"'دیده بان'!I533","v":0},0,0,{"$error":"#DIV/0!"},0]
[{"$f":"'دیده بان'!A534","v":0},{"$f":"'دیده بان'!B534","v":0},{"$f":"'دیده بان'!C534","v":0},{"$f":"'دیده بان'!D534","v":0},{"$f":"'دیده بان'!E534","v":0},{"$f":"'دیده بان'!G534","v":0},{"$f":"'دیده بان'!I534","v":0},0,0,{"$error":"#DIV/0!"},0]
[{"$f":"'دیده بان'!A535","v":0},{"$f":"'دیده بان'!B535","v":0},{"$f":"'دیده بان'!C535","v":0},{"$f":"'دیده بان'!D535","v":0},{"$f":"'دیده بان'!E535","v":0},{"$f":"'دیده بان'!G535","v":0},{"$f":"'دیده بان'!I535","v":0},0,0,{"$error":"#DIV/0!"},0]
[{"$f":"'دیده بان'!A536","v":0},{"$f":"'دیده بان'!B536","v":0},{"$f":"'دیده بان'!C536","v":0},{"$f":"'دیده بان'!D536","v":0},{"$f":"'دیده بان'!E536","v":0},{"$f":"'دیده بان'!G536","v":0},{"$f":"'دیده بان'!I536","v":0},0,0,{"$error":"#DIV/0!"},0]
[{"$f":"'دیده بان'!A537","v":0},{"$f":"'دیده بان'!B537","v":0},{"$f":"'دیده بان'!C537","v":0},{"$f":"'دیده بان'!D537","v":0},{"$f":"'دیده بان'!E537","v":0},{"$f":"'دیده بان'!G537","v":0},{"$f":"'دیده بان'!I537","v":0},0,0,{"$error":"#DIV/0!"},0]
[{"$f":"'دیده بان'!A538","v":0},{"$f":"'دیده بان'!B538","v":0},{"$f":"'دیده بان'!C538","v":0},{"$f":"'دیده بان'!D538","v":0},{"$f":"'دیده بان'!E538","v":0},{"$f":"'دیده بان'!G538","v":0},{"$f":"'دیده بان'!I538","v":0},0,0,{"$error":"#DIV/0!"},0]
[{"$f":"'دیده بان'!A539","v":0},{"$f":"'دیده بان'!B539","v":0},{"$f":"'دیده بان'!C539","v":0},{"$f":"'دیده بان'!D539","v":0},{"$f":"'دیده بان'!E539","v":0},{"$f":"'دیده بان'!G539","v":0},{"$f":"'دیده بان'!I539","v":0},0,0,{"$error":"#DIV/0!"},0]
[{"$f":"'دیده بان'!A540","v":0},{"$f":"'دیده بان'!B540","v":0},{"$f":"'دیده بان'!C540","v":0},{"$f":"'دیده بان'!D540","v":0},{"$f":"'دیده بان'!E540","v":0},{"$f":"'دیده بان'!G540","v":0},{"$f":"'دیده بان'!I540","v":0},0,0,{"$error":"#DIV/0!"},0]
[{"$f":"'دیده بان'!A541","v":0},{"$f":"'دیده بان'!B541","v":0},{"$f":"'دیده بان'!C541","v":0},{"$f":"'دیده بان'!D541","v":0},{"$f":"'دیده بان'!E541","v":0},{"$f":"'دیده بان'!G541","v":0},{"$f":"'دیده بان'!I541","v":0},0,0,{"$error":"#DIV/0!"},0]
[{"$f":"'دیده بان'!A542","v":0},{"$f":"'دیده بان'!B542","v":0},{"$f":"'دیده بان'!C542","v":0},{"$f":"'دیده بان'!D542","v":0},{"$f":"'دیده بان'!E542","v":0},{"$f":"'دیده بان'!G542","v":0},{"$f":"'دیده بان'!I542","v":0},0,0,{"$error":"#DIV/0!"},0]
[{"$f":"'دیده بان'!A543","v":0},{"$f":"'دیده بان'!B543","v":0},{"$f":"'دیده بان'!C543","v":0},{"$f":"'دیده بان'!D543","v":0},{"$f":"'دیده بان'!E543","v":0},{"$f":"'دیده بان'!G543","v":0},{"$f":"'دیده بان'!I543","v":0},0,0,{"$error":"#DIV/0!"},0]
[{"$f":"'دیده بان'!A544","v":0},{"$f":"'دیده بان'!B544","v":0},{"$f":"'دیده بان'!C544","v":0},{"$f":"'دیده بان'!D544","v":0},{"$f":"'دیده بان'!E544","v":0},{"$f":"'دیده بان'!G544","v":0},{"$f":"'دیده بان'!I544","v":0},0,0,{"$error":"#DIV/0!"},0]
[{"$f":"'دیده بان'!A545","v":0},{"$f":"'دیده بان'!B545","v":0},{"$f":"'دیده بان'!C545","v":0},{"$f":"'دیده بان'!D545","v":0},{"$f":"'دیده بان'!E545","v":0},{"$f":"'دیده بان'!G545","v":0},{"$f":"'دیده بان'!I545","v":0},0,0,{"$error":"#DIV/0!"},0]
[{"$f":"'دیده بان'!A546","v":0},{"$f":"'دیده بان'!B546","v":0},{"$f":"'دیده بان'!C546","v":0},{"$f":"'دیده بان'!D546","v":0},{"$f":"'دیده بان'!E546","v":0},{"$f":"'دیده بان'!G546","v":0},{"$f":"'دیده بان'!I546","v":0},0,0,{"$error":"#DIV/0!"},0]
[{"$f":"'دیده بان'!A547","v":0},{"$f":"'دیده بان'!B547","v":0},{"$f":"'دیده بان'!C547","v":0},{"$f":"'دیده بان'!D547","v":0},{"$f":"'دیده بان'!E547","v":0},{"$f":"'دیده بان'!G547","v":0},{"$f":"'دیده بان'!I547","v":0},0,0,{"$error":"#DIV/0!"},0]
[{"$f":"'دیده بان'!A548","v":0},{"$f":"'دیده بان'!B548","v":0},{"$f":"'دیده بان'!C548","v":0},{"$f":"'دیده بان'!D548","v":0},{"$f":"'دیده بان'!E548","v":0},{"$f":"'دیده بان'!G548","v":0},{"$f":"'دیده بان'!I548","v":0},0,0,{"$error":"#DIV/0!"},0]
[{"$f":"'دیده بان'!A549","v":0},{"$f":"'دیده بان'!B549","v":0},{"$f":"'دیده بان'!C549","v":0},{"$f":"'دیده بان'!D549","v":0},{"$f":"'دیده بان'!E549","v":0},{"$f":"'دیده بان'!G549","v":0},{"$f":"'دیده بان'!I549","v":0},0,0,{"$error":"#DIV/0!"},0]
[{"$f":"'دیده بان'!A550","v":0},{"$f":"'دیده بان'!B550","v":0},{"$f":"'دیده بان'!C550","v":0},{"$f":"'دیده بان'!D550","v":0},{"$f":"'دیده بان'!E550","v":0},{"$f":"'دیده بان'!G550","v":0},{"$f":"'دیده بان'!I550","v":0},0,0,{"$error":"#DIV/0!"},0]
[{"$f":"'دیده بان'!A551","v":0},{"$f":"'دیده بان'!B551","v":0},{"$f":"'دیده بان'!C551","v":0},{"$f":"'دیده بان'!D551","v":0},{"$f":"'دیده بان'!E551","v":0},{"$f":"'دیده بان'!G551","v":0},{"$f":"'دیده بان'!I551","v":0},0,0,{"$error":"#DIV/0!"},0]
[{"$f":"'دیده بان'!A552","v":0},{"$f":"'دیده بان'!B552","v":0},{"$f":"'دیده بان'!C552","v":0},{"$f":"'دیده بان'!D552","v":0},{"$f":"'دیده بان'!E552","v":0},{"$f":"'دیده بان'!G552","v":0},{"$f":"'دیده بان'!I552","v":0},0,0,{"$error":"#DIV/0!"},0]
[{"$f":"'دیده بان'!A553","v":0},{"$f":"'دیده بان'!B553","v":0},{"$f":"'دیده بان'!C553","v":0},{"$f":"'دیده بان'!D553","v":0},{"$f":"'دیده بان'!E553","v":0},{"$f":"'دیده بان'!G553","v":0},{"$f":"'دیده بان'!I553","v":0},0,0,{"$error":"#DIV/0!"},0]
[{"$f":"'دیده بان'!A554","v":0},{"$f":"'دیده بان'!B554","v":0},{"$f":"'دیده بان'!C554","v":0},{"$f":"'دیده بان'!D554","v":0},{"$f":"'دیده بان'!E554","v":0},{"$f":"'دیده بان'!G554","v":0},{"$f":"'دیده بان'!I554","v":0},0,0,{"$error":"#DIV/0!"},0]
[{"$f":"'دیده بان'!A555","v":0},{"$f":"'دیده بان'!B555","v":0},{"$f":"'دیده بان'!C555","v":0},{"$f":"'دیده بان'!D555","v":0},{"$f":"'دیده بان'!E555","v":0},{"$f":"'دیده بان'!G555","v":0},{"$f":"'دیده بان'!I555","v":0},0,0,{"$error":"#DIV/0!"},0]
[{"$f":"'دیده بان'!A556","v":0},{"$f":"'دیده بان'!B556","v":0},{"$f":"'دیده بان'!C556","v":0},{"$f":"'دیده بان'!D556","v":0},{"$f":"'دیده بان'!E556","v":0},{"$f":"'دیده بان'!G556","v":0},{"$f":"'دیده بان'!I556","v":0},0,0,{"$error":"#DIV/0!"},0]
[{"$f":"'دیده بان'!A557","v":0},{"$f":"'دیده بان'!B557","v":0},{"$f":"'دیده بان'!C557","v":0},{"$f":"'دیده بان'!D557","v":0},{"$f":"'دیده بان'!E557","v":0},{"$f":"'دیده بان'!G557","v":0},{"$f":"'دیده بان'!I557","v":0},0,0,{"$error":"#DIV/0!"},0]
[{"$f":"'دیده بان'!A558","v":0},{"$f":"'دیده بان'!B558","v":0},{"$f":"'دیده بان'!C558","v":0},{"$f":"'دیده بان'!D558","v":0},{"$f":"'دیده بان'!E558","v":0},{"$f":"'دیده بان'!G558","v":0},{"$f":"'دیده بان'!I558","v":0},0,0,{"$error":"#DIV/0!"},0]
[{"$f":"'دیده بان'!A559","v":0},{"$f":"'دیده بان'!B559","v":0},{"$f":"'دیده بان'!C559","v":0},{"$f":"'دیده بان'!D559","v":0},{"$f":"'دیده بان'!E559","v":0},{"$f":"'دیده بان'!G559","v":0},{"$f":"'دیده بان'!I559","v":0},0,0,{"$error":"#DIV/0!"},0]
[{"$f":"'دیده بان'!A560","v":0},{"$f":"'دیده بان'!B560","v":0},{"$f":"'دیده بان'!C560","v":0},{"$f":"'دیده بان'!D560","v":0},{"$f":"'دیده بان'!E560","v":0},{"$f":"'دیده بان'!G560","v":0},{"$f":"'دیده بان'!I560","v":0},0,0,{"$error":"#DIV/0!"},0]
[{"$f":"'دیده بان'!A561","v":0},{"$f":"'دیده بان'!B561","v":0},{"$f":"'دیده بان'!C561","v":0},{"$f":"'دیده بان'!D561","v":0},{"$f":"'دیده بان'!E561","v":0},{"$f":"'دیده بان'!G561","v":0},{"$f":"'دیده بان'!I561","v":0},0,0,{"$error":"#DIV/0!"},0]
[{"$f":"'دیده بان'!A562","v":0},{"$f":"'دیده بان'!B562","v":0},{"$f":"'دیده بان'!C562","v":0},{"$f":"'دیده بان'!D562","v":0},{"$f":"'دیده بان'!E562","v":0},{"$f":"'دیده بان'!G562","v":0},{"$f":"'دیده بان'!I562","v":0},0,0,{"$error":"#DIV/0!"},0]
[{"$f":"'دیده بان'!A563","v":0},{"$f":"'دیده بان'!B563","v":0},{"$f":"'دیده بان'!C563","v":0},{"$f":"'دیده بان'!D563","v":0},{"$f":"'دیده بان'!E563","v":0},{"$f":"'دیده بان'!G563","v":0},{"$f":"'دیده بان'!I563","v":0},0,0,{"$error":"#DIV/0!"},0]
[{"$f":"'دیده بان'!A564","v":0},{"$f":"'دیده بان'!B564","v":0},{"$f":"'دیده بان'!C564","v":0},{"$f":"'دیده بان'!D564","v":0},{"$f":"'دیده بان'!E564","v":0},{"$f":"'دیده بان'!G564","v":0},{"$f":"'دیده بان'!I564","v":0},0,0,{"$error":"#DIV/0!"},0]
[{"$f":"'دیده بان'!A565","v":0},{"$f":"'دیده بان'!B565","v":0},{"$f":"'دیده بان'!C565","v":0},{"$f":"'دیده بان'!D565","v":0},{"$f":"'دیده بان'!E565","v":0},{"$f":"'دیده بان'!G565","v":0},{"$f":"'دیده بان'!I565","v":0},0,0,{"$error":"#DIV/0!"},0]
[{"$f":"'دیده بان'!A566","v":0},{"$f":"'دیده بان'!B566","v":0},{"$f":"'دیده بان'!C566","v":0},{"$f":"'دیده بان'!D566","v":0},{"$f":"'دیده بان'!E566","v":0},{"$f":"'دیده بان'!G566","v":0},{"$f":"'دیده بان'!I566","v":0},0,0,{"$error":"#DIV/0!"},0]
[{"$f":"'دیده بان'!A567","v":0},{"$f":"'دیده بان'!B567","v":0},{"$f":"'دیده بان'!C567","v":0},{"$f":"'دیده بان'!D567","v":0},{"$f":"'دیده بان'!E567","v":0},{"$f":"'دیده بان'!G567","v":0},{"$f":"'دیده بان'!I567","v":0},0,0,{"$error":"#DIV/0!"},0]
[{"$f":"'دیده بان'!A568","v":0},{"$f":"'دیده بان'!B568","v":0},{"$f":"'دیده بان'!C568","v":0},{"$f":"'دیده بان'!D568","v":0},{"$f":"'دیده بان'!E568","v":0},{"$f":"'دیده بان'!G568","v":0},{"$f":"'دیده بان'!I568","v":0},0,0,{"$error":"#DIV/0!"},0]
[{"$f":"'دیده بان'!A569","v":0},{"$f":"'دیده بان'!B569","v":0},{"$f":"'دیده بان'!C569","v":0},{"$f":"'دیده بان'!D569","v":0},{"$f":"'دیده بان'!E569","v":0},{"$f":"'دیده بان'!G569","v":0},{"$f":"'دیده بان'!I569","v":0},0,0,{"$error":"#DIV/0!"},0]
[{"$f":"'دیده بان'!A570","v":0},{"$f":"'دیده بان'!B570","v":0},{"$f":"'دیده بان'!C570","v":0},{"$f":"'دیده بان'!D570","v":0},{"$f":"'دیده بان'!E570","v":0},{"$f":"'دیده بان'!G570","v":0},{"$f":"'دیده بان'!I570","v":0},0,0,{"$error":"#DIV/0!"},0]
[{"$f":"'دیده بان'!A571","v":0},{"$f":"'دیده بان'!B571","v":0},{"$f":"'دیده بان'!C571","v":0},{"$f":"'دیده بان'!D571","v":0},{"$f":"'دیده بان'!E571","v":0},{"$f":"'دیده بان'!G571","v":0},{"$f":"'دیده بان'!I571","v":0},0,0,{"$error":"#DIV/0!"},0]
[{"$f":"'دیده بان'!A572","v":0},{"$f":"'دیده بان'!B572","v":0},{"$f":"'دیده بان'!C572","v":0},{"$f":"'دیده بان'!D572","v":0},{"$f":"'دیده بان'!E572","v":0},{"$f":"'دیده بان'!G572","v":0},{"$f":"'دیده بان'!I572","v":0},0,0,{"$error":"#DIV/0!"},0]
[{"$f":"'دیده بان'!A573","v":0},{"$f":"'دیده بان'!B573","v":0},{"$f":"'دیده بان'!C573","v":0},{"$f":"'دیده بان'!D573","v":0},{"$f":"'دیده بان'!E573","v":0},{"$f":"'دیده بان'!G573","v":0},{"$f":"'دیده بان'!I573","v":0},0,0,{"$error":"#DIV/0!"},0]
[{"$f":"'دیده بان'!A574","v":0},{"$f":"'دیده بان'!B574","v":0},{"$f":"'دیده بان'!C574","v":0},{"$f":"'دیده بان'!D574","v":0},{"$f":"'دیده بان'!E574","v":0},{"$f":"'دیده بان'!G574","v":0},{"$f":"'دیده بان'!I574","v":0},0,0,{"$error":"#DIV/0!"},0]
[{"$f":"'دیده بان'!A575","v":0},{"$f":"'دیده بان'!B575","v":0},{"$f":"'دیده بان'!C575","v":0},{"$f":"'دیده بان'!D575","v":0},{"$f":"'دیده بان'!E575","v":0},{"$f":"'دیده بان'!G575","v":0},{"$f":"'دیده بان'!I575","v":0},0,0,{"$error":"#DIV/0!"},0]
[{"$f":"'دیده بان'!A576","v":0},{"$f":"'دیده بان'!B576","v":0},{"$f":"'دیده بان'!C576","v":0},{"$f":"'دیده بان'!D576","v":0},{"$f":"'دیده بان'!E576","v":0},{"$f":"'دیده بان'!G576","v":0},{"$f":"'دیده بان'!I576","v":0},0,0,{"$error":"#DIV/0!"},0]
[{"$f":"'دیده بان'!A577","v":0},{"$f":"'دیده بان'!B577","v":0},{"$f":"'دیده بان'!C577","v":0},{"$f":"'دیده بان'!D577","v":0},{"$f":"'دیده بان'!E577","v":0},{"$f":"'دیده بان'!G577","v":0},{"$f":"'دیده بان'!I577","v":0},0,0,{"$error":"#DIV/0!"},0]
[{"$f":"'دیده بان'!A578","v":0},{"$f":"'دیده بان'!B578","v":0},{"$f":"'دیده بان'!C578","v":0},{"$f":"'دیده بان'!D578","v":0},{"$f":"'دیده بان'!E578","v":0},{"$f":"'دیده بان'!G578","v":0},{"$f":"'دیده بان'!I578","v":0},{"$f":"C578-G578","v":0},{"$f":"IFERROR(-G578/C578,0)","v":0},{"$error":"#DIV/0!"},{"$f":"IFERROR((G578+B578-C578)/H578/E578*30,0)","v":0}]
[{"$f":"'دیده بان'!A579","v":0},{"$f":"'دیده بان'!B579","v":0},{"$f":"'دیده بان'!C579","v":0},{"$f":"'دیده بان'!D579","v":0},{"$f":"'دیده بان'!E579","v":0},{"$f":"'دیده بان'!G579","v":0},{"$f":"'دیده بان'!I579","v":0},0,0,{"$f":"IF(C579<=B579,G579,B579+G579-C579)/H579/E579*30","v":{"$error":"#DIV/0!"}},0]
[{"$f":"'دیده بان'!A580","v":0},{"$f":"'دیده بان'!B580","v":0},{"$f":"'دیده بان'!C580","v":0},{"$f":"'دیده بان'!D580","v":0},{"$f":"'دیده بان'!E580","v":0},{"$f":"'دیده بان'!G580","v":0},{"$f":"'دیده بان'!I580","v":0},0,0,{"$error":"#DIV/0!"},0]
[{"$f":"'دیده بان'!A581","v":0},{"$f":"'دیده بان'!B581","v":0},{"$f":"'دیده بان'!C581","v":0},{"$f":"'دیده بان'!D581","v":0},{"$f":"'دیده بان'!E581","v":0},{"$f":"'دیده بان'!G581","v":0},{"$f":"'دیده بان'!I581","v":0},0,0,{"$error":"#DIV/0!"},0]
[{"$f":"'دیده بان'!A582","v":0},{"$f":"'دیده بان'!B582","v":0},{"$f":"'دیده بان'!C582","v":0},{"$f":"'دیده بان'!D582","v":0},{"$f":"'دیده بان'!E582","v":0},{"$f":"'دیده بان'!G582","v":0},{"$f":"'دیده بان'!I582","v":0},0,0,{"$error":"#DIV/0!"},0]
[{"$f":"'دیده بان'!A583","v":0},{"$f":"'دیده بان'!B583","v":0},{"$f":"'دیده بان'!C583","v":0},{"$f":"'دیده بان'!D583","v":0},{"$f":"'دیده بان'!E583","v":0},{"$f":"'دیده بان'!G583","v":0},{"$f":"'دیده بان'!I583","v":0},0,0,{"$error":"#DIV/0!"},0]
[{"$f":"'دیده بان'!A584","v":0},{"$f":"'دیده بان'!B584","v":0},{"$f":"'دیده بان'!C584","v":0},{"$f":"'دیده بان'!D584","v":0},{"$f":"'دیده بان'!E584","v":0},{"$f":"'دیده بان'!G584","v":0},{"$f":"'دیده بان'!I584","v":0},0,0,{"$error":"#DIV/0!"},0]
[{"$f":"'دیده بان'!A585","v":0},{"$f":"'دیده بان'!B585","v":0},{"$f":"'دیده بان'!C585","v":0},{"$f":"'دیده بان'!D585","v":0},{"$f":"'دیده بان'!E585","v":0},{"$f":"'دیده بان'!G585","v":0},{"$f":"'دیده بان'!I585","v":0},0,0,{"$error":"#DIV/0!"},0]
[{"$f":"'دیده بان'!A586","v":0},{"$f":"'دیده بان'!B586","v":0},{"$f":"'دیده بان'!C586","v":0},{"$f":"'دیده بان'!D586","v":0},{"$f":"'دیده بان'!E586","v":0},{"$f":"'دیده بان'!G586","v":0},{"$f":"'دیده بان'!I586","v":0},0,0,{"$error":"#DIV/0!"},0]
[{"$f":"'دیده بان'!A587","v":0},{"$f":"'دیده بان'!B587","v":0},{"$f":"'دیده بان'!C587","v":0},{"$f":"'دیده بان'!D587","v":0},{"$f":"'دیده بان'!E587","v":0},{"$f":"'دیده بان'!G587","v":0},{"$f":"'دیده بان'!I587","v":0},0,0,{"$error":"#DIV/0!"},0]
[{"$f":"'دیده بان'!A588","v":0},{"$f":"'دیده بان'!B588","v":0},{"$f":"'دیده بان'!C588","v":0},{"$f":"'دیده بان'!D588","v":0},{"$f":"'دیده بان'!E588","v":0},{"$f":"'دیده بان'!G588","v":0},{"$f":"'دیده بان'!I588","v":0},0,0,{"$error":"#DIV/0!"},0]
[{"$f":"'دیده بان'!A589","v":0},{"$f":"'دیده بان'!B589","v":0},{"$f":"'دیده بان'!C589","v":0},{"$f":"'دیده بان'!D589","v":0},{"$f":"'دیده بان'!E589","v":0},{"$f":"'دیده بان'!G589","v":0},{"$f":"'دیده بان'!I589","v":0},0,0,{"$error":"#DIV/0!"},0]
[{"$f":"'دیده بان'!A590","v":0},{"$f":"'دیده بان'!B590","v":0},{"$f":"'دیده بان'!C590","v":0},{"$f":"'دیده بان'!D590","v":0},{"$f":"'دیده بان'!E590","v":0},{"$f":"'دیده بان'!G590","v":0},{"$f":"'دیده بان'!I590","v":0},0,0,{"$error":"#DIV/0!"},0]
[{"$f":"'دیده بان'!A591","v":0},{"$f":"'دیده بان'!B591","v":0},{"$f":"'دیده بان'!C591","v":0},{"$f":"'دیده بان'!D591","v":0},{"$f":"'دیده بان'!E591","v":0},{"$f":"'دیده بان'!G591","v":0},{"$f":"'دیده بان'!I591","v":0},0,0,{"$error":"#DIV/0!"},0]
[{"$f":"'دیده بان'!A592","v":0},{"$f":"'دیده بان'!B592","v":0},{"$f":"'دیده بان'!C592","v":0},{"$f":"'دیده بان'!D592","v":0},{"$f":"'دیده بان'!E592","v":0},{"$f":"'دیده بان'!G592","v":0},{"$f":"'دیده بان'!I592","v":0},0,0,{"$error":"#DIV/0!"},0]
[{"$f":"'دیده بان'!A593","v":0},{"$f":"'دیده بان'!B593","v":0},{"$f":"'دیده بان'!C593","v":0},{"$f":"'دیده بان'!D593","v":0},{"$f":"'دیده بان'!E593","v":0},{"$f":"'دیده بان'!G593","v":0},{"$f":"'دیده بان'!I593","v":0},0,0,{"$error":"#DIV/0!"},0]
[{"$f":"'دیده بان'!A594","v":0},{"$f":"'دیده بان'!B594","v":0},{"$f":"'دیده بان'!C594","v":0},{"$f":"'دیده بان'!D594","v":0},{"$f":"'دیده بان'!E594","v":0},{"$f":"'دیده بان'!G594","v":0},{"$f":"'دیده بان'!I594","v":0},0,0,{"$error":"#DIV/0!"},0]
[{"$f":"'دیده بان'!A595","v":0},{"$f":"'دیده بان'!B595","v":0},{"$f":"'دیده بان'!C595","v":0},{"$f":"'دیده بان'!D595","v":0},{"$f":"'دیده بان'!E595","v":0},{"$f":"'دیده بان'!G595","v":0},{"$f":"'دیده بان'!I595","v":0},0,0,{"$error":"#DIV/0!"},0]
[{"$f":"'دیده بان'!A596","v":0},{"$f":"'دیده بان'!B596","v":0},{"$f":"'دیده بان'!C596","v":0},{"$f":"'دیده بان'!D596","v":0},{"$f":"'دیده بان'!E596","v":0},{"$f":"'دیده بان'!G596","v":0},{"$f":"'دیده بان'!I596","v":0},0,0,{"$error":"#DIV/0!"},0]
[{"$f":"'دیده بان'!A597","v":0},{"$f":"'دیده بان'!B597","v":0},{"$f":"'دیده بان'!C597","v":0},{"$f":"'دیده بان'!D597","v":0},{"$f":"'دیده بان'!E597","v":0},{"$f":"'دیده بان'!G597","v":0},{"$f":"'دیده بان'!I597","v":0},0,0,{"$error":"#DIV/0!"},0]
[{"$f":"'دیده بان'!A598","v":0},{"$f":"'دیده بان'!B598","v":0},{"$f":"'دیده بان'!C598","v":0},{"$f":"'دیده بان'!D598","v":0},{"$f":"'دیده بان'!E598","v":0},{"$f":"'دیده بان'!G598","v":0},{"$f":"'دیده بان'!I598","v":0},0,0,{"$error":"#DIV/0!"},0]
[{"$f":"'دیده بان'!A599","v":0},{"$f":"'دیده بان'!B599","v":0},{"$f":"'دیده بان'!C599","v":0},{"$f":"'دیده بان'!D599","v":0},{"$f":"'دیده بان'!E599","v":0},{"$f":"'دیده بان'!G599","v":0},{"$f":"'دیده بان'!I599","v":0},0,0,{"$error":"#DIV/0!"},0]
[{"$f":"'دیده بان'!A600","v":0},{"$f":"'دیده بان'!B600","v":0},{"$f":"'دیده بان'!C600","v":0},{"$f":"'دیده بان'!D600","v":0},{"$f":"'دیده بان'!E600","v":0},{"$f":"'دیده بان'!G600","v":0},{"$f":"'دیده بان'!I600","v":0},0,0,{"$error":"#DIV/0!"},0]
[{"$f":"'دیده بان'!A601","v":0},{"$f":"'دیده بان'!B601","v":0},{"$f":"'دیده بان'!C601","v":0},{"$f":"'دیده بان'!D601","v":0},{"$f":"'دیده بان'!E601","v":0},{"$f":"'دیده بان'!G601","v":0},{"$f":"'دیده بان'!I601","v":0},0,0,{"$error":"#DIV/0!"},0]
[{"$f":"'دیده بان'!A602","v":0},{"$f":"'دیده بان'!B602","v":0},{"$f":"'دیده بان'!C602","v":0},{"$f":"'دیده بان'!D602","v":0},{"$f":"'دیده بان'!E602","v":0},{"$f":"'دیده بان'!G602","v":0},{"$f":"'دیده بان'!I602","v":0},0,0,{"$error":"#DIV/0!"},0]
[{"$f":"'دیده بان'!A603","v":0},{"$f":"'دیده بان'!B603","v":0},{"$f":"'دیده بان'!C603","v":0},{"$f":"'دیده بان'!D603","v":0},{"$f":"'دیده بان'!E603","v":0},{"$f":"'دیده بان'!G603","v":0},{"$f":"'دیده بان'!I603","v":0},0,0,{"$error":"#DIV/0!"},0]
[{"$f":"'دیده بان'!A604","v":0},{"$f":"'دیده بان'!B604","v":0},{"$f":"'دیده بان'!C604","v":0},{"$f":"'دیده بان'!D604","v":0},{"$f":"'دیده بان'!E604","v":0},{"$f":"'دیده بان'!G604","v":0},{"$f":"'دیده بان'!I604","v":0},0,0,{"$error":"#DIV/0!"},0]
[{"$f":"'دیده بان'!A605","v":0},{"$f":"'دیده بان'!B605","v":0},{"$f":"'دیده بان'!C605","v":0},{"$f":"'دیده بان'!D605","v":0},{"$f":"'دیده بان'!E605","v":0},{"$f":"'دیده بان'!G605","v":0},{"$f":"'دیده بان'!I605","v":0},0,0,{"$error":"#DIV/0!"},0]
[{"$f":"'دیده بان'!A606","v":0},{"$f":"'دیده بان'!B606","v":0},{"$f":"'دیده بان'!C606","v":0},{"$f":"'دیده بان'!D606","v":0},{"$f":"'دیده بان'!E606","v":0},{"$f":"'دیده بان'!G606","v":0},{"$f":"'دیده بان'!I606","v":0},0,0,{"$error":"#DIV/0!"},0]
[{"$f":"'دیده بان'!A607","v":0},{"$f":"'دیده بان'!B607","v":0},{"$f":"'دیده بان'!C607","v":0},{"$f":"'دیده بان'!D607","v":0},{"$f":"'دیده بان'!E607","v":0},{"$f":"'دیده بان'!G607","v":0},{"$f":"'دیده بان'!I607","v":0},0,0,{"$error":"#DIV/0!"},0]
[{"$f":"'دیده بان'!A608","v":0},{"$f":"'دیده بان'!B608","v":0},{"$f":"'دیده بان'!C608","v":0},{"$f":"'دیده بان'!D608","v":0},{"$f":"'دیده بان'!E608","v":0},{"$f":"'دیده بان'!G608","v":0},{"$f":"'دیده بان'!I608","v":0},0,0,{"$error":"#DIV/0!"},0]
[{"$f":"'دیده بان'!A609","v":0},{"$f":"'دیده بان'!B609","v":0},{"$f":"'دیده بان'!C609","v":0},{"$f":"'دیده بان'!D609","v":0},{"$f":"'دیده بان'!E609","v":0},{"$f":"'دیده بان'!G609","v":0},{"$f":"'دیده بان'!I609","v":0},0,0,{"$error":"#DIV/0!"},0]
[{"$f":"'دیده بان'!A610","v":0},{"$f":"'دیده بان'!B610","v":0},{"$f":"'دیده بان'!C610","v":0},{"$f":"'دیده بان'!D610","v":0},{"$f":"'دیده بان'!E610","v":0},{"$f":"'دیده بان'!G610","v":0},{"$f":"'دیده بان'!I610","v":0},0,0,{"$error":"#DIV/0!"},0]
[{"$f":"'دیده بان'!A611","v":0},{"$f":"'دیده بان'!B611","v":0},{"$f":"'دیده بان'!C611","v":0},{"$f":"'دیده بان'!D611","v":0},{"$f":"'دیده بان'!E611","v":0},{"$f":"'دیده بان'!G611","v":0},{"$f":"'دیده بان'!I611","v":0},0,0,{"$error":"#DIV/0!"},0]
[{"$f":"'دیده بان'!A612","v":0},{"$f":"'دیده بان'!B612","v":0},{"$f":"'دیده بان'!C612","v":0},{"$f":"'دیده بان'!D612","v":0},{"$f":"'دیده بان'!E612","v":0},{"$f":"'دیده بان'!G612","v":0},{"$f":"'دیده بان'!I612","v":0},0,0,{"$error":"#DIV/0!"},0]
[{"$f":"'دیده بان'!A613","v":0},{"$f":"'دیده بان'!B613","v":0},{"$f":"'دیده بان'!C613","v":0},{"$f":"'دیده بان'!D613","v":0},{"$f":"'دیده بان'!E613","v":0},{"$f":"'دیده بان'!G613","v":0},{"$f":"'دیده بان'!I613","v":0},0,0,{"$error":"#DIV/0!"},0]
[{"$f":"'دیده بان'!A614","v":0},{"$f":"'دیده بان'!B614","v":0},{"$f":"'دیده بان'!C614","v":0},{"$f":"'دیده بان'!D614","v":0},{"$f":"'دیده بان'!E614","v":0},{"$f":"'دیده بان'!G614","v":0},{"$f":"'دیده بان'!I614","v":0},0,0,{"$error":"#DIV/0!"},0]
[{"$f":"'دیده بان'!A615","v":0},{"$f":"'دیده بان'!B615","v":0},{"$f":"'دیده بان'!C615","v":0},{"$f":"'دیده بان'!D615","v":0},{"$f":"'دیده بان'!E615","v":0},{"$f":"'دیده بان'!G615","v":0},{"$f":"'دیده بان'!I615","v":0},0,0,{"$error":"#DIV/0!"},0]
[{"$f":"'دیده بان'!A616","v":0},{"$f":"'دیده بان'!B616","v":0},{"$f":"'دیده بان'!C616","v":0},{"$f":"'دیده بان'!D616","v":0},{"$f":"'دیده بان'!E616","v":0},{"$f":"'دیده بان'!G616","v":0},{"$f":"'دیده بان'!I616","v":0},0,0,{"$error":"#DIV/0!"},0]
[{"$f":"'دیده بان'!A617","v":0},{"$f":"'دیده بان'!B617","v":0},{"$f":"'دیده بان'!C617","v":0},{"$f":"'دیده بان'!D617","v":0},{"$f":"'دیده بان'!E617","v":0},{"$f":"'دیده بان'!G617","v":0},{"$f":"'دیده بان'!I617","v":0},0,0,{"$error":"#DIV/0!"},0]
[{"$f":"'دیده بان'!A618","v":0},{"$f":"'دیده بان'!B618","v":0},{"$f":"'دیده بان'!C618","v":0},{"$f":"'دیده بان'!D618","v":0},{"$f":"'دیده بان'!E618","v":0},{"$f":"'دیده بان'!G618","v":0},{"$f":"'دیده بان'!I618","v":0},0,0,{"$error":"#DIV/0!"},0]
[{"$f":"'دیده بان'!A619","v":0},{"$f":"'دیده بان'!B619","v":0},{"$f":"'دیده بان'!C619","v":0},{"$f":"'دیده بان'!D619","v":0},{"$f":"'دیده بان'!E619","v":0},{"$f":"'دیده بان'!G619","v":0},{"$f":"'دیده بان'!I619","v":0},0,0,{"$error":"#DIV/0!"},0]
[{"$f":"'دیده بان'!A620","v":0},{"$f":"'دیده بان'!B620","v":0},{"$f":"'دیده بان'!C620","v":0},{"$f":"'دیده بان'!D620","v":0},{"$f":"'دیده بان'!E620","v":0},{"$f":"'دیده بان'!G620","v":0},{"$f":"'دیده بان'!I620","v":0},0,0,{"$error":"#DIV/0!"},0]
[{"$f":"'دیده بان'!A621","v":0},{"$f":"'دیده بان'!B621","v":0},{"$f":"'دیده بان'!C621","v":0},{"$f":"'دیده بان'!D621","v":0},{"$f":"'دیده بان'!E621","v":0},{"$f":"'دیده بان'!G621","v":0},{"$f":"'دیده بان'!I621","v":0},0,0,{"$error":"#DIV/0!"},0]
[{"$f":"'دیده بان'!A622","v":0},{"$f":"'دیده بان'!B622","v":0},{"$f":"'دیده بان'!C622","v":0},{"$f":"'دیده بان'!D622","v":0},{"$f":"'دیده بان'!E622","v":0},{"$f":"'دیده بان'!G622","v":0},{"$f":"'دیده بان'!I622","v":0},0,0,{"$error":"#DIV/0!"},0]
[{"$f":"'دیده بان'!A623","v":0},{"$f":"'دیده بان'!B623","v":0},{"$f":"'دیده بان'!C623","v":0},{"$f":"'دیده بان'!D623","v":0},{"$f":"'دیده بان'!E623","v":0},{"$f":"'دیده بان'!G623","v":0},{"$f":"'دیده بان'!I623","v":0},0,0,{"$error":"#DIV/0!"},0]
[{"$f":"'دیده بان'!A624","v":0},{"$f":"'دیده بان'!B624","v":0},{"$f":"'دیده بان'!C624","v":0},{"$f":"'دیده بان'!D624","v":0},{"$f":"'دیده بان'!E624","v":0},{"$f":"'دیده بان'!G624","v":0},{"$f":"'دیده بان'!I624","v":0},0,0,{"$error":"#DIV/0!"},0]
[{"$f":"'دیده بان'!A625","v":0},{"$f":"'دیده بان'!B625","v":0},{"$f":"'دیده بان'!C625","v":0},{"$f":"'دیده بان'!D625","v":0},{"$f":"'دیده بان'!E625","v":0},{"$f":"'دیده بان'!G625","v":0},{"$f":"'دیده بان'!I625","v":0},0,0,{"$error":"#DIV/0!"},0]
[{"$f":"'دیده بان'!A626","v":0},{"$f":"'دیده بان'!B626","v":0},{"$f":"'دیده بان'!C626","v":0},{"$f":"'دیده بان'!D626","v":0},{"$f":"'دیده بان'!E626","v":0},{"$f":"'دیده بان'!G626","v":0},{"$f":"'دیده بان'!I626","v":0},0,0,{"$error":"#DIV/0!"},0]
[{"$f":"'دیده بان'!A627","v":0},{"$f":"'دیده بان'!B627","v":0},{"$f":"'دیده بان'!C627","v":0},{"$f":"'دیده بان'!D627","v":0},{"$f":"'دیده بان'!E627","v":0},{"$f":"'دیده بان'!G627","v":0},{"$f":"'دیده بان'!I627","v":0},0,0,{"$error":"#DIV/0!"},0]
[{"$f":"'دیده بان'!A628","v":0},{"$f":"'دیده بان'!B628","v":0},{"$f":"'دیده بان'!C628","v":0},{"$f":"'دیده بان'!D628","v":0},{"$f":"'دیده بان'!E628","v":0},{"$f":"'دیده بان'!G628","v":0},{"$f":"'دیده بان'!I628","v":0},0,0,{"$error":"#DIV/0!"},0]
[{"$f":"'دیده بان'!A629","v":0},{"$f":"'دیده بان'!B629","v":0},{"$f":"'دیده بان'!C629","v":0},{"$f":"'دیده بان'!D629","v":0},{"$f":"'دیده بان'!E629","v":0},{"$f":"'دیده بان'!G629","v":0},{"$f":"'دیده بان'!I629","v":0},0,0,{"$error":"#DIV/0!"},0]
[{"$f":"'دیده بان'!A630","v":0},{"$f":"'دیده بان'!B630","v":0},{"$f":"'دیده بان'!C630","v":0},{"$f":"'دیده بان'!D630","v":0},{"$f":"'دیده بان'!E630","v":0},{"$f":"'دیده بان'!G630","v":0},{"$f":"'دیده بان'!I630","v":0},0,0,{"$error":"#DIV/0!"},0]
[{"$f":"'دیده بان'!A631","v":0},{"$f":"'دیده بان'!B631","v":0},{"$f":"'دیده بان'!C631","v":0},{"$f":"'دیده بان'!D631","v":0},{"$f":"'دیده بان'!E631","v":0},{"$f":"'دیده بان'!G631","v":0},{"$f":"'دیده بان'!I631","v":0},0,0,{"$error":"#DIV/0!"},0]
[{"$f":"'دیده بان'!A632","v":0},{"$f":"'دیده بان'!B632","v":0},{"$f":"'دیده بان'!C632","v":0},{"$f":"'دیده بان'!D632","v":0},{"$f":"'دیده بان'!E632","v":0},{"$f":"'دیده بان'!G632","v":0},{"$f":"'دیده بان'!I632","v":0},0,0,{"$error":"#DIV/0!"},0]
[{"$f":"'دیده بان'!A633","v":0},{"$f":"'دیده بان'!B633","v":0},{"$f":"'دیده بان'!C633","v":0},{"$f":"'دیده بان'!D633","v":0},{"$f":"'دیده بان'!E633","v":0},{"$f":"'دیده بان'!G633","v":0},{"$f":"'دیده بان'!I633","v":0},0,0,{"$error":"#DIV/0!"},0]
[{"$f":"'دیده بان'!A634","v":0},{"$f":"'دیده بان'!B634","v":0},{"$f":"'دیده بان'!C634","v":0},{"$f":"'دیده بان'!D634","v":0},{"$f":"'دیده بان'!E634","v":0},{"$f":"'دیده بان'!G634","v":0},{"$f":"'دیده بان'!I634","v":0},0,0,{"$error":"#DIV/0!"},0]
[{"$f":"'دیده بان'!A635","v":0},{"$f":"'دیده بان'!B635","v":0},{"$f":"'دیده بان'!C635","v":0},{"$f":"'دیده بان'!D635","v":0},{"$f":"'دیده بان'!E635","v":0},{"$f":"'دیده بان'!G635","v":0},{"$f":"'دیده بان'!I635","v":0},0,0,{"$error":"#DIV/0!"},0]
[{"$f":"'دیده بان'!A636","v":0},{"$f":"'دیده بان'!B636","v":0},{"$f":"'دیده بان'!C636","v":0},{"$f":"'دیده بان'!D636","v":0},{"$f":"'دیده بان'!E636","v":0},{"$f":"'دیده بان'!G636","v":0},{"$f":"'دیده بان'!I636","v":0},0,0,{"$error":"#DIV/0!"},0]
[{"$f":"'دیده بان'!A637","v":0},{"$f":"'دیده بان'!B637","v":0},{"$f":"'دیده بان'!C637","v":0},{"$f":"'دیده بان'!D637","v":0},{"$f":"'دیده بان'!E637","v":0},{"$f":"'دیده بان'!G637","v":0},{"$f":"'دیده بان'!I637","v":0},0,0,{"$error":"#DIV/0!"},0]
[{"$f":"'دیده بان'!A638","v":0},{"$f":"'دیده بان'!B638","v":0},{"$f":"'دیده بان'!C638","v":0},{"$f":"'دیده بان'!D638","v":0},{"$f":"'دیده بان'!E638","v":0},{"$f":"'دیده بان'!G638","v":0},{"$f":"'دیده بان'!I638","v":0},0,0,{"$error":"#DIV/0!"},0]
[{"$f":"'دیده بان'!A639","v":0},{"$f":"'دیده بان'!B639","v":0},{"$f":"'دیده بان'!C639","v":0},{"$f":"'دیده بان'!D639","v":0},{"$f":"'دیده بان'!E639","v":0},{"$f":"'دیده بان'!G639","v":0},{"$f":"'دیده بان'!I639","v":0},0,0,{"$error":"#DIV/0!"},0]
[{"$f":"'دیده بان'!A640","v":0},{"$f":"'دیده بان'!B640","v":0},{"$f":"'دیده بان'!C640","v":0},{"$f":"'دیده بان'!D640","v":0},{"$f":"'دیده بان'!E640","v":0},{"$f":"'دیده بان'!G640","v":0},{"$f":"'دیده بان'!I640","v":0},0,0,{"$error":"#DIV/0!"},0]
[{"$f":"'دیده بان'!A641","v":0},{"$f":"'دیده بان'!B641","v":0},{"$f":"'دیده بان'!C641","v":0},{"$f":"'دیده بان'!D641","v":0},{"$f":"'دیده بان'!E641","v":0},{"$f":"'دیده بان'!G641","v":0},{"$f":"'دیده بان'!I641","v":0},0,0,{"$error":"#DIV/0!"},0]
[{"$f":"'دیده بان'!A642","v":0},{"$f":"'دیده بان'!B642","v":0},{"$f":"'دیده بان'!C642","v":0},{"$f":"'دیده بان'!D642","v":0},{"$f":"'دیده بان'!E642","v":0},{"$f":"'دیده بان'!G642","v":0},{"$f":"'دیده بان'!I642","v":0},{"$f":"C642-G642","v":0},{"$f":"IFERROR(-G642/C642,0)","v":0},{"$error":"#DIV/0!"},{"$f":"IFERROR((G642+B642-C642)/H642/E642*30,0)","v":0}]
[{"$f":"'دیده بان'!A643","v":0},{"$f":"'دیده بان'!B643","v":0},{"$f":"'دیده بان'!C643","v":0},{"$f":"'دیده بان'!D643","v":0},{"$f":"'دیده بان'!E643","v":0},{"$f":"'دیده بان'!G643","v":0},{"$f":"'دیده بان'!I643","v":0},0,0,{"$f":"IF(C643<=B643,G643,B643+G643-C643)/H643/E643*30","v":{"$error":"#DIV/0!"}},0]
[{"$f":"'دیده بان'!A644","v":0},{"$f":"'دیده بان'!B644","v":0},{"$f":"'دیده بان'!C644","v":0},{"$f":"'دیده بان'!D644","v":0},{"$f":"'دیده بان'!E644","v":0},{"$f":"'دیده بان'!G644","v":0},{"$f":"'دیده بان'!I644","v":0},0,0,{"$error":"#DIV/0!"},0]
[{"$f":"'دیده بان'!A645","v":0},{"$f":"'دیده بان'!B645","v":0},{"$f":"'دیده بان'!C645","v":0},{"$f":"'دیده بان'!D645","v":0},{"$f":"'دیده بان'!E645","v":0},{"$f":"'دیده بان'!G645","v":0},{"$f":"'دیده بان'!I645","v":0},0,0,{"$error":"#DIV/0!"},0]
[{"$f":"'دیده بان'!A646","v":0},{"$f":"'دیده بان'!B646","v":0},{"$f":"'دیده بان'!C646","v":0},{"$f":"'دیده بان'!D646","v":0},{"$f":"'دیده بان'!E646","v":0},{"$f":"'دیده بان'!G646","v":0},{"$f":"'دیده بان'!I646","v":0},0,0,{"$error":"#DIV/0!"},0]
[{"$f":"'دیده بان'!A647","v":0},{"$f":"'دیده بان'!B647","v":0},{"$f":"'دیده بان'!C647","v":0},{"$f":"'دیده بان'!D647","v":0},{"$f":"'دیده بان'!E647","v":0},{"$f":"'دیده بان'!G647","v":0},{"$f":"'دیده بان'!I647","v":0},0,0,{"$error":"#DIV/0!"},0]
[{"$f":"'دیده بان'!A648","v":0},{"$f":"'دیده بان'!B648","v":0},{"$f":"'دیده بان'!C648","v":0},{"$f":"'دیده بان'!D648","v":0},{"$f":"'دیده بان'!E648","v":0},{"$f":"'دیده بان'!G648","v":0},{"$f":"'دیده بان'!I648","v":0},0,0,{"$error":"#DIV/0!"},0]
[{"$f":"'دیده بان'!A649","v":0},{"$f":"'دیده بان'!B649","v":0},{"$f":"'دیده بان'!C649","v":0},{"$f":"'دیده بان'!D649","v":0},{"$f":"'دیده بان'!E649","v":0},{"$f":"'دیده بان'!G649","v":0},{"$f":"'دیده بان'!I649","v":0},0,0,{"$error":"#DIV/0!"},0]
[{"$f":"'دیده بان'!A650","v":0},{"$f":"'دیده بان'!B650","v":0},{"$f":"'دیده بان'!C650","v":0},{"$f":"'دیده بان'!D650","v":0},{"$f":"'دیده بان'!E650","v":0},{"$f":"'دیده بان'!G650","v":0},{"$f":"'دیده بان'!I650","v":0},0,0,{"$error":"#DIV/0!"},0]
[{"$f":"'دیده بان'!A651","v":0},{"$f":"'دیده بان'!B651","v":0},{"$f":"'دیده بان'!C651","v":0},{"$f":"'دیده بان'!D651","v":0},{"$f":"'دیده بان'!E651","v":0},{"$f":"'دیده بان'!G651","v":0},{"$f":"'دیده بان'!I651","v":0},0,0,{"$error":"#DIV/0!"},0]
[{"$f":"'دیده بان'!A652","v":0},{"$f":"'دیده بان'!B652","v":0},{"$f":"'دیده بان'!C652","v":0},{"$f":"'دیده بان'!D652","v":0},{"$f":"'دیده بان'!E652","v":0},{"$f":"'دیده بان'!G652","v":0},{"$f":"'دیده بان'!I652","v":0},0,0,{"$error":"#DIV/0!"},0]
[{"$f":"'دیده بان'!A653","v":0},{"$f":"'دیده بان'!B653","v":0},{"$f":"'دیده بان'!C653","v":0},{"$f":"'دیده بان'!D653","v":0},{"$f":"'دیده بان'!E653","v":0},{"$f":"'دیده بان'!G653","v":0},{"$f":"'دیده بان'!I653","v":0},0,0,{"$error":"#DIV/0!"},0]
[{"$f":"'دیده بان'!A654","v":0},{"$f":"'دیده بان'!B654","v":0},{"$f":"'دیده بان'!C654","v":0},{"$f":"'دیده بان'!D654","v":0},{"$f":"'دیده بان'!E654","v":0},{"$f":"'دیده بان'!G654","v":0},{"$f":"'دیده بان'!I654","v":0},0,0,{"$error":"#DIV/0!"},0]
[{"$f":"'دیده بان'!A655","v":0},{"$f":"'دیده بان'!B655","v":0},{"$f":"'دیده بان'!C655","v":0},{"$f":"'دیده بان'!D655","v":0},{"$f":"'دیده بان'!E655","v":0},{"$f":"'دیده بان'!G655","v":0},{"$f":"'دیده بان'!I655","v":0},0,0,{"$error":"#DIV/0!"},0]
[{"$f":"'دیده بان'!A656","v":0},{"$f":"'دیده بان'!B656","v":0},{"$f":"'دیده بان'!C656","v":0},{"$f":"'دیده بان'!D656","v":0},{"$f":"'دیده بان'!E656","v":0},{"$f":"'دیده بان'!G656","v":0},{"$f":"'دیده بان'!I656","v":0},0,0,{"$error":"#DIV/0!"},0]
[{"$f":"'دیده بان'!A657","v":0},{"$f":"'دیده بان'!B657","v":0},{"$f":"'دیده بان'!C657","v":0},{"$f":"'دیده بان'!D657","v":0},{"$f":"'دیده بان'!E657","v":0},{"$f":"'دیده بان'!G657","v":0},{"$f":"'دیده بان'!I657","v":0},0,0,{"$error":"#DIV/0!"},0]
[{"$f":"'دیده بان'!A658","v":0},{"$f":"'دیده بان'!B658","v":0},{"$f":"'دیده بان'!C658","v":0},{"$f":"'دیده بان'!D658","v":0},{"$f":"'دیده بان'!E658","v":0},{"$f":"'دیده بان'!G658","v":0},{"$f":"'دیده بان'!I658","v":0},0,0,{"$error":"#DIV/0!"},0]
[{"$f":"'دیده بان'!A659","v":0},{"$f":"'دیده بان'!B659","v":0},{"$f":"'دیده بان'!C659","v":0},{"$f":"'دیده بان'!D659","v":0},{"$f":"'دیده بان'!E659","v":0},{"$f":"'دیده بان'!G659","v":0},{"$f":"'دیده بان'!I659","v":0},0,0,{"$error":"#DIV/0!"},0]
[{"$f":"'دیده بان'!A660","v":0},{"$f":"'دیده بان'!B660","v":0},{"$f":"'دیده بان'!C660","v":0},{"$f":"'دیده بان'!D660","v":0},{"$f":"'دیده بان'!E660","v":0},{"$f":"'دیده بان'!G660","v":0},{"$f":"'دیده بان'!I660","v":0},0,0,{"$error":"#DIV/0!"},0]
[{"$f":"'دیده بان'!A661","v":0},{"$f":"'دیده بان'!B661","v":0},{"$f":"'دیده بان'!C661","v":0},{"$f":"'دیده بان'!D661","v":0},{"$f":"'دیده بان'!E661","v":0},{"$f":"'دیده بان'!G661","v":0},{"$f":"'دیده بان'!I661","v":0},0,0,{"$error":"#DIV/0!"},0]
[{"$f":"'دیده بان'!A662","v":0},{"$f":"'دیده بان'!B662","v":0},{"$f":"'دیده بان'!C662","v":0},{"$f":"'دیده بان'!D662","v":0},{"$f":"'دیده بان'!E662","v":0},{"$f":"'دیده بان'!G662","v":0},{"$f":"'دیده بان'!I662","v":0},0,0,{"$error":"#DIV/0!"},0]
[{"$f":"'دیده بان'!A663","v":0},{"$f":"'دیده بان'!B663","v":0},{"$f":"'دیده بان'!C663","v":0},{"$f":"'دیده بان'!D663","v":0},{"$f":"'دیده بان'!E663","v":0},{"$f":"'دیده بان'!G663","v":0},{"$f":"'دیده بان'!I663","v":0},0,0,{"$error":"#DIV/0!"},0]
[{"$f":"'دیده بان'!A664","v":0},{"$f":"'دیده بان'!B664","v":0},{"$f":"'دیده بان'!C664","v":0},{"$f":"'دیده بان'!D664","v":0},{"$f":"'دیده بان'!E664","v":0},{"$f":"'دیده بان'!G664","v":0},{"$f":"'دیده بان'!I664","v":0},0,0,{"$error":"#DIV/0!"},0]
[{"$f":"'دیده بان'!A665","v":0},{"$f":"'دیده بان'!B665","v":0},{"$f":"'دیده بان'!C665","v":0},{"$f":"'دیده بان'!D665","v":0},{"$f":"'دیده بان'!E665","v":0},{"$f":"'دیده بان'!G665","v":0},{"$f":"'دیده بان'!I665","v":0},0,0,{"$error":"#DIV/0!"},0]
[{"$f":"'دیده بان'!A666","v":0},{"$f":"'دیده بان'!B666","v":0},{"$f":"'دیده بان'!C666","v":0},{"$f":"'دیده بان'!D666","v":0},{"$f":"'دیده بان'!E666","v":0},{"$f":"'دیده بان'!G666","v":0},{"$f":"'دیده بان'!I666","v":0},0,0,{"$error":"#DIV/0!"},0]
[{"$f":"'دیده بان'!A667","v":0},{"$f":"'دیده بان'!B667","v":0},{"$f":"'دیده بان'!C667","v":0},{"$f":"'دیده بان'!D667","v":0},{"$f":"'دیده بان'!E667","v":0},{"$f":"'دیده بان'!G667","v":0},{"$f":"'دیده بان'!I667","v":0},0,0,{"$error":"#DIV/0!"},0]
[{"$f":"'دیده بان'!A668","v":0},{"$f":"'دیده بان'!B668","v":0},{"$f":"'دیده بان'!C668","v":0},{"$f":"'دیده بان'!D668","v":0},{"$f":"'دیده بان'!E668","v":0},{"$f":"'دیده بان'!G668","v":0},{"$f":"'دیده بان'!I668","v":0},0,0,{"$error":"#DIV/0!"},0]
[{"$f":"'دیده بان'!A669","v":0},{"$f":"'دیده بان'!B669","v":0},{"$f":"'دیده بان'!C669","v":0},{"$f":"'دیده بان'!D669","v":0},{"$f":"'دیده بان'!E669","v":0},{"$f":"'دیده بان'!G669","v":0},{"$f":"'دیده بان'!I669","v":0},0,0,{"$error":"#DIV/0!"},0]
[{"$f":"'دیده بان'!A670","v":0},{"$f":"'دیده بان'!B670","v":0},{"$f":"'دیده بان'!C670","v":0},{"$f":"'دیده بان'!D670","v":0},{"$f":"'دیده بان'!E670","v":0},{"$f":"'دیده بان'!G670","v":0},{"$f":"'دیده بان'!I670","v":0},0,0,{"$error":"#DIV/0!"},0]
[{"$f":"'دیده بان'!A671","v":0},{"$f":"'دیده بان'!B671","v":0},{"$f":"'دیده بان'!C671","v":0},{"$f":"'دیده بان'!D671","v":0},{"$f":"'دیده بان'!E671","v":0},{"$f":"'دیده بان'!G671","v":0},{"$f":"'دیده بان'!I671","v":0},0,0,{"$error":"#DIV/0!"},0]
[{"$f":"'دیده بان'!A672","v":0},{"$f":"'دیده بان'!B672","v":0},{"$f":"'دیده بان'!C672","v":0},{"$f":"'دیده بان'!D672","v":0},{"$f":"'دیده بان'!E672","v":0},{"$f":"'دیده بان'!G672","v":0},{"$f":"'دیده بان'!I672","v":0},0,0,{"$error":"#DIV/0!"},0]
[{"$f":"'دیده بان'!A673","v":0},{"$f":"'دیده بان'!B673","v":0},{"$f":"'دیده بان'!C673","v":0},{"$f":"'دیده بان'!D673","v":0},{"$f":"'دیده بان'!E673","v":0},{"$f":"'دیده بان'!G673","v":0},{"$f":"'دیده بان'!I673","v":0},0,0,{"$error":"#DIV/0!"},0]
[{"$f":"'دیده بان'!A674","v":0},{"$f":"'دیده بان'!B674","v":0},{"$f":"'دیده بان'!C674","v":0},{"$f":"'دیده بان'!D674","v":0},{"$f":"'دیده بان'!E674","v":0},{"$f":"'دیده بان'!G674","v":0},{"$f":"'دیده بان'!I674","v":0},0,0,{"$error":"#DIV/0!"},0]
[{"$f":"'دیده بان'!A675","v":0},{"$f":"'دیده بان'!B675","v":0},{"$f":"'دیده بان'!C675","v":0},{"$f":"'دیده بان'!D675","v":0},{"$f":"'دیده بان'!E675","v":0},{"$f":"'دیده بان'!G675","v":0},{"$f":"'دیده بان'!I675","v":0},0,0,{"$error":"#DIV/0!"},0]
[{"$f":"'دیده بان'!A676","v":0},{"$f":"'دیده بان'!B676","v":0},{"$f":"'دیده بان'!C676","v":0},{"$f":"'دیده بان'!D676","v":0},{"$f":"'دیده بان'!E676","v":0},{"$f":"'دیده بان'!G676","v":0},{"$f":"'دیده بان'!I676","v":0},0,0,{"$error":"#DIV/0!"},0]
[{"$f":"'دیده بان'!A677","v":0},{"$f":"'دیده بان'!B677","v":0},{"$f":"'دیده بان'!C677","v":0},{"$f":"'دیده بان'!D677","v":0},{"$f":"'دیده بان'!E677","v":0},{"$f":"'دیده بان'!G677","v":0},{"$f":"'دیده بان'!I677","v":0},0,0,{"$error":"#DIV/0!"},0]
[{"$f":"'دیده بان'!A678","v":0},{"$f":"'دیده بان'!B678","v":0},{"$f":"'دیده بان'!C678","v":0},{"$f":"'دیده بان'!D678","v":0},{"$f":"'دیده بان'!E678","v":0},{"$f":"'دیده بان'!G678","v":0},{"$f":"'دیده بان'!I678","v":0},0,0,{"$error":"#DIV/0!"},0]
[{"$f":"'دیده بان'!A679","v":0},{"$f":"'دیده بان'!B679","v":0},{"$f":"'دیده بان'!C679","v":0},{"$f":"'دیده بان'!D679","v":0},{"$f":"'دیده بان'!E679","v":0},{"$f":"'دیده بان'!G679","v":0},{"$f":"'دیده بان'!I679","v":0},0,0,{"$error":"#DIV/0!"},0]
[{"$f":"'دیده بان'!A680","v":0},{"$f":"'دیده بان'!B680","v":0},{"$f":"'دیده بان'!C680","v":0},{"$f":"'دیده بان'!D680","v":0},{"$f":"'دیده بان'!E680","v":0},{"$f":"'دیده بان'!G680","v":0},{"$f":"'دیده بان'!I680","v":0},0,0,{"$error":"#DIV/0!"},0]
[{"$f":"'دیده بان'!A681","v":0},{"$f":"'دیده بان'!B681","v":0},{"$f":"'دیده بان'!C681","v":0},{"$f":"'دیده بان'!D681","v":0},{"$f":"'دیده بان'!E681","v":0},{"$f":"'دیده بان'!G681","v":0},{"$f":"'دیده بان'!I681","v":0},0,0,{"$error":"#DIV/0!"},0]
[{"$f":"'دیده بان'!A682","v":0},{"$f":"'دیده بان'!B682","v":0},{"$f":"'دیده بان'!C682","v":0},{"$f":"'دیده بان'!D682","v":0},{"$f":"'دیده بان'!E682","v":0},{"$f":"'دیده بان'!G682","v":0},{"$f":"'دیده بان'!I682","v":0},0,0,{"$error":"#DIV/0!"},0]
[{"$f":"'دیده بان'!A683","v":0},{"$f":"'دیده بان'!B683","v":0},{"$f":"'دیده بان'!C683","v":0},{"$f":"'دیده بان'!D683","v":0},{"$f":"'دیده بان'!E683","v":0},{"$f":"'دیده بان'!G683","v":0},{"$f":"'دیده بان'!I683","v":0},0,0,{"$error":"#DIV/0!"},0]
[{"$f":"'دیده بان'!A684","v":0},{"$f":"'دیده بان'!B684","v":0},{"$f":"'دیده بان'!C684","v":0},{"$f":"'دیده بان'!D684","v":0},{"$f":"'دیده بان'!E684","v":0},{"$f":"'دیده بان'!G684","v":0},{"$f":"'دیده بان'!I684","v":0},0,0,{"$error":"#DIV/0!"},0]
[{"$f":"'دیده بان'!A685","v":0},{"$f":"'دیده بان'!B685","v":0},{"$f":"'دیده بان'!C685","v":0},{"$f":"'دیده بان'!D685","v":0},{"$f":"'دیده بان'!E685","v":0},{"$f":"'دیده بان'!G685","v":0},{"$f":"'دیده بان'!I685","v":0},0,0,{"$error":"#DIV/0!"},0]
[{"$f":"'دیده بان'!A686","v":0},{"$f":"'دیده بان'!B686","v":0},{"$f":"'دیده بان'!C686","v":0},{"$f":"'دیده بان'!D686","v":0},{"$f":"'دیده بان'!E686","v":0},{"$f":"'دیده بان'!G686","v":0},{"$f":"'دیده بان'!I686","v":0},0,0,{"$error":"#DIV/0!"},0]
[{"$f":"'دیده بان'!A687","v":0},{"$f":"'دیده بان'!B687","v":0},{"$f":"'دیده بان'!C687","v":0},{"$f":"'دیده بان'!D687","v":0},{"$f":"'دیده بان'!E687","v":0},{"$f":"'دیده بان'!G687","v":0},{"$f":"'دیده بان'!I687","v":0},0,0,{"$error":"#DIV/0!"},0]
[{"$f":"'دیده بان'!A688","v":0},{"$f":"'دیده بان'!B688","v":0},{"$f":"'دیده بان'!C688","v":0},{"$f":"'دیده بان'!D688","v":0},{"$f":"'دیده بان'!E688","v":0},{"$f":"'دیده بان'!G688","v":0},{"$f":"'دیده بان'!I688","v":0},0,0,{"$error":"#DIV/0!"},0]
[{"$f":"'دیده بان'!A689","v":0},{"$f":"'دیده بان'!B689","v":0},{"$f":"'دیده بان'!C689","v":0},{"$f":"'دیده بان'!D689","v":0},{"$f":"'دیده بان'!E689","v":0},{"$f":"'دیده بان'!G689","v":0},{"$f":"'دیده بان'!I689","v":0},0,0,{"$error":"#DIV/0!"},0]
[{"$f":"'دیده بان'!A690","v":0},{"$f":"'دیده بان'!B690","v":0},{"$f":"'دیده بان'!C690","v":0},{"$f":"'دیده بان'!D690","v":0},{"$f":"'دیده بان'!E690","v":0},{"$f":"'دیده بان'!G690","v":0},{"$f":"'دیده بان'!I690","v":0},0,0,{"$error":"#DIV/0!"},0]
[{"$f":"'دیده بان'!A691","v":0},{"$f":"'دیده بان'!B691","v":0},{"$f":"'دیده بان'!C691","v":0},{"$f":"'دیده بان'!D691","v":0},{"$f":"'دیده بان'!E691","v":0},{"$f":"'دیده بان'!G691","v":0},{"$f":"'دیده بان'!I691","v":0},0,0,{"$error":"#DIV/0!"},0]
[{"$f":"'دیده بان'!A692","v":0},{"$f":"'دیده بان'!B692","v":0},{"$f":"'دیده بان'!C692","v":0},{"$f":"'دیده بان'!D692","v":0},{"$f":"'دیده بان'!E692","v":0},{"$f":"'دیده بان'!G692","v":0},{"$f":"'دیده بان'!I692","v":0},0,0,{"$error":"#DIV/0!"},0]
[{"$f":"'دیده بان'!A693","v":0},{"$f":"'دیده بان'!B693","v":0},{"$f":"'دیده بان'!C693","v":0},{"$f":"'دیده بان'!D693","v":0},{"$f":"'دیده بان'!E693","v":0},{"$f":"'دیده بان'!G693","v":0},{"$f":"'دیده بان'!I693","v":0},0,0,{"$error":"#DIV/0!"},0]
[{"$f":"'دیده بان'!A694","v":0},{"$f":"'دیده بان'!B694","v":0},{"$f":"'دیده بان'!C694","v":0},{"$f":"'دیده بان'!D694","v":0},{"$f":"'دیده بان'!E694","v":0},{"$f":"'دیده بان'!G694","v":0},{"$f":"'دیده بان'!I694","v":0},0,0,{"$error":"#DIV/0!"},0]
[{"$f":"'دیده بان'!A695","v":0},{"$f":"'دیده بان'!B695","v":0},{"$f":"'دیده بان'!C695","v":0},{"$f":"'دیده بان'!D695","v":0},{"$f":"'دیده بان'!E695","v":0},{"$f":"'دیده بان'!G695","v":0},{"$f":"'دیده بان'!I695","v":0},0,0,{"$error":"#DIV/0!"},0]
[{"$f":"'دیده بان'!A696","v":0},{"$f":"'دیده بان'!B696","v":0},{"$f":"'دیده بان'!C696","v":0},{"$f":"'دیده بان'!D696","v":0},{"$f":"'دیده بان'!E696","v":0},{"$f":"'دیده بان'!G696","v":0},{"$f":"'دیده بان'!I696","v":0},0,0,{"$error":"#DIV/0!"},0]
[{"$f":"'دیده بان'!A697","v":0},{"$f":"'دیده بان'!B697","v":0},{"$f":"'دیده بان'!C697","v":0},{"$f":"'دیده بان'!D697","v":0},{"$f":"'دیده بان'!E697","v":0},{"$f":"'دیده بان'!G697","v":0},{"$f":"'دیده بان'!I697","v":0},0,0,{"$error":"#DIV/0!"},0]
[{"$f":"'دیده بان'!A698","v":0},{"$f":"'دیده بان'!B698","v":0},{"$f":"'دیده بان'!C698","v":0},{"$f":"'دیده بان'!D698","v":0},{"$f":"'دیده بان'!E698","v":0},{"$f":"'دیده بان'!G698","v":0},{"$f":"'دیده بان'!I698","v":0},0,0,{"$error":"#DIV/0!"},0]
[{"$f":"'دیده بان'!A699","v":0},{"$f":"'دیده بان'!B699","v":0},{"$f":"'دیده بان'!C699","v":0},{"$f":"'دیده بان'!D699","v":0},{"$f":"'دیده بان'!E699","v":0},{"$f":"'دیده بان'!G699","v":0},{"$f":"'دیده بان'!I699","v":0},0,0,{"$error":"#DIV/0!"},0]
[{"$f":"'دیده بان'!A700","v":0},{"$f":"'دیده بان'!B700","v":0},{"$f":"'دیده بان'!C700","v":0},{"$f":"'دیده بان'!D700","v":0},{"$f":"'دیده بان'!E700","v":0},{"$f":"'دیده بان'!G700","v":0},{"$f":"'دیده بان'!I700","v":0},0,0,{"$error":"#DIV/0!"},0]
[{"$f":"'دیده بان'!A701","v":0},{"$f":"'دیده بان'!B701","v":0},{"$f":"'دیده بان'!C701","v":0},{"$f":"'دیده بان'!D701","v":0},{"$f":"'دیده بان'!E701","v":0},{"$f":"'دیده بان'!G701","v":0},{"$f":"'دیده بان'!I701","v":0},0,0,{"$error":"#DIV/0!"},0]
[{"$f":"'دیده بان'!A702","v":0},{"$f":"'دیده بان'!B702","v":0},{"$f":"'دیده بان'!C702","v":0},{"$f":"'دیده بان'!D702","v":0},{"$f":"'دیده بان'!E702","v":0},{"$f":"'دیده بان'!G702","v":0},{"$f":"'دیده بان'!I702","v":0},0,0,{"$error":"#DIV/0!"},0]
[{"$f":"'دیده بان'!A703","v":0},{"$f":"'دیده بان'!B703","v":0},{"$f":"'دیده بان'!C703","v":0},{"$f":"'دیده بان'!D703","v":0},{"$f":"'دیده بان'!E703","v":0},{"$f":"'دیده بان'!G703","v":0},{"$f":"'دیده بان'!I703","v":0},0,0,{"$error":"#DIV/0!"},0]
[{"$f":"'دیده بان'!A704","v":0},{"$f":"'دیده بان'!B704","v":0},{"$f":"'دیده بان'!C704","v":0},{"$f":"'دیده بان'!D704","v":0},{"$f":"'دیده بان'!E704","v":0},{"$f":"'دیده بان'!G704","v":0},{"$f":"'دیده بان'!I704","v":0},0,0,{"$error":"#DIV/0!"},0]
[{"$f":"'دیده بان'!A705","v":0},{"$f":"'دیده بان'!B705","v":0},{"$f":"'دیده بان'!C705","v":0},{"$f":"'دیده بان'!D705","v":0},{"$f":"'دیده بان'!E705","v":0},{"$f":"'دیده بان'!G705","v":0},{"$f":"'دیده بان'!I705","v":0},0,0,{"$error":"#DIV/0!"},0]
[{"$f":"'دیده بان'!A706","v":0},{"$f":"'دیده بان'!B706","v":0},{"$f":"'دیده بان'!C706","v":0},{"$f":"'دیده بان'!D706","v":0},{"$f":"'دیده بان'!E706","v":0},{"$f":"'دیده بان'!G706","v":0},{"$f":"'دیده بان'!I706","v":0},{"$f":"C706-G706","v":0},{"$f":"IFERROR(-G706/C706,0)","v":0},{"$error":"#DIV/0!"},{"$f":"IFERROR((G706+B706-C706)/H706/E706*30,0)","v":0}]
[{"$f":"'دیده بان'!A707","v":0},{"$f":"'دیده بان'!B707","v":0},{"$f":"'دیده بان'!C707","v":0},{"$f":"'دیده بان'!D707","v":0},{"$f":"'دیده بان'!E707","v":0},{"$f":"'دیده بان'!G707","v":0},{"$f":"'دیده بان'!I707","v":0},0,0,{"$f":"IF(C707<=B707,G707,B707+G707-C707)/H707/E707*30","v":{"$error":"#DIV/0!"}},0]
[{"$f":"'دیده بان'!A708","v":0},{"$f":"'دیده بان'!B708","v":0},{"$f":"'دیده بان'!C708","v":0},{"$f":"'دیده بان'!D708","v":0},{"$f":"'دیده بان'!E708","v":0},{"$f":"'دیده بان'!G708","v":0},{"$f":"'دیده بان'!I708","v":0},0,0,{"$error":"#DIV/0!"},0]
[{"$f":"'دیده بان'!A709","v":0},{"$f":"'دیده بان'!B709","v":0},{"$f":"'دیده بان'!C709","v":0},{"$f":"'دیده بان'!D709","v":0},{"$f":"'دیده بان'!E709","v":0},{"$f":"'دیده بان'!G709","v":0},{"$f":"'دیده بان'!I709","v":0},0,0,{"$error":"#DIV/0!"},0]
[{"$f":"'دیده بان'!A710","v":0},{"$f":"'دیده بان'!B710","v":0},{"$f":"'دیده بان'!C710","v":0},{"$f":"'دیده بان'!D710","v":0},{"$f":"'دیده بان'!E710","v":0},{"$f":"'دیده بان'!G710","v":0},{"$f":"'دیده بان'!I710","v":0},0,0,{"$error":"#DIV/0!"},0]
[{"$f":"'دیده بان'!A711","v":0},{"$f":"'دیده بان'!B711","v":0},{"$f":"'دیده بان'!C711","v":0},{"$f":"'دیده بان'!D711","v":0},{"$f":"'دیده بان'!E711","v":0},{"$f":"'دیده بان'!G711","v":0},{"$f":"'دیده بان'!I711","v":0},0,0,{"$error":"#DIV/0!"},0]
[{"$f":"'دیده بان'!A712","v":0},{"$f":"'دیده بان'!B712","v":0},{"$f":"'دیده بان'!C712","v":0},{"$f":"'دیده بان'!D712","v":0},{"$f":"'دیده بان'!E712","v":0},{"$f":"'دیده بان'!G712","v":0},{"$f":"'دیده بان'!I712","v":0},0,0,{"$error":"#DIV/0!"},0]
[{"$f":"'دیده بان'!A713","v":0},{"$f":"'دیده بان'!B713","v":0},{"$f":"'دیده بان'!C713","v":0},{"$f":"'دیده بان'!D713","v":0},{"$f":"'دیده بان'!E713","v":0},{"$f":"'دیده بان'!G713","v":0},{"$f":"'دیده بان'!I713","v":0},0,0,{"$error":"#DIV/0!"},0]
[{"$f":"'دیده بان'!A714","v":0},{"$f":"'دیده بان'!B714","v":0},{"$f":"'دیده بان'!C714","v":0},{"$f":"'دیده بان'!D714","v":0},{"$f":"'دیده بان'!E714","v":0},{"$f":"'دیده بان'!G714","v":0},{"$f":"'دیده بان'!I714","v":0},0,0,{"$error":"#DIV/0!"},0]
[{"$f":"'دیده بان'!A715","v":0},{"$f":"'دیده بان'!B715","v":0},{"$f":"'دیده بان'!C715","v":0},{"$f":"'دیده بان'!D715","v":0},{"$f":"'دیده بان'!E715","v":0},{"$f":"'دیده بان'!G715","v":0},{"$f":"'دیده بان'!I715","v":0},0,0,{"$error":"#DIV/0!"},0]
[{"$f":"'دیده بان'!A716","v":0},{"$f":"'دیده بان'!B716","v":0},{"$f":"'دیده بان'!C716","v":0},{"$f":"'دیده بان'!D716","v":0},{"$f":"'دیده بان'!E716","v":0},{"$f":"'دیده بان'!G716","v":0},{"$f":"'دیده بان'!I716","v":0},0,0,{"$error":"#DIV/0!"},0]
[{"$f":"'دیده بان'!A717","v":0},{"$f":"'دیده بان'!B717","v":0},{"$f":"'دیده بان'!C717","v":0},{"$f":"'دیده بان'!D717","v":0},{"$f":"'دیده بان'!E717","v":0},{"$f":"'دیده بان'!G717","v":0},{"$f":"'دیده بان'!I717","v":0},0,0,{"$error":"#DIV/0!"},0]
[{"$f":"'دیده بان'!A718","v":0},{"$f":"'دیده بان'!B718","v":0},{"$f":"'دیده بان'!C718","v":0},{"$f":"'دیده بان'!D718","v":0},{"$f":"'دیده بان'!E718","v":0},{"$f":"'دیده بان'!G718","v":0},{"$f":"'دیده بان'!I718","v":0},0,0,{"$error":"#DIV/0!"},0]
[{"$f":"'دیده بان'!A719","v":0},{"$f":"'دیده بان'!B719","v":0},{"$f":"'دیده بان'!C719","v":0},{"$f":"'دیده بان'!D719","v":0},{"$f":"'دیده بان'!E719","v":0},{"$f":"'دیده بان'!G719","v":0},{"$f":"'دیده بان'!I719","v":0},0,0,{"$error":"#DIV/0!"},0]
[{"$f":"'دیده بان'!A720","v":0},{"$f":"'دیده بان'!B720","v":0},{"$f":"'دیده بان'!C720","v":0},{"$f":"'دیده بان'!D720","v":0},{"$f":"'دیده بان'!E720","v":0},{"$f":"'دیده بان'!G720","v":0},{"$f":"'دیده بان'!I720","v":0},0,0,{"$error":"#DIV/0!"},0]
[{"$f":"'دیده بان'!A721","v":0},{"$f":"'دیده بان'!B721","v":0},{"$f":"'دیده بان'!C721","v":0},{"$f":"'دیده بان'!D721","v":0},{"$f":"'دیده بان'!E721","v":0},{"$f":"'دیده بان'!G721","v":0},{"$f":"'دیده بان'!I721","v":0},0,0,{"$error":"#DIV/0!"},0]
[{"$f":"'دیده بان'!A722","v":0},{"$f":"'دیده بان'!B722","v":0},{"$f":"'دیده بان'!C722","v":0},{"$f":"'دیده بان'!D722","v":0},{"$f":"'دیده بان'!E722","v":0},{"$f":"'دیده بان'!G722","v":0},{"$f":"'دیده بان'!I722","v":0},0,0,{"$error":"#DIV/0!"},0]
[{"$f":"'دیده بان'!A723","v":0},{"$f":"'دیده بان'!B723","v":0},{"$f":"'دیده بان'!C723","v":0},{"$f":"'دیده بان'!D723","v":0},{"$f":"'دیده بان'!E723","v":0},{"$f":"'دیده بان'!G723","v":0},{"$f":"'دیده بان'!I723","v":0},0,0,{"$error":"#DIV/0!"},0]
[{"$f":"'دیده بان'!A724","v":0},{"$f":"'دیده بان'!B724","v":0},{"$f":"'دیده بان'!C724","v":0},{"$f":"'دیده بان'!D724","v":0},{"$f":"'دیده بان'!E724","v":0},{"$f":"'دیده بان'!G724","v":0},{"$f":"'دیده بان'!I724","v":0},0,0,{"$error":"#DIV/0!"},0]
[{"$f":"'دیده بان'!A725","v":0},{"$f":"'دیده بان'!B725","v":0},{"$f":"'دیده بان'!C725","v":0},{"$f":"'دیده بان'!D725","v":0},{"$f":"'دیده بان'!E725","v":0},{"$f":"'دیده بان'!G725","v":0},{"$f":"'دیده بان'!I725","v":0},0,0,{"$error":"#DIV/0!"},0]
[{"$f":"'دیده بان'!A726","v":0},{"$f":"'دیده بان'!B726","v":0},{"$f":"'دیده بان'!C726","v":0},{"$f":"'دیده بان'!D726","v":0},{"$f":"'دیده بان'!E726","v":0},{"$f":"'دیده بان'!G726","v":0},{"$f":"'دیده بان'!I726","v":0},0,0,{"$error":"#DIV/0!"},0]
[{"$f":"'دیده بان'!A727","v":0},{"$f":"'دیده بان'!B727","v":0},{"$f":"'دیده بان'!C727","v":0},{"$f":"'دیده بان'!D727","v":0},{"$f":"'دیده بان'!E727","v":0},{"$f":"'دیده بان'!G727","v":0},{"$f":"'دیده بان'!I727","v":0},0,0,{"$error":"#DIV/0!"},0]
[{"$f":"'دیده بان'!A728","v":0},{"$f":"'دیده بان'!B728","v":0},{"$f":"'دیده بان'!C728","v":0},{"$f":"'دیده بان'!D728","v":0},{"$f":"'دیده بان'!E728","v":0},{"$f":"'دیده بان'!G728","v":0},{"$f":"'دیده بان'!I728","v":0},0,0,{"$error":"#DIV/0!"},0]
[{"$f":"'دیده بان'!A729","v":0},{"$f":"'دیده بان'!B729","v":0},{"$f":"'دیده بان'!C729","v":0},{"$f":"'دیده بان'!D729","v":0},{"$f":"'دیده بان'!E729","v":0},{"$f":"'دیده بان'!G729","v":0},{"$f":"'دیده بان'!I729","v":0},0,0,{"$error":"#DIV/0!"},0]
[{"$f":"'دیده بان'!A730","v":0},{"$f":"'دیده بان'!B730","v":0},{"$f":"'دیده بان'!C730","v":0},{"$f":"'دیده بان'!D730","v":0},{"$f":"'دیده بان'!E730","v":0},{"$f":"'دیده بان'!G730","v":0},{"$f":"'دیده بان'!I730","v":0},0,0,{"$error":"#DIV/0!"},0]
[{"$f":"'دیده بان'!A731","v":0},{"$f":"'دیده بان'!B731","v":0},{"$f":"'دیده بان'!C731","v":0},{"$f":"'دیده بان'!D731","v":0},{"$f":"'دیده بان'!E731","v":0},{"$f":"'دیده بان'!G731","v":0},{"$f":"'دیده بان'!I731","v":0},0,0,{"$error":"#DIV/0!"},0]
[{"$f":"'دیده بان'!A732","v":0},{"$f":"'دیده بان'!B732","v":0},{"$f":"'دیده بان'!C732","v":0},{"$f":"'دیده بان'!D732","v":0},{"$f":"'دیده بان'!E732","v":0},{"$f":"'دیده بان'!G732","v":0},{"$f":"'دیده بان'!I732","v":0},0,0,{"$error":"#DIV/0!"},0]
[{"$f":"'دیده بان'!A733","v":0},{"$f":"'دیده بان'!B733","v":0},{"$f":"'دیده بان'!C733","v":0},{"$f":"'دیده بان'!D733","v":0},{"$f":"'دیده بان'!E733","v":0},{"$f":"'دیده بان'!G733","v":0},{"$f":"'دیده بان'!I733","v":0},0,0,{"$error":"#DIV/0!"},0]
[{"$f":"'دیده بان'!A734","v":0},{"$f":"'دیده بان'!B734","v":0},{"$f":"'دیده بان'!C734","v":0},{"$f":"'دیده بان'!D734","v":0},{"$f":"'دیده بان'!E734","v":0},{"$f":"'دیده بان'!G734","v":0},{"$f":"'دیده بان'!I734","v":0},0,0,{"$error":"#DIV/0!"},0]
[{"$f":"'دیده بان'!A735","v":0},{"$f":"'دیده بان'!B735","v":0},{"$f":"'دیده بان'!C735","v":0},{"$f":"'دیده بان'!D735","v":0},{"$f":"'دیده بان'!E735","v":0},{"$f":"'دیده بان'!G735","v":0},{"$f":"'دیده بان'!I735","v":0},0,0,{"$error":"#DIV/0!"},0]
[{"$f":"'دیده بان'!A736","v":0},{"$f":"'دیده بان'!B736","v":0},{"$f":"'دیده بان'!C736","v":0},{"$f":"'دیده بان'!D736","v":0},{"$f":"'دیده بان'!E736","v":0},{"$f":"'دیده بان'!G736","v":0},{"$f":"'دیده بان'!I736","v":0},0,0,{"$error":"#DIV/0!"},0]
[{"$f":"'دیده بان'!A737","v":0},{"$f":"'دیده بان'!B737","v":0},{"$f":"'دیده بان'!C737","v":0},{"$f":"'دیده بان'!D737","v":0},{"$f":"'دیده بان'!E737","v":0},{"$f":"'دیده بان'!G737","v":0},{"$f":"'دیده بان'!I737","v":0},0,0,{"$error":"#DIV/0!"},0]
[{"$f":"'دیده بان'!A738","v":0},{"$f":"'دیده بان'!B738","v":0},{"$f":"'دیده بان'!C738","v":0},{"$f":"'دیده بان'!D738","v":0},{"$f":"'دیده بان'!E738","v":0},{"$f":"'دیده بان'!G738","v":0},{"$f":"'دیده بان'!I738","v":0},0,0,{"$error":"#DIV/0!"},0]
[{"$f":"'دیده بان'!A739","v":0},{"$f":"'دیده بان'!B739","v":0},{"$f":"'دیده بان'!C739","v":0},{"$f":"'دیده بان'!D739","v":0},{"$f":"'دیده بان'!E739","v":0},{"$f":"'دیده بان'!G739","v":0},{"$f":"'دیده بان'!I739","v":0},0,0,{"$error":"#DIV/0!"},0]
[{"$f":"'دیده بان'!A740","v":0},{"$f":"'دیده بان'!B740","v":0},{"$f":"'دیده بان'!C740","v":0},{"$f":"'دیده بان'!D740","v":0},{"$f":"'دیده بان'!E740","v":0},{"$f":"'دیده بان'!G740","v":0},{"$f":"'دیده بان'!I740","v":0},0,0,{"$error":"#DIV/0!"},0]
[{"$f":"'دیده بان'!A741","v":0},{"$f":"'دیده بان'!B741","v":0},{"$f":"'دیده بان'!C741","v":0},{"$f":"'دیده بان'!D741","v":0},{"$f":"'دیده بان'!E741","v":0},{"$f":"'دیده بان'!G741","v":0},{"$f":"'دیده بان'!I741","v":0},0,0,{"$error":"#DIV/0!"},0]
[{"$f":"'دیده بان'!A742","v":0},{"$f":"'دیده بان'!B742","v":0},{"$f":"'دیده بان'!C742","v":0},{"$f":"'دیده بان'!D742","v":0},{"$f":"'دیده بان'!E742","v":0},{"$f":"'دیده بان'!G742","v":0},{"$f":"'دیده بان'!I742","v":0},0,0,{"$error":"#DIV/0!"},0]
[{"$f":"'دیده بان'!A743","v":0},{"$f":"'دیده بان'!B743","v":0},{"$f":"'دیده بان'!C743","v":0},{"$f":"'دیده بان'!D743","v":0},{"$f":"'دیده بان'!E743","v":0},{"$f":"'دیده بان'!G743","v":0},{"$f":"'دیده بان'!I743","v":0},0,0,{"$error":"#DIV/0!"},0]
[{"$f":"'دیده بان'!A744","v":0},{"$f":"'دیده بان'!B744","v":0},{"$f":"'دیده بان'!C744","v":0},{"$f":"'دیده بان'!D744","v":0},{"$f":"'دیده بان'!E744","v":0},{"$f":"'دیده بان'!G744","v":0},{"$f":"'دیده بان'!I744","v":0},0,0,{"$error":"#DIV/0!"},0]
[{"$f":"'دیده بان'!A745","v":0},{"$f":"'دیده بان'!B745","v":0},{"$f":"'دیده بان'!C745","v":0},{"$f":"'دیده بان'!D745","v":0},{"$f":"'دیده بان'!E745","v":0},{"$f":"'دیده بان'!G745","v":0},{"$f":"'دیده بان'!I745","v":0},0,0,{"$error":"#DIV/0!"},0]
[{"$f":"'دیده بان'!A746","v":0},{"$f":"'دیده بان'!B746","v":0},{"$f":"'دیده بان'!C746","v":0},{"$f":"'دیده بان'!D746","v":0},{"$f":"'دیده بان'!E746","v":0},{"$f":"'دیده بان'!G746","v":0},{"$f":"'دیده بان'!I746","v":0},0,0,{"$error":"#DIV/0!"},0]
[{"$f":"'دیده بان'!A747","v":0},{"$f":"'دیده بان'!B747","v":0},{"$f":"'دیده بان'!C747","v":0},{"$f":"'دیده بان'!D747","v":0},{"$f":"'دیده بان'!E747","v":0},{"$f":"'دیده بان'!G747","v":0},{"$f":"'دیده بان'!I747","v":0},0,0,{"$error":"#DIV/0!"},0]
[{"$f":"'دیده بان'!A748","v":0},{"$f":"'دیده بان'!B748","v":0},{"$f":"'دیده بان'!C748","v":0},{"$f":"'دیده بان'!D748","v":0},{"$f":"'دیده بان'!E748","v":0},{"$f":"'دیده بان'!G748","v":0},{"$f":"'دیده بان'!I748","v":0},0,0,{"$error":"#DIV/0!"},0]
[{"$f":"'دیده بان'!A749","v":0},{"$f":"'دیده بان'!B749","v":0},{"$f":"'دیده بان'!C749","v":0},{"$f":"'دیده بان'!D749","v":0},{"$f":"'دیده بان'!E749","v":0},{"$f":"'دیده بان'!G749","v":0},{"$f":"'دیده بان'!I749","v":0},0,0,{"$error":"#DIV/0!"},0]
[{"$f":"'دیده بان'!A750","v":0},{"$f":"'دیده بان'!B750","v":0},{"$f":"'دیده بان'!C750","v":0},{"$f":"'دیده بان'!D750","v":0},{"$f":"'دیده بان'!E750","v":0},{"$f":"'دیده بان'!G750","v":0},{"$f":"'دیده بان'!I750","v":0},0,0,{"$error":"#DIV/0!"},0]
[{"$f":"'دیده بان'!A751","v":0},{"$f":"'دیده بان'!B751","v":0},{"$f":"'دیده بان'!C751","v":0},{"$f":"'دیده بان'!D751","v":0},{"$f":"'دیده بان'!E751","v":0},{"$f":"'دیده بان'!G751","v":0},{"$f":"'دیده بان'!I751","v":0},0,0,{"$error":"#DIV/0!"},0]
[{"$f":"'دیده بان'!A752","v":0},{"$f":"'دیده بان'!B752","v":0},{"$f":"'دیده بان'!C752","v":0},{"$f":"'دیده بان'!D752","v":0},{"$f":"'دیده بان'!E752","v":0},{"$f":"'دیده بان'!G752","v":0},{"$f":"'دیده بان'!I752","v":0},0,0,{"$error":"#DIV/0!"},0]
[{"$f":"'دیده بان'!A753","v":0},{"$f":"'دیده بان'!B753","v":0},{"$f":"'دیده بان'!C753","v":0},{"$f":"'دیده بان'!D753","v":0},{"$f":"'دیده بان'!E753","v":0},{"$f":"'دیده بان'!G753","v":0},{"$f":"'دیده بان'!I753","v":0},0,0,{"$error":"#DIV/0!"},0]
[{"$f":"'دیده بان'!A754","v":0},{"$f":"'دیده بان'!B754","v":0},{"$f":"'دیده بان'!C754","v":0},{"$f":"'دیده بان'!D754","v":0},{"$f":"'دیده بان'!E754","v":0},{"$f":"'دیده بان'!G754","v":0},{"$f":"'دیده بان'!I754","v":0},0,0,{"$error":"#DIV/0!"},0]
[{"$f":"'دیده بان'!A755","v":0},{"$f":"'دیده بان'!B755","v":0},{"$f":"'دیده بان'!C755","v":0},{"$f":"'دیده بان'!D755","v":0},{"$f":"'دیده بان'!E755","v":0},{"$f":"'دیده بان'!G755","v":0},{"$f":"'دیده بان'!I755","v":0},0,0,{"$error":"#DIV/0!"},0]
[{"$f":"'دیده بان'!A756","v":0},{"$f":"'دیده بان'!B756","v":0},{"$f":"'دیده بان'!C756","v":0},{"$f":"'دیده بان'!D756","v":0},{"$f":"'دیده بان'!E756","v":0},{"$f":"'دیده بان'!G756","v":0},{"$f":"'دیده بان'!I756","v":0},0,0,{"$error":"#DIV/0!"},0]
[{"$f":"'دیده بان'!A757","v":0},{"$f":"'دیده بان'!B757","v":0},{"$f":"'دیده بان'!C757","v":0},{"$f":"'دیده بان'!D757","v":0},{"$f":"'دیده بان'!E757","v":0},{"$f":"'دیده بان'!G757","v":0},{"$f":"'دیده بان'!I757","v":0},0,0,{"$error":"#DIV/0!"},0]
[{"$f":"'دیده بان'!A758","v":0},{"$f":"'دیده بان'!B758","v":0},{"$f":"'دیده بان'!C758","v":0},{"$f":"'دیده بان'!D758","v":0},{"$f":"'دیده بان'!E758","v":0},{"$f":"'دیده بان'!G758","v":0},{"$f":"'دیده بان'!I758","v":0},0,0,{"$error":"#DIV/0!"},0]
[{"$f":"'دیده بان'!A759","v":0},{"$f":"'دیده بان'!B759","v":0},{"$f":"'دیده بان'!C759","v":0},{"$f":"'دیده بان'!D759","v":0},{"$f":"'دیده بان'!E759","v":0},{"$f":"'دیده بان'!G759","v":0},{"$f":"'دیده بان'!I759","v":0},0,0,{"$error":"#DIV/0!"},0]
[{"$f":"'دیده بان'!A760","v":0},{"$f":"'دیده بان'!B760","v":0},{"$f":"'دیده بان'!C760","v":0},{"$f":"'دیده بان'!D760","v":0},{"$f":"'دیده بان'!E760","v":0},{"$f":"'دیده بان'!G760","v":0},{"$f":"'دیده بان'!I760","v":0},0,0,{"$error":"#DIV/0!"},0]
[{"$f":"'دیده بان'!A761","v":0},{"$f":"'دیده بان'!B761","v":0},{"$f":"'دیده بان'!C761","v":0},{"$f":"'دیده بان'!D761","v":0},{"$f":"'دیده بان'!E761","v":0},{"$f":"'دیده بان'!G761","v":0},{"$f":"'دیده بان'!I761","v":0},0,0,{"$error":"#DIV/0!"},0]
[{"$f":"'دیده بان'!A762","v":0},{"$f":"'دیده بان'!B762","v":0},{"$f":"'دیده بان'!C762","v":0},{"$f":"'دیده بان'!D762","v":0},{"$f":"'دیده بان'!E762","v":0},{"$f":"'دیده بان'!G762","v":0},{"$f":"'دیده بان'!I762","v":0},0,0,{"$error":"#DIV/0!"},0]
[{"$f":"'دیده بان'!A763","v":0},{"$f":"'دیده بان'!B763","v":0},{"$f":"'دیده بان'!C763","v":0},{"$f":"'دیده بان'!D763","v":0},{"$f":"'دیده بان'!E763","v":0},{"$f":"'دیده بان'!G763","v":0},{"$f":"'دیده بان'!I763","v":0},0,0,{"$error":"#DIV/0!"},0]
[{"$f":"'دیده بان'!A764","v":0},{"$f":"'دیده بان'!B764","v":0},{"$f":"'دیده بان'!C764","v":0},{"$f":"'دیده بان'!D764","v":0},{"$f":"'دیده بان'!E764","v":0},{"$f":"'دیده بان'!G764","v":0},{"$f":"'دیده بان'!I764","v":0},0,0,{"$error":"#DIV/0!"},0]
[{"$f":"'دیده بان'!A765","v":0},{"$f":"'دیده بان'!B765","v":0},{"$f":"'دیده بان'!C765","v":0},{"$f":"'دیده بان'!D765","v":0},{"$f":"'دیده بان'!E765","v":0},{"$f":"'دیده بان'!G765","v":0},{"$f":"'دیده بان'!I765","v":0},0,0,{"$error":"#DIV/0!"},0]
[{"$f":"'دیده بان'!A766","v":0},{"$f":"'دیده بان'!B766","v":0},{"$f":"'دیده بان'!C766","v":0},{"$f":"'دیده بان'!D766","v":0},{"$f":"'دیده بان'!E766","v":0},{"$f":"'دیده بان'!G766","v":0},{"$f":"'دیده بان'!I766","v":0},0,0,{"$error":"#DIV/0!"},0]
[{"$f":"'دیده بان'!A767","v":0},{"$f":"'دیده بان'!B767","v":0},{"$f":"'دیده بان'!C767","v":0},{"$f":"'دیده بان'!D767","v":0},{"$f":"'دیده بان'!E767","v":0},{"$f":"'دیده بان'!G767","v":0},{"$f":"'دیده بان'!I767","v":0},0,0,{"$error":"#DIV/0!"},0]
[{"$f":"'دیده بان'!A768","v":0},{"$f":"'دیده بان'!B768","v":0},{"$f":"'دیده بان'!C768","v":0},{"$f":"'دیده بان'!D768","v":0},{"$f":"'دیده بان'!E768","v":0},{"$f":"'دیده بان'!G768","v":0},{"$f":"'دیده بان'!I768","v":0},0,0,{"$error":"#DIV/0!"},0]
[{"$f":"'دیده بان'!A769","v":0},{"$f":"'دیده بان'!B769","v":0},{"$f":"'دیده بان'!C769","v":0},{"$f":"'دیده بان'!D769","v":0},{"$f":"'دیده بان'!E769","v":0},{"$f":"'دیده بان'!G769","v":0},{"$f":"'دیده بان'!I769","v":0},0,0,{"$error":"#DIV/0!"},0]
[{"$f":"'دیده بان'!A770","v":0},{"$f":"'دیده بان'!B770","v":0},{"$f":"'دیده بان'!C770","v":0},{"$f":"'دیده بان'!D770","v":0},{"$f":"'دیده بان'!E770","v":0},{"$f":"'دیده بان'!G770","v":0},{"$f":"'دیده بان'!I770","v":0},{"$f":"C770-G770","v":0},{"$f":"IFERROR(-G770/C770,0)","v":0},{"$error":"#DIV/0!"},{"$f":"IFERROR((G770+B770-C770)/H770/E770*30,0)","v":0}]
[{"$f":"'دیده بان'!A771","v":0},{"$f":"'دیده بان'!B771","v":0},{"$f":"'دیده بان'!C771","v":0},{"$f":"'دیده بان'!D771","v":0},{"$f":"'دیده بان'!E771","v":0},{"$f":"'دیده بان'!G771","v":0},{"$f":"'دیده بان'!I771","v":0},0,0,{"$f":"IF(C771<=B771,G771,B771+G771-C771)/H771/E771*30","v":{"$error":"#DIV/0!"}},0]
[{"$f":"'دیده بان'!A772","v":0},{"$f":"'دیده بان'!B772","v":0},{"$f":"'دیده بان'!C772","v":0},{"$f":"'دیده بان'!D772","v":0},{"$f":"'دیده بان'!E772","v":0},{"$f":"'دیده بان'!G772","v":0},{"$f":"'دیده بان'!I772","v":0},0,0,{"$error":"#DIV/0!"},0]
[{"$f":"'دیده بان'!A773","v":0},{"$f":"'دیده بان'!B773","v":0},{"$f":"'دیده بان'!C773","v":0},{"$f":"'دیده بان'!D773","v":0},{"$f":"'دیده بان'!E773","v":0},{"$f":"'دیده بان'!G773","v":0},{"$f":"'دیده بان'!I773","v":0},0,0,{"$error":"#DIV/0!"},0]
[{"$f":"'دیده بان'!A774","v":0},{"$f":"'دیده بان'!B774","v":0},{"$f":"'دیده بان'!C774","v":0},{"$f":"'دیده بان'!D774","v":0},{"$f":"'دیده بان'!E774","v":0},{"$f":"'دیده بان'!G774","v":0},{"$f":"'دیده بان'!I774","v":0},0,0,{"$error":"#DIV/0!"},0]
[{"$f":"'دیده بان'!A775","v":0},{"$f":"'دیده بان'!B775","v":0},{"$f":"'دیده بان'!C775","v":0},{"$f":"'دیده بان'!D775","v":0},{"$f":"'دیده بان'!E775","v":0},{"$f":"'دیده بان'!G775","v":0},{"$f":"'دیده بان'!I775","v":0},0,0,{"$error":"#DIV/0!"},0]
[{"$f":"'دیده بان'!A776","v":0},{"$f":"'دیده بان'!B776","v":0},{"$f":"'دیده بان'!C776","v":0},{"$f":"'دیده بان'!D776","v":0},{"$f":"'دیده بان'!E776","v":0},{"$f":"'دیده بان'!G776","v":0},{"$f":"'دیده بان'!I776","v":0},0,0,{"$error":"#DIV/0!"},0]
[{"$f":"'دیده بان'!A777","v":0},{"$f":"'دیده بان'!B777","v":0},{"$f":"'دیده بان'!C777","v":0},{"$f":"'دیده بان'!D777","v":0},{"$f":"'دیده بان'!E777","v":0},{"$f":"'دیده بان'!G777","v":0},{"$f":"'دیده بان'!I777","v":0},0,0,{"$error":"#DIV/0!"},0]
[{"$f":"'دیده بان'!A778","v":0},{"$f":"'دیده بان'!B778","v":0},{"$f":"'دیده بان'!C778","v":0},{"$f":"'دیده بان'!D778","v":0},{"$f":"'دیده بان'!E778","v":0},{"$f":"'دیده بان'!G778","v":0},{"$f":"'دیده بان'!I778","v":0},0,0,{"$error":"#DIV/0!"},0]
[{"$f":"'دیده بان'!A779","v":0},{"$f":"'دیده بان'!B779","v":0},{"$f":"'دیده بان'!C779","v":0},{"$f":"'دیده بان'!D779","v":0},{"$f":"'دیده بان'!E779","v":0},{"$f":"'دیده بان'!G779","v":0},{"$f":"'دیده بان'!I779","v":0},0,0,{"$error":"#DIV/0!"},0]
[{"$f":"'دیده بان'!A780","v":0},{"$f":"'دیده بان'!B780","v":0},{"$f":"'دیده بان'!C780","v":0},{"$f":"'دیده بان'!D780","v":0},{"$f":"'دیده بان'!E780","v":0},{"$f":"'دیده بان'!G780","v":0},{"$f":"'دیده بان'!I780","v":0},0,0,{"$error":"#DIV/0!"},0]
[{"$f":"'دیده بان'!A781","v":0},{"$f":"'دیده بان'!B781","v":0},{"$f":"'دیده بان'!C781","v":0},{"$f":"'دیده بان'!D781","v":0},{"$f":"'دیده بان'!E781","v":0},{"$f":"'دیده بان'!G781","v":0},{"$f":"'دیده بان'!I781","v":0},0,0,{"$error":"#DIV/0!"},0]
[{"$f":"'دیده بان'!A782","v":0},{"$f":"'دیده بان'!B782","v":0},{"$f":"'دیده بان'!C782","v":0},{"$f":"'دیده بان'!D782","v":0},{"$f":"'دیده بان'!E782","v":0},{"$f":"'دیده بان'!G782","v":0},{"$f":"'دیده بان'!I782","v":0},0,0,{"$error":"#DIV/0!"},0]
[{"$f":"'دیده بان'!A783","v":0},{"$f":"'دیده بان'!B783","v":0},{"$f":"'دیده بان'!C783","v":0},{"$f":"'دیده بان'!D783","v":0},{"$f":"'دیده بان'!E783","v":0},{"$f":"'دیده بان'!G783","v":0},{"$f":"'دیده بان'!I783","v":0},0,0,{"$error":"#DIV/0!"},0]
[{"$f":"'دیده بان'!A784","v":0},{"$f":"'دیده بان'!B784","v":0},{"$f":"'دیده بان'!C784","v":0},{"$f":"'دیده بان'!D784","v":0},{"$f":"'دیده بان'!E784","v":0},{"$f":"'دیده بان'!G784","v":0},{"$f":"'دیده بان'!I784","v":0},0,0,{"$error":"#DIV/0!"},0]
[{"$f":"'دیده بان'!A785","v":0},{"$f":"'دیده بان'!B785","v":0},{"$f":"'دیده بان'!C785","v":0},{"$f":"'دیده بان'!D785","v":0},{"$f":"'دیده بان'!E785","v":0},{"$f":"'دیده بان'!G785","v":0},{"$f":"'دیده بان'!I785","v":0},0,0,{"$error":"#DIV/0!"},0]
[{"$f":"'دیده بان'!A786","v":0},{"$f":"'دیده بان'!B786","v":0},{"$f":"'دیده بان'!C786","v":0},{"$f":"'دیده بان'!D786","v":0},{"$f":"'دیده بان'!E786","v":0},{"$f":"'دیده بان'!G786","v":0},{"$f":"'دیده بان'!I786","v":0},0,0,{"$error":"#DIV/0!"},0]
[{"$f":"'دیده بان'!A787","v":0},{"$f":"'دیده بان'!B787","v":0},{"$f":"'دیده بان'!C787","v":0},{"$f":"'دیده بان'!D787","v":0},{"$f":"'دیده بان'!E787","v":0},{"$f":"'دیده بان'!G787","v":0},{"$f":"'دیده بان'!I787","v":0},0,0,{"$error":"#DIV/0!"},0]
[{"$f":"'دیده بان'!A788","v":0},{"$f":"'دیده بان'!B788","v":0},{"$f":"'دیده بان'!C788","v":0},{"$f":"'دیده بان'!D788","v":0},{"$f":"'دیده بان'!E788","v":0},{"$f":"'دیده بان'!G788","v":0},{"$f":"'دیده بان'!I788","v":0},0,0,{"$error":"#DIV/0!"},0]
[{"$f":"'دیده بان'!A789","v":0},{"$f":"'دیده بان'!B789","v":0},{"$f":"'دیده بان'!C789","v":0},{"$f":"'دیده بان'!D789","v":0},{"$f":"'دیده بان'!E789","v":0},{"$f":"'دیده بان'!G789","v":0},{"$f":"'دیده بان'!I789","v":0},0,0,{"$error":"#DIV/0!"},0]
[{"$f":"'دیده بان'!A790","v":0},{"$f":"'دیده بان'!B790","v":0},{"$f":"'دیده بان'!C790","v":0},{"$f":"'دیده بان'!D790","v":0},{"$f":"'دیده بان'!E790","v":0},{"$f":"'دیده بان'!G790","v":0},{"$f":"'دیده بان'!I790","v":0},0,0,{"$error":"#DIV/0!"},0]
[{"$f":"'دیده بان'!A791","v":0},{"$f":"'دیده بان'!B791","v":0},{"$f":"'دیده بان'!C791","v":0},{"$f":"'دیده بان'!D791","v":0},{"$f":"'دیده بان'!E791","v":0},{"$f":"'دیده بان'!G791","v":0},{"$f":"'دیده بان'!I791","v":0},0,0,{"$error":"#DIV/0!"},0]
[{"$f":"'دیده بان'!A792","v":0},{"$f":"'دیده بان'!B792","v":0},{"$f":"'دیده بان'!C792","v":0},{"$f":"'دیده بان'!D792","v":0},{"$f":"'دیده بان'!E792","v":0},{"$f":"'دیده بان'!G792","v":0},{"$f":"'دیده بان'!I792","v":0},0,0,{"$error":"#DIV/0!"},0]
[{"$f":"'دیده بان'!A793","v":0},{"$f":"'دیده بان'!B793","v":0},{"$f":"'دیده بان'!C793","v":0},{"$f":"'دیده بان'!D793","v":0},{"$f":"'دیده بان'!E793","v":0},{"$f":"'دیده بان'!G793","v":0},{"$f":"'دیده بان'!I793","v":0},0,0,{"$error":"#DIV/0!"},0]
[{"$f":"'دیده بان'!A794","v":0},{"$f":"'دیده بان'!B794","v":0},{"$f":"'دیده بان'!C794","v":0},{"$f":"'دیده بان'!D794","v":0},{"$f":"'دیده بان'!E794","v":0},{"$f":"'دیده بان'!G794","v":0},{"$f":"'دیده بان'!I794","v":0},0,0,{"$error":"#DIV/0!"},0]
[{"$f":"'دیده بان'!A795","v":0},{"$f":"'دیده بان'!B795","v":0},{"$f":"'دیده بان'!C795","v":0},{"$f":"'دیده بان'!D795","v":0},{"$f":"'دیده بان'!E795","v":0},{"$f":"'دیده بان'!G795","v":0},{"$f":"'دیده بان'!I795","v":0},0,0,{"$error":"#DIV/0!"},0]
[{"$f":"'دیده بان'!A796","v":0},{"$f":"'دیده بان'!B796","v":0},{"$f":"'دیده بان'!C796","v":0},{"$f":"'دیده بان'!D796","v":0},{"$f":"'دیده بان'!E796","v":0},{"$f":"'دیده بان'!G796","v":0},{"$f":"'دیده بان'!I796","v":0},0,0,{"$error":"#DIV/0!"},0]
[{"$f":"'دیده بان'!A797","v":0},{"$f":"'دیده بان'!B797","v":0},{"$f":"'دیده بان'!C797","v":0},{"$f":"'دیده بان'!D797","v":0},{"$f":"'دیده بان'!E797","v":0},{"$f":"'دیده بان'!G797","v":0},{"$f":"'دیده بان'!I797","v":0},0,0,{"$error":"#DIV/0!"},0]
[{"$f":"'دیده بان'!A798","v":0},{"$f":"'دیده بان'!B798","v":0},{"$f":"'دیده بان'!C798","v":0},{"$f":"'دیده بان'!D798","v":0},{"$f":"'دیده بان'!E798","v":0},{"$f":"'دیده بان'!G798","v":0},{"$f":"'دیده بان'!I798","v":0},0,0,{"$error":"#DIV/0!"},0]
[{"$f":"'دیده بان'!A799","v":0},{"$f":"'دیده بان'!B799","v":0},{"$f":"'دیده بان'!C799","v":0},{"$f":"'دیده بان'!D799","v":0},{"$f":"'دیده بان'!E799","v":0},{"$f":"'دیده بان'!G799","v":0},{"$f":"'دیده بان'!I799","v":0},0,0,{"$error":"#DIV/0!"},0]
[{"$f":"'دیده بان'!A800","v":0},{"$f":"'دیده بان'!B800","v":0},{"$f":"'دیده بان'!C800","v":0},{"$f":"'دیده بان'!D800","v":0},{"$f":"'دیده بان'!E800","v":0},{"$f":"'دیده بان'!G800","v":0},{"$f":"'دیده بان'!I800","v":0},0,0,{"$error":"#DIV/0!"},0]
[{"$f":"'دیده بان'!A801","v":0},{"$f":"'دیده بان'!B801","v":0},{"$f":"'دیده بان'!C801","v":0},{"$f":"'دیده بان'!D801","v":0},{"$f":"'دیده بان'!E801","v":0},{"$f":"'دیده بان'!G801","v":0},{"$f":"'دیده بان'!I801","v":0},0,0,{"$error":"#DIV/0!"},0]
[{"$f":"'دیده بان'!A802","v":0},{"$f":"'دیده بان'!B802","v":0},{"$f":"'دیده بان'!C802","v":0},{"$f":"'دیده بان'!D802","v":0},{"$f":"'دیده بان'!E802","v":0},{"$f":"'دیده بان'!G802","v":0},{"$f":"'دیده بان'!I802","v":0},0,0,{"$error":"#DIV/0!"},0]
[{"$f":"'دیده بان'!A803","v":0},{"$f":"'دیده بان'!B803","v":0},{"$f":"'دیده بان'!C803","v":0},{"$f":"'دیده بان'!D803","v":0},{"$f":"'دیده بان'!E803","v":0},{"$f":"'دیده بان'!G803","v":0},{"$f":"'دیده بان'!I803","v":0},0,0,{"$error":"#DIV/0!"},0]
[{"$f":"'دیده بان'!A804","v":0},{"$f":"'دیده بان'!B804","v":0},{"$f":"'دیده بان'!C804","v":0},{"$f":"'دیده بان'!D804","v":0},{"$f":"'دیده بان'!E804","v":0},{"$f":"'دیده بان'!G804","v":0},{"$f":"'دیده بان'!I804","v":0},0,0,{"$error":"#DIV/0!"},0]
[{"$f":"'دیده بان'!A805","v":0},{"$f":"'دیده بان'!B805","v":0},{"$f":"'دیده بان'!C805","v":0},{"$f":"'دیده بان'!D805","v":0},{"$f":"'دیده بان'!E805","v":0},{"$f":"'دیده بان'!G805","v":0},{"$f":"'دیده بان'!I805","v":0},0,0,{"$error":"#DIV/0!"},0]
[{"$f":"'دیده بان'!A806","v":0},{"$f":"'دیده بان'!B806","v":0},{"$f":"'دیده بان'!C806","v":0},{"$f":"'دیده بان'!D806","v":0},{"$f":"'دیده بان'!E806","v":0},{"$f":"'دیده بان'!G806","v":0},{"$f":"'دیده بان'!I806","v":0},0,0,{"$error":"#DIV/0!"},0]
[{"$f":"'دیده بان'!A807","v":0},{"$f":"'دیده بان'!B807","v":0},{"$f":"'دیده بان'!C807","v":0},{"$f":"'دیده بان'!D807","v":0},{"$f":"'دیده بان'!E807","v":0},{"$f":"'دیده بان'!G807","v":0},{"$f":"'دیده بان'!I807","v":0},0,0,{"$error":"#DIV/0!"},0]
[{"$f":"'دیده بان'!A808","v":0},{"$f":"'دیده بان'!B808","v":0},{"$f":"'دیده بان'!C808","v":0},{"$f":"'دیده بان'!D808","v":0},{"$f":"'دیده بان'!E808","v":0},{"$f":"'دیده بان'!G808","v":0},{"$f":"'دیده بان'!I808","v":0},0,0,{"$error":"#DIV/0!"},0]
[{"$f":"'دیده بان'!A809","v":0},{"$f":"'دیده بان'!B809","v":0},{"$f":"'دیده بان'!C809","v":0},{"$f":"'دیده بان'!D809","v":0},{"$f":"'دیده بان'!E809","v":0},{"$f":"'دیده بان'!G809","v":0},{"$f":"'دیده بان'!I809","v":0},0,0,{"$error":"#DIV/0!"},0]
[{"$f":"'دیده بان'!A810","v":0},{"$f":"'دیده بان'!B810","v":0},{"$f":"'دیده بان'!C810","v":0},{"$f":"'دیده بان'!D810","v":0},{"$f":"'دیده بان'!E810","v":0},{"$f":"'دیده بان'!G810","v":0},{"$f":"'دیده بان'!I810","v":0},0,0,{"$error":"#DIV/0!"},0]
[{"$f":"'دیده بان'!A811","v":0},{"$f":"'دیده بان'!B811","v":0},{"$f":"'دیده بان'!C811","v":0},{"$f":"'دیده بان'!D811","v":0},{"$f":"'دیده بان'!E811","v":0},{"$f":"'دیده بان'!G811","v":0},{"$f":"'دیده بان'!I811","v":0},0,0,{"$error":"#DIV/0!"},0]
[{"$f":"'دیده بان'!A812","v":0},{"$f":"'دیده بان'!B812","v":0},{"$f":"'دیده بان'!C812","v":0},{"$f":"'دیده بان'!D812","v":0},{"$f":"'دیده بان'!E812","v":0},{"$f":"'دیده بان'!G812","v":0},{"$f":"'دیده بان'!I812","v":0},0,0,{"$error":"#DIV/0!"},0]
[{"$f":"'دیده بان'!A813","v":0},{"$f":"'دیده بان'!B813","v":0},{"$f":"'دیده بان'!C813","v":0},{"$f":"'دیده بان'!D813","v":0},{"$f":"'دیده بان'!E813","v":0},{"$f":"'دیده بان'!G813","v":0},{"$f":"'دیده بان'!I813","v":0},0,0,{"$error":"#DIV/0!"},0]
[{"$f":"'دیده بان'!A814","v":0},{"$f":"'دیده بان'!B814","v":0},{"$f":"'دیده بان'!C814","v":0},{"$f":"'دیده بان'!D814","v":0},{"$f":"'دیده بان'!E814","v":0},{"$f":"'دیده بان'!G814","v":0},{"$f":"'دیده بان'!I814","v":0},0,0,{"$error":"#DIV/0!"},0]
[{"$f":"'دیده بان'!A815","v":0},{"$f":"'دیده بان'!B815","v":0},{"$f":"'دیده بان'!C815","v":0},{"$f":"'دیده بان'!D815","v":0},{"$f":"'دیده بان'!E815","v":0},{"$f":"'دیده بان'!G815","v":0},{"$f":"'دیده بان'!I815","v":0},0,0,{"$error":"#DIV/0!"},0]
[{"$f":"'دیده بان'!A816","v":0},{"$f":"'دیده بان'!B816","v":0},{"$f":"'دیده بان'!C816","v":0},{"$f":"'دیده بان'!D816","v":0},{"$f":"'دیده بان'!E816","v":0},{"$f":"'دیده بان'!G816","v":0},{"$f":"'دیده بان'!I816","v":0},0,0,{"$error":"#DIV/0!"},0]
[{"$f":"'دیده بان'!A817","v":0},{"$f":"'دیده بان'!B817","v":0},{"$f":"'دیده بان'!C817","v":0},{"$f":"'دیده بان'!D817","v":0},{"$f":"'دیده بان'!E817","v":0},{"$f":"'دیده بان'!G817","v":0},{"$f":"'دیده بان'!I817","v":0},0,0,{"$error":"#DIV/0!"},0]
[{"$f":"'دیده بان'!A818","v":0},{"$f":"'دیده بان'!B818","v":0},{"$f":"'دیده بان'!C818","v":0},{"$f":"'دیده بان'!D818","v":0},{"$f":"'دیده بان'!E818","v":0},{"$f":"'دیده بان'!G818","v":0},{"$f":"'دیده بان'!I818","v":0},0,0,{"$error":"#DIV/0!"},0]
[{"$f":"'دیده بان'!A819","v":0},{"$f":"'دیده بان'!B819","v":0},{"$f":"'دیده بان'!C819","v":0},{"$f":"'دیده بان'!D819","v":0},{"$f":"'دیده بان'!E819","v":0},{"$f":"'دیده بان'!G819","v":0},{"$f":"'دیده بان'!I819","v":0},0,0,{"$error":"#DIV/0!"},0]
[{"$f":"'دیده بان'!A820","v":0},{"$f":"'دیده بان'!B820","v":0},{"$f":"'دیده بان'!C820","v":0},{"$f":"'دیده بان'!D820","v":0},{"$f":"'دیده بان'!E820","v":0},{"$f":"'دیده بان'!G820","v":0},{"$f":"'دیده بان'!I820","v":0},0,0,{"$error":"#DIV/0!"},0]
[{"$f":"'دیده بان'!A821","v":0},{"$f":"'دیده بان'!B821","v":0},{"$f":"'دیده بان'!C821","v":0},{"$f":"'دیده بان'!D821","v":0},{"$f":"'دیده بان'!E821","v":0},{"$f":"'دیده بان'!G821","v":0},{"$f":"'دیده بان'!I821","v":0},0,0,{"$error":"#DIV/0!"},0]
[{"$f":"'دیده بان'!A822","v":0},{"$f":"'دیده بان'!B822","v":0},{"$f":"'دیده بان'!C822","v":0},{"$f":"'دیده بان'!D822","v":0},{"$f":"'دیده بان'!E822","v":0},{"$f":"'دیده بان'!G822","v":0},{"$f":"'دیده بان'!I822","v":0},0,0,{"$error":"#DIV/0!"},0]
[{"$f":"'دیده بان'!A823","v":0},{"$f":"'دیده بان'!B823","v":0},{"$f":"'دیده بان'!C823","v":0},{"$f":"'دیده بان'!D823","v":0},{"$f":"'دیده بان'!E823","v":0},{"$f":"'دیده بان'!G823","v":0},{"$f":"'دیده بان'!I823","v":0},0,0,{"$error":"#DIV/0!"},0]
[{"$f":"'دیده بان'!A824","v":0},{"$f":"'دیده بان'!B824","v":0},{"$f":"'دیده بان'!C824","v":0},{"$f":"'دیده بان'!D824","v":0},{"$f":"'دیده بان'!E824","v":0},{"$f":"'دیده بان'!G824","v":0},{"$f":"'دیده بان'!I824","v":0},0,0,{"$error":"#DIV/0!"},0]
[{"$f":"'دیده بان'!A825","v":0},{"$f":"'دیده بان'!B825","v":0},{"$f":"'دیده بان'!C825","v":0},{"$f":"'دیده بان'!D825","v":0},{"$f":"'دیده بان'!E825","v":0},{"$f":"'دیده بان'!G825","v":0},{"$f":"'دیده بان'!I825","v":0},0,0,{"$error":"#DIV/0!"},0]
[{"$f":"'دیده بان'!A826","v":0},{"$f":"'دیده بان'!B826","v":0},{"$f":"'دیده بان'!C826","v":0},{"$f":"'دیده بان'!D826","v":0},{"$f":"'دیده بان'!E826","v":0},{"$f":"'دیده بان'!G826","v":0},{"$f":"'دیده بان'!I826","v":0},0,0,{"$error":"#DIV/0!"},0]
[{"$f":"'دیده بان'!A827","v":0},{"$f":"'دیده بان'!B827","v":0},{"$f":"'دیده بان'!C827","v":0},{"$f":"'دیده بان'!D827","v":0},{"$f":"'دیده بان'!E827","v":0},{"$f":"'دیده بان'!G827","v":0},{"$f":"'دیده بان'!I827","v":0},0,0,{"$error":"#DIV/0!"},0]
[{"$f":"'دیده بان'!A828","v":0},{"$f":"'دیده بان'!B828","v":0},{"$f":"'دیده بان'!C828","v":0},{"$f":"'دیده بان'!D828","v":0},{"$f":"'دیده بان'!E828","v":0},{"$f":"'دیده بان'!G828","v":0},{"$f":"'دیده بان'!I828","v":0},0,0,{"$error":"#DIV/0!"},0]
[{"$f":"'دیده بان'!A829","v":0},{"$f":"'دیده بان'!B829","v":0},{"$f":"'دیده بان'!C829","v":0},{"$f":"'دیده بان'!D829","v":0},{"$f":"'دیده بان'!E829","v":0},{"$f":"'دیده بان'!G829","v":0},{"$f":"'دیده بان'!I829","v":0},0,0,{"$error":"#DIV/0!"},0]
[{"$f":"'دیده بان'!A830","v":0},{"$f":"'دیده بان'!B830","v":0},{"$f":"'دیده بان'!C830","v":0},{"$f":"'دیده بان'!D830","v":0},{"$f":"'دیده بان'!E830","v":0},{"$f":"'دیده بان'!G830","v":0},{"$f":"'دیده بان'!I830","v":0},0,0,{"$error":"#DIV/0!"},0]
[{"$f":"'دیده بان'!A831","v":0},{"$f":"'دیده بان'!B831","v":0},{"$f":"'دیده بان'!C831","v":0},{"$f":"'دیده بان'!D831","v":0},{"$f":"'دیده بان'!E831","v":0},{"$f":"'دیده بان'!G831","v":0},{"$f":"'دیده بان'!I831","v":0},0,0,{"$error":"#DIV/0!"},0]
[{"$f":"'دیده بان'!A832","v":0},{"$f":"'دیده بان'!B832","v":0},{"$f":"'دیده بان'!C832","v":0},{"$f":"'دیده بان'!D832","v":0},{"$f":"'دیده بان'!E832","v":0},{"$f":"'دیده بان'!G832","v":0},{"$f":"'دیده بان'!I832","v":0},0,0,{"$error":"#DIV/0!"},0]
[{"$f":"'دیده بان'!A833","v":0},{"$f":"'دیده بان'!B833","v":0},{"$f":"'دیده بان'!C833","v":0},{"$f":"'دیده بان'!D833","v":0},{"$f":"'دیده بان'!E833","v":0},{"$f":"'دیده بان'!G833","v":0},{"$f":"'دیده بان'!I833","v":0},0,0,{"$error":"#DIV/0!"},0]
[{"$f":"'دیده بان'!A834","v":0},{"$f":"'دیده بان'!B834","v":0},{"$f":"'دیده بان'!C834","v":0},{"$f":"'دیده بان'!D834","v":0},{"$f":"'دیده بان'!E834","v":0},{"$f":"'دیده بان'!G834","v":0},{"$f":"'دیده بان'!I834","v":0},{"$f":"C834-G834","v":0},{"$f":"IFERROR(-G834/C834,0)","v":0},{"$error":"#DIV/0!"},{"$f":"IFERROR((G834+B834-C834)/H834/E834*30,0)","v":0}]
[{"$f":"'دیده بان'!A835","v":0},{"$f":"'دیده بان'!B835","v":0},{"$f":"'دیده بان'!C835","v":0},{"$f":"'دیده بان'!D835","v":0},{"$f":"'دیده بان'!E835","v":0},{"$f":"'دیده بان'!G835","v":0},{"$f":"'دیده بان'!I835","v":0},0,0,{"$f":"IF(C835<=B835,G835,B835+G835-C835)/H835/E835*30","v":{"$error":"#DIV/0!"}},0]
[{"$f":"'دیده بان'!A836","v":0},{"$f":"'دیده بان'!B836","v":0},{"$f":"'دیده بان'!C836","v":0},{"$f":"'دیده بان'!D836","v":0},{"$f":"'دیده بان'!E836","v":0},{"$f":"'دیده بان'!G836","v":0},{"$f":"'دیده بان'!I836","v":0},0,0,{"$error":"#DIV/0!"},0]
[{"$f":"'دیده بان'!A837","v":0},{"$f":"'دیده بان'!B837","v":0},{"$f":"'دیده بان'!C837","v":0},{"$f":"'دیده بان'!D837","v":0},{"$f":"'دیده بان'!E837","v":0},{"$f":"'دیده بان'!G837","v":0},{"$f":"'دیده بان'!I837","v":0},0,0,{"$error":"#DIV/0!"},0]
[{"$f":"'دیده بان'!A838","v":0},{"$f":"'دیده بان'!B838","v":0},{"$f":"'دیده بان'!C838","v":0},{"$f":"'دیده بان'!D838","v":0},{"$f":"'دیده بان'!E838","v":0},{"$f":"'دیده بان'!G838","v":0},{"$f":"'دیده بان'!I838","v":0},0,0,{"$error":"#DIV/0!"},0]
[{"$f":"'دیده بان'!A839","v":0},{"$f":"'دیده بان'!B839","v":0},{"$f":"'دیده بان'!C839","v":0},{"$f":"'دیده بان'!D839","v":0},{"$f":"'دیده بان'!E839","v":0},{"$f":"'دیده بان'!G839","v":0},{"$f":"'دیده بان'!I839","v":0},0,0,{"$error":"#DIV/0!"},0]
[{"$f":"'دیده بان'!A840","v":0},{"$f":"'دیده بان'!B840","v":0},{"$f":"'دیده بان'!C840","v":0},{"$f":"'دیده بان'!D840","v":0},{"$f":"'دیده بان'!E840","v":0},{"$f":"'دیده بان'!G840","v":0},{"$f":"'دیده بان'!I840","v":0},0,0,{"$error":"#DIV/0!"},0]
[{"$f":"'دیده بان'!A841","v":0},{"$f":"'دیده بان'!B841","v":0},{"$f":"'دیده بان'!C841","v":0},{"$f":"'دیده بان'!D841","v":0},{"$f":"'دیده بان'!E841","v":0},{"$f":"'دیده بان'!G841","v":0},{"$f":"'دیده بان'!I841","v":0},0,0,{"$error":"#DIV/0!"},0]
[{"$f":"'دیده بان'!A842","v":0},{"$f":"'دیده بان'!B842","v":0},{"$f":"'دیده بان'!C842","v":0},{"$f":"'دیده بان'!D842","v":0},{"$f":"'دیده بان'!E842","v":0},{"$f":"'دیده بان'!G842","v":0},{"$f":"'دیده بان'!I842","v":0},0,0,{"$error":"#DIV/0!"},0]
[{"$f":"'دیده بان'!A843","v":0},{"$f":"'دیده بان'!B843","v":0},{"$f":"'دیده بان'!C843","v":0},{"$f":"'دیده بان'!D843","v":0},{"$f":"'دیده بان'!E843","v":0},{"$f":"'دیده بان'!G843","v":0},{"$f":"'دیده بان'!I843","v":0},0,0,{"$error":"#DIV/0!"},0]
[{"$f":"'دیده بان'!A844","v":0},{"$f":"'دیده بان'!B844","v":0},{"$f":"'دیده بان'!C844","v":0},{"$f":"'دیده بان'!D844","v":0},{"$f":"'دیده بان'!E844","v":0},{"$f":"'دیده بان'!G844","v":0},{"$f":"'دیده بان'!I844","v":0},0,0,{"$error":"#DIV/0!"},0]
[{"$f":"'دیده بان'!A845","v":0},{"$f":"'دیده بان'!B845","v":0},{"$f":"'دیده بان'!C845","v":0},{"$f":"'دیده بان'!D845","v":0},{"$f":"'دیده بان'!E845","v":0},{"$f":"'دیده بان'!G845","v":0},{"$f":"'دیده بان'!I845","v":0},0,0,{"$error":"#DIV/0!"},0]
[{"$f":"'دیده بان'!A846","v":0},{"$f":"'دیده بان'!B846","v":0},{"$f":"'دیده بان'!C846","v":0},{"$f":"'دیده بان'!D846","v":0},{"$f":"'دیده بان'!E846","v":0},{"$f":"'دیده بان'!G846","v":0},{"$f":"'دیده بان'!I846","v":0},0,0,{"$error":"#DIV/0!"},0]
[{"$f":"'دیده بان'!A847","v":0},{"$f":"'دیده بان'!B847","v":0},{"$f":"'دیده بان'!C847","v":0},{"$f":"'دیده بان'!D847","v":0},{"$f":"'دیده بان'!E847","v":0},{"$f":"'دیده بان'!G847","v":0},{"$f":"'دیده بان'!I847","v":0},0,0,{"$error":"#DIV/0!"},0]
[{"$f":"'دیده بان'!A848","v":0},{"$f":"'دیده بان'!B848","v":0},{"$f":"'دیده بان'!C848","v":0},{"$f":"'دیده بان'!D848","v":0},{"$f":"'دیده بان'!E848","v":0},{"$f":"'دیده بان'!G848","v":0},{"$f":"'دیده بان'!I848","v":0},0,0,{"$error":"#DIV/0!"},0]
[{"$f":"'دیده بان'!A849","v":0},{"$f":"'دیده بان'!B849","v":0},{"$f":"'دیده بان'!C849","v":0},{"$f":"'دیده بان'!D849","v":0},{"$f":"'دیده بان'!E849","v":0},{"$f":"'دیده بان'!G849","v":0},{"$f":"'دیده بان'!I849","v":0},0,0,{"$error":"#DIV/0!"},0]
[{"$f":"'دیده بان'!A850","v":0},{"$f":"'دیده بان'!B850","v":0},{"$f":"'دیده بان'!C850","v":0},{"$f":"'دیده بان'!D850","v":0},{"$f":"'دیده بان'!E850","v":0},{"$f":"'دیده بان'!G850","v":0},{"$f":"'دیده بان'!I850","v":0},0,0,{"$error":"#DIV/0!"},0]
[{"$f":"'دیده بان'!A851","v":0},{"$f":"'دیده بان'!B851","v":0},{"$f":"'دیده بان'!C851","v":0},{"$f":"'دیده بان'!D851","v":0},{"$f":"'دیده بان'!E851","v":0},{"$f":"'دیده بان'!G851","v":0},{"$f":"'دیده بان'!I851","v":0},0,0,{"$error":"#DIV/0!"},0]
[{"$f":"'دیده بان'!A852","v":0},{"$f":"'دیده بان'!B852","v":0},{"$f":"'دیده بان'!C852","v":0},{"$f":"'دیده بان'!D852","v":0},{"$f":"'دیده بان'!E852","v":0},{"$f":"'دیده بان'!G852","v":0},{"$f":"'دیده بان'!I852","v":0},0,0,{"$error":"#DIV/0!"},0]
[{"$f":"'دیده بان'!A853","v":0},{"$f":"'دیده بان'!B853","v":0},{"$f":"'دیده بان'!C853","v":0},{"$f":"'دیده بان'!D853","v":0},{"$f":"'دیده بان'!E853","v":0},{"$f":"'دیده بان'!G853","v":0},{"$f":"'دیده بان'!I853","v":0},0,0,{"$error":"#DIV/0!"},0]
[{"$f":"'دیده بان'!A854","v":0},{"$f":"'دیده بان'!B854","v":0},{"$f":"'دیده بان'!C854","v":0},{"$f":"'دیده بان'!D854","v":0},{"$f":"'دیده بان'!E854","v":0},{"$f":"'دیده بان'!G854","v":0},{"$f":"'دیده بان'!I854","v":0},0,0,{"$error":"#DIV/0!"},0]
[{"$f":"'دیده بان'!A855","v":0},{"$f":"'دیده بان'!B855","v":0},{"$f":"'دیده بان'!C855","v":0},{"$f":"'دیده بان'!D855","v":0},{"$f":"'دیده بان'!E855","v":0},{"$f":"'دیده بان'!G855","v":0},{"$f":"'دیده بان'!I855","v":0},0,0,{"$error":"#DIV/0!"},0]
[{"$f":"'دیده بان'!A856","v":0},{"$f":"'دیده بان'!B856","v":0},{"$f":"'دیده بان'!C856","v":0},{"$f":"'دیده بان'!D856","v":0},{"$f":"'دیده بان'!E856","v":0},{"$f":"'دیده بان'!G856","v":0},{"$f":"'دیده بان'!I856","v":0},0,0,{"$error":"#DIV/0!"},0]
[{"$f":"'دیده بان'!A857","v":0},{"$f":"'دیده بان'!B857","v":0},{"$f":"'دیده بان'!C857","v":0},{"$f":"'دیده بان'!D857","v":0},{"$f":"'دیده بان'!E857","v":0},{"$f":"'دیده بان'!G857","v":0},{"$f":"'دیده بان'!I857","v":0},0,0,{"$error":"#DIV/0!"},0]
[{"$f":"'دیده بان'!A858","v":0},{"$f":"'دیده بان'!B858","v":0},{"$f":"'دیده بان'!C858","v":0},{"$f":"'دیده بان'!D858","v":0},{"$f":"'دیده بان'!E858","v":0},{"$f":"'دیده بان'!G858","v":0},{"$f":"'دیده بان'!I858","v":0},0,0,{"$error":"#DIV/0!"},0]
[{"$f":"'دیده بان'!A859","v":0},{"$f":"'دیده بان'!B859","v":0},{"$f":"'دیده بان'!C859","v":0},{"$f":"'دیده بان'!D859","v":0},{"$f":"'دیده بان'!E859","v":0},{"$f":"'دیده بان'!G859","v":0},{"$f":"'دیده بان'!I859","v":0},0,0,{"$error":"#DIV/0!"},0]
[{"$f":"'دیده بان'!A860","v":0},{"$f":"'دیده بان'!B860","v":0},{"$f":"'دیده بان'!C860","v":0},{"$f":"'دیده بان'!D860","v":0},{"$f":"'دیده بان'!E860","v":0},{"$f":"'دیده بان'!G860","v":0},{"$f":"'دیده بان'!I860","v":0},0,0,{"$error":"#DIV/0!"},0]
[{"$f":"'دیده بان'!A861","v":0},{"$f":"'دیده بان'!B861","v":0},{"$f":"'دیده بان'!C861","v":0},{"$f":"'دیده بان'!D861","v":0},{"$f":"'دیده بان'!E861","v":0},{"$f":"'دیده بان'!G861","v":0},{"$f":"'دیده بان'!I861","v":0},0,0,{"$error":"#DIV/0!"},0]
[{"$f":"'دیده بان'!A862","v":0},{"$f":"'دیده بان'!B862","v":0},{"$f":"'دیده بان'!C862","v":0},{"$f":"'دیده بان'!D862","v":0},{"$f":"'دیده بان'!E862","v":0},{"$f":"'دیده بان'!G862","v":0},{"$f":"'دیده بان'!I862","v":0},0,0,{"$error":"#DIV/0!"},0]
[{"$f":"'دیده بان'!A863","v":0},{"$f":"'دیده بان'!B863","v":0},{"$f":"'دیده بان'!C863","v":0},{"$f":"'دیده بان'!D863","v":0},{"$f":"'دیده بان'!E863","v":0},{"$f":"'دیده بان'!G863","v":0},{"$f":"'دیده بان'!I863","v":0},0,0,{"$error":"#DIV/0!"},0]
[{"$f":"'دیده بان'!A864","v":0},{"$f":"'دیده بان'!B864","v":0},{"$f":"'دیده بان'!C864","v":0},{"$f":"'دیده بان'!D864","v":0},{"$f":"'دیده بان'!E864","v":0},{"$f":"'دیده بان'!G864","v":0},{"$f":"'دیده بان'!I864","v":0},0,0,{"$error":"#DIV/0!"},0]
[{"$f":"'دیده بان'!A865","v":0},{"$f":"'دیده بان'!B865","v":0},{"$f":"'دیده بان'!C865","v":0},{"$f":"'دیده بان'!D865","v":0},{"$f":"'دیده بان'!E865","v":0},{"$f":"'دیده بان'!G865","v":0},{"$f":"'دیده بان'!I865","v":0},0,0,{"$error":"#DIV/0!"},0]
[{"$f":"'دیده بان'!A866","v":0},{"$f":"'دیده بان'!B866","v":0},{"$f":"'دیده بان'!C866","v":0},{"$f":"'دیده بان'!D866","v":0},{"$f":"'دیده بان'!E866","v":0},{"$f":"'دیده بان'!G866","v":0},{"$f":"'دیده بان'!I866","v":0},0,0,{"$error":"#DIV/0!"},0]
[{"$f":"'دیده بان'!A867","v":0},{"$f":"'دیده بان'!B867","v":0},{"$f":"'دیده بان'!C867","v":0},{"$f":"'دیده بان'!D867","v":0},{"$f":"'دیده بان'!E867","v":0},{"$f":"'دیده بان'!G867","v":0},{"$f":"'دیده بان'!I867","v":0},0,0,{"$error":"#DIV/0!"},0]
[{"$f":"'دیده بان'!A868","v":0},{"$f":"'دیده بان'!B868","v":0},{"$f":"'دیده بان'!C868","v":0},{"$f":"'دیده بان'!D868","v":0},{"$f":"'دیده بان'!E868","v":0},{"$f":"'دیده بان'!G868","v":0},{"$f":"'دیده بان'!I868","v":0},0,0,{"$error":"#DIV/0!"},0]
[{"$f":"'دیده بان'!A869","v":0},{"$f":"'دیده بان'!B869","v":0},{"$f":"'دیده بان'!C869","v":0},{"$f":"'دیده بان'!D869","v":0},{"$f":"'دیده بان'!E869","v":0},{"$f":"'دیده بان'!G869","v":0},{"$f":"'دیده بان'!I869","v":0},0,0,{"$error":"#DIV/0!"},0]
[{"$f":"'دیده بان'!A870","v":0},{"$f":"'دیده بان'!B870","v":0},{"$f":"'دیده بان'!C870","v":0},{"$f":"'دیده بان'!D870","v":0},{"$f":"'دیده بان'!E870","v":0},{"$f":"'دیده بان'!G870","v":0},{"$f":"'دیده بان'!I870","v":0},0,0,{"$error":"#DIV/0!"},0]
[{"$f":"'دیده بان'!A871","v":0},{"$f":"'دیده بان'!B871","v":0},{"$f":"'دیده بان'!C871","v":0},{"$f":"'دیده بان'!D871","v":0},{"$f":"'دیده بان'!E871","v":0},{"$f":"'دیده بان'!G871","v":0},{"$f":"'دیده بان'!I871","v":0},0,0,{"$error":"#DIV/0!"},0]
[{"$f":"'دیده بان'!A872","v":0},{"$f":"'دیده بان'!B872","v":0},{"$f":"'دیده بان'!C872","v":0},{"$f":"'دیده بان'!D872","v":0},{"$f":"'دیده بان'!E872","v":0},{"$f":"'دیده بان'!G872","v":0},{"$f":"'دیده بان'!I872","v":0},0,0,{"$error":"#DIV/0!"},0]
[{"$f":"'دیده بان'!A873","v":0},{"$f":"'دیده بان'!B873","v":0},{"$f":"'دیده بان'!C873","v":0},{"$f":"'دیده بان'!D873","v":0},{"$f":"'دیده بان'!E873","v":0},{"$f":"'دیده بان'!G873","v":0},{"$f":"'دیده بان'!I873","v":0},0,0,{"$error":"#DIV/0!"},0]
[{"$f":"'دیده بان'!A874","v":0},{"$f":"'دیده بان'!B874","v":0},{"$f":"'دیده بان'!C874","v":0},{"$f":"'دیده بان'!D874","v":0},{"$f":"'دیده بان'!E874","v":0},{"$f":"'دیده بان'!G874","v":0},{"$f":"'دیده بان'!I874","v":0},0,0,{"$error":"#DIV/0!"},0]
[{"$f":"'دیده بان'!A875","v":0},{"$f":"'دیده بان'!B875","v":0},{"$f":"'دیده بان'!C875","v":0},{"$f":"'دیده بان'!D875","v":0},{"$f":"'دیده بان'!E875","v":0},{"$f":"'دیده بان'!G875","v":0},{"$f":"'دیده بان'!I875","v":0},0,0,{"$error":"#DIV/0!"},0]
[{"$f":"'دیده بان'!A876","v":0},{"$f":"'دیده بان'!B876","v":0},{"$f":"'دیده بان'!C876","v":0},{"$f":"'دیده بان'!D876","v":0},{"$f":"'دیده بان'!E876","v":0},{"$f":"'دیده بان'!G876","v":0},{"$f":"'دیده بان'!I876","v":0},0,0,{"$error":"#DIV/0!"},0]
[{"$f":"'دیده بان'!A877","v":0},{"$f":"'دیده بان'!B877","v":0},{"$f":"'دیده بان'!C877","v":0},{"$f":"'دیده بان'!D877","v":0},{"$f":"'دیده بان'!E877","v":0},{"$f":"'دیده بان'!G877","v":0},{"$f":"'دیده بان'!I877","v":0},0,0,{"$error":"#DIV/0!"},0]
[{"$f":"'دیده بان'!A878","v":0},{"$f":"'دیده بان'!B878","v":0},{"$f":"'دیده بان'!C878","v":0},{"$f":"'دیده بان'!D878","v":0},{"$f":"'دیده بان'!E878","v":0},{"$f":"'دیده بان'!G878","v":0},{"$f":"'دیده بان'!I878","v":0},0,0,{"$error":"#DIV/0!"},0]
[{"$f":"'دیده بان'!A879","v":0},{"$f":"'دیده بان'!B879","v":0},{"$f":"'دیده بان'!C879","v":0},{"$f":"'دیده بان'!D879","v":0},{"$f":"'دیده بان'!E879","v":0},{"$f":"'دیده بان'!G879","v":0},{"$f":"'دیده بان'!I879","v":0},0,0,{"$error":"#DIV/0!"},0]
[{"$f":"'دیده بان'!A880","v":0},{"$f":"'دیده بان'!B880","v":0},{"$f":"'دیده بان'!C880","v":0},{"$f":"'دیده بان'!D880","v":0},{"$f":"'دیده بان'!E880","v":0},{"$f":"'دیده بان'!G880","v":0},{"$f":"'دیده بان'!I880","v":0},0,0,{"$error":"#DIV/0!"},0]
[{"$f":"'دیده بان'!A881","v":0},{"$f":"'دیده بان'!B881","v":0},{"$f":"'دیده بان'!C881","v":0},{"$f":"'دیده بان'!D881","v":0},{"$f":"'دیده بان'!E881","v":0},{"$f":"'دیده بان'!G881","v":0},{"$f":"'دیده بان'!I881","v":0},0,0,{"$error":"#DIV/0!"},0]
[{"$f":"'دیده بان'!A882","v":0},{"$f":"'دیده بان'!B882","v":0},{"$f":"'دیده بان'!C882","v":0},{"$f":"'دیده بان'!D882","v":0},{"$f":"'دیده بان'!E882","v":0},{"$f":"'دیده بان'!G882","v":0},{"$f":"'دیده بان'!I882","v":0},0,0,{"$error":"#DIV/0!"},0]
[{"$f":"'دیده بان'!A883","v":0},{"$f":"'دیده بان'!B883","v":0},{"$f":"'دیده بان'!C883","v":0},{"$f":"'دیده بان'!D883","v":0},{"$f":"'دیده بان'!E883","v":0},{"$f":"'دیده بان'!G883","v":0},{"$f":"'دیده بان'!I883","v":0},0,0,{"$error":"#DIV/0!"},0]
[{"$f":"'دیده بان'!A884","v":0},{"$f":"'دیده بان'!B884","v":0},{"$f":"'دیده بان'!C884","v":0},{"$f":"'دیده بان'!D884","v":0},{"$f":"'دیده بان'!E884","v":0},{"$f":"'دیده بان'!G884","v":0},{"$f":"'دیده بان'!I884","v":0},0,0,{"$error":"#DIV/0!"},0]
[{"$f":"'دیده بان'!A885","v":0},{"$f":"'دیده بان'!B885","v":0},{"$f":"'دیده بان'!C885","v":0},{"$f":"'دیده بان'!D885","v":0},{"$f":"'دیده بان'!E885","v":0},{"$f":"'دیده بان'!G885","v":0},{"$f":"'دیده بان'!I885","v":0},0,0,{"$error":"#DIV/0!"},0]
[{"$f":"'دیده بان'!A886","v":0},{"$f":"'دیده بان'!B886","v":0},{"$f":"'دیده بان'!C886","v":0},{"$f":"'دیده بان'!D886","v":0},{"$f":"'دیده بان'!E886","v":0},{"$f":"'دیده بان'!G886","v":0},{"$f":"'دیده بان'!I886","v":0},0,0,{"$error":"#DIV/0!"},0]
[{"$f":"'دیده بان'!A887","v":0},{"$f":"'دیده بان'!B887","v":0},{"$f":"'دیده بان'!C887","v":0},{"$f":"'دیده بان'!D887","v":0},{"$f":"'دیده بان'!E887","v":0},{"$f":"'دیده بان'!G887","v":0},{"$f":"'دیده بان'!I887","v":0},0,0,{"$error":"#DIV/0!"},0]
[{"$f":"'دیده بان'!A888","v":0},{"$f":"'دیده بان'!B888","v":0},{"$f":"'دیده بان'!C888","v":0},{"$f":"'دیده بان'!D888","v":0},{"$f":"'دیده بان'!E888","v":0},{"$f":"'دیده بان'!G888","v":0},{"$f":"'دیده بان'!I888","v":0},0,0,{"$error":"#DIV/0!"},0]
[{"$f":"'دیده بان'!A889","v":0},{"$f":"'دیده بان'!B889","v":0},{"$f":"'دیده بان'!C889","v":0},{"$f":"'دیده بان'!D889","v":0},{"$f":"'دیده بان'!E889","v":0},{"$f":"'دیده بان'!G889","v":0},{"$f":"'دیده بان'!I889","v":0},0,0,{"$error":"#DIV/0!"},0]
[{"$f":"'دیده بان'!A890","v":0},{"$f":"'دیده بان'!B890","v":0},{"$f":"'دیده بان'!C890","v":0},{"$f":"'دیده بان'!D890","v":0},{"$f":"'دیده بان'!E890","v":0},{"$f":"'دیده بان'!G890","v":0},{"$f":"'دیده بان'!I890","v":0},0,0,{"$error":"#DIV/0!"},0]
[{"$f":"'دیده بان'!A891","v":0},{"$f":"'دیده بان'!B891","v":0},{"$f":"'دیده بان'!C891","v":0},{"$f":"'دیده بان'!D891","v":0},{"$f":"'دیده بان'!E891","v":0},{"$f":"'دیده بان'!G891","v":0},{"$f":"'دیده بان'!I891","v":0},0,0,{"$error":"#DIV/0!"},0]
[{"$f":"'دیده بان'!A892","v":0},{"$f":"'دیده بان'!B892","v":0},{"$f":"'دیده بان'!C892","v":0},{"$f":"'دیده بان'!D892","v":0},{"$f":"'دیده بان'!E892","v":0},{"$f":"'دیده بان'!G892","v":0},{"$f":"'دیده بان'!I892","v":0},0,0,{"$error":"#DIV/0!"},0]
[{"$f":"'دیده بان'!A893","v":0},{"$f":"'دیده بان'!B893","v":0},{"$f":"'دیده بان'!C893","v":0},{"$f":"'دیده بان'!D893","v":0},{"$f":"'دیده بان'!E893","v":0},{"$f":"'دیده بان'!G893","v":0},{"$f":"'دیده بان'!I893","v":0},0,0,{"$error":"#DIV/0!"},0]
[{"$f":"'دیده بان'!A894","v":0},{"$f":"'دیده بان'!B894","v":0},{"$f":"'دیده بان'!C894","v":0},{"$f":"'دیده بان'!D894","v":0},{"$f":"'دیده بان'!E894","v":0},{"$f":"'دیده بان'!G894","v":0},{"$f":"'دیده بان'!I894","v":0},0,0,{"$error":"#DIV/0!"},0]
[{"$f":"'دیده بان'!A895","v":0},{"$f":"'دیده بان'!B895","v":0},{"$f":"'دیده بان'!C895","v":0},{"$f":"'دیده بان'!D895","v":0},{"$f":"'دیده بان'!E895","v":0},{"$f":"'دیده بان'!G895","v":0},{"$f":"'دیده بان'!I895","v":0},0,0,{"$error":"#DIV/0!"},0]
[{"$f":"'دیده بان'!A896","v":0},{"$f":"'دیده بان'!B896","v":0},{"$f":"'دیده بان'!C896","v":0},{"$f":"'دیده بان'!D896","v":0},{"$f":"'دیده بان'!E896","v":0},{"$f":"'دیده بان'!G896","v":0},{"$f":"'دیده بان'!I896","v":0},0,0,{"$error":"#DIV/0!"},0]
[{"$f":"'دیده بان'!A897","v":0},{"$f":"'دیده بان'!B897","v":0},{"$f":"'دیده بان'!C897","v":0},{"$f":"'دیده بان'!D897","v":0},{"$f":"'دیده بان'!E897","v":0},{"$f":"'دیده بان'!G897","v":0},{"$f":"'دیده بان'!I897","v":0},0,0,{"$error":"#DIV/0!"},0]
[{"$f":"'دیده بان'!A898","v":0},{"$f":"'دیده بان'!B898","v":0},{"$f":"'دیده بان'!C898","v":0},{"$f":"'دیده بان'!D898","v":0},{"$f":"'دیده بان'!E898","v":0},{"$f":"'دیده بان'!G898","v":0},{"$f":"'دیده بان'!I898","v":0},{"$f":"C898-G898","v":0},{"$f":"IFERROR(-G898/C898,0)","v":0},{"$error":"#DIV/0!"},{"$f":"IFERROR((G898+B898-C898)/H898/E898*30,0)","v":0}]
[{"$f":"'دیده بان'!A899","v":0},{"$f":"'دیده بان'!B899","v":0},{"$f":"'دیده بان'!C899","v":0},{"$f":"'دیده بان'!D899","v":0},{"$f":"'دیده بان'!E899","v":0},{"$f":"'دیده بان'!G899","v":0},{"$f":"'دیده بان'!I899","v":0},0,0,{"$f":"IF(C899<=B899,G899,B899+G899-C899)/H899/E899*30","v":{"$error":"#DIV/0!"}},0]
[{"$f":"'دیده بان'!A900","v":0},{"$f":"'دیده بان'!B900","v":0},{"$f":"'دیده بان'!C900","v":0},{"$f":"'دیده بان'!D900","v":0},{"$f":"'دیده بان'!E900","v":0},{"$f":"'دیده بان'!G900","v":0},{"$f":"'دیده بان'!I900","v":0},0,0,{"$error":"#DIV/0!"},0]
[{"$f":"'دیده بان'!A901","v":0},{"$f":"'دیده بان'!B901","v":0},{"$f":"'دیده بان'!C901","v":0},{"$f":"'دیده بان'!D901","v":0},{"$f":"'دیده بان'!E901","v":0},{"$f":"'دیده بان'!G901","v":0},{"$f":"'دیده بان'!I901","v":0},0,0,{"$error":"#DIV/0!"},0]
[{"$f":"'دیده بان'!A902","v":0},{"$f":"'دیده بان'!B902","v":0},{"$f":"'دیده بان'!C902","v":0},{"$f":"'دیده بان'!D902","v":0},{"$f":"'دیده بان'!E902","v":0},{"$f":"'دیده بان'!G902","v":0},{"$f":"'دیده بان'!I902","v":0},0,0,{"$error":"#DIV/0!"},0]
[{"$f":"'دیده بان'!A903","v":0},{"$f":"'دیده بان'!B903","v":0},{"$f":"'دیده بان'!C903","v":0},{"$f":"'دیده بان'!D903","v":0},{"$f":"'دیده بان'!E903","v":0},{"$f":"'دیده بان'!G903","v":0},{"$f":"'دیده بان'!I903","v":0},0,0,{"$error":"#DIV/0!"},0]
[{"$f":"'دیده بان'!A904","v":0},{"$f":"'دیده بان'!B904","v":0},{"$f":"'دیده بان'!C904","v":0},{"$f":"'دیده بان'!D904","v":0},{"$f":"'دیده بان'!E904","v":0},{"$f":"'دیده بان'!G904","v":0},{"$f":"'دیده بان'!I904","v":0},0,0,{"$error":"#DIV/0!"},0]
[{"$f":"'دیده بان'!A905","v":0},{"$f":"'دیده بان'!B905","v":0},{"$f":"'دیده بان'!C905","v":0},{"$f":"'دیده بان'!D905","v":0},{"$f":"'دیده بان'!E905","v":0},{"$f":"'دیده بان'!G905","v":0},{"$f":"'دیده بان'!I905","v":0},0,0,{"$error":"#DIV/0!"},0]
[{"$f":"'دیده بان'!A906","v":0},{"$f":"'دیده بان'!B906","v":0},{"$f":"'دیده بان'!C906","v":0},{"$f":"'دیده بان'!D906","v":0},{"$f":"'دیده بان'!E906","v":0},{"$f":"'دیده بان'!G906","v":0},{"$f":"'دیده بان'!I906","v":0},0,0,{"$error":"#DIV/0!"},0]
[{"$f":"'دیده بان'!A907","v":0},{"$f":"'دیده بان'!B907","v":0},{"$f":"'دیده بان'!C907","v":0},{"$f":"'دیده بان'!D907","v":0},{"$f":"'دیده بان'!E907","v":0},{"$f":"'دیده بان'!G907","v":0},{"$f":"'دیده بان'!I907","v":0},0,0,{"$error":"#DIV/0!"},0]
[{"$f":"'دیده بان'!A908","v":0},{"$f":"'دیده بان'!B908","v":0},{"$f":"'دیده بان'!C908","v":0},{"$f":"'دیده بان'!D908","v":0},{"$f":"'دیده بان'!E908","v":0},{"$f":"'دیده بان'!G908","v":0},{"$f":"'دیده بان'!I908","v":0},0,0,{"$error":"#DIV/0!"},0]
[{"$f":"'دیده بان'!A909","v":0},{"$f":"'دیده بان'!B909","v":0},{"$f":"'دیده بان'!C909","v":0},{"$f":"'دیده بان'!D909","v":0},{"$f":"'دیده بان'!E909","v":0},{"$f":"'دیده بان'!G909","v":0},{"$f":"'دیده بان'!I909","v":0},0,0,{"$error":"#DIV/0!"},0]
[{"$f":"'دیده بان'!A910","v":0},{"$f":"'دیده بان'!B910","v":0},{"$f":"'دیده بان'!C910","v":0},{"$f":"'دیده بان'!D910","v":0},{"$f":"'دیده بان'!E910","v":0},{"$f":"'دیده بان'!G910","v":0},{"$f":"'دیده بان'!I910","v":0},0,0,{"$error":"#DIV/0!"},0]
[{"$f":"'دیده بان'!A911","v":0},{"$f":"'دیده بان'!B911","v":0},{"$f":"'دیده بان'!C911","v":0},{"$f":"'دیده بان'!D911","v":0},{"$f":"'دیده بان'!E911","v":0},{"$f":"'دیده بان'!G911","v":0},{"$f":"'دیده بان'!I911","v":0},0,0,{"$error":"#DIV/0!"},0]
[{"$f":"'دیده بان'!A912","v":0},{"$f":"'دیده بان'!B912","v":0},{"$f":"'دیده بان'!C912","v":0},{"$f":"'دیده بان'!D912","v":0},{"$f":"'دیده بان'!E912","v":0},{"$f":"'دیده بان'!G912","v":0},{"$f":"'دیده بان'!I912","v":0},0,0,{"$error":"#DIV/0!"},0]
[{"$f":"'دیده بان'!A913","v":0},{"$f":"'دیده بان'!B913","v":0},{"$f":"'دیده بان'!C913","v":0},{"$f":"'دیده بان'!D913","v":0},{"$f":"'دیده بان'!E913","v":0},{"$f":"'دیده بان'!G913","v":0},{"$f":"'دیده بان'!I913","v":0},0,0,{"$error":"#DIV/0!"},0]
[{"$f":"'دیده بان'!A914","v":0},{"$f":"'دیده بان'!B914","v":0},{"$f":"'دیده بان'!C914","v":0},{"$f":"'دیده بان'!D914","v":0},{"$f":"'دیده بان'!E914","v":0},{"$f":"'دیده بان'!G914","v":0},{"$f":"'دیده بان'!I914","v":0},0,0,{"$error":"#DIV/0!"},0]
[{"$f":"'دیده بان'!A915","v":0},{"$f":"'دیده بان'!B915","v":0},{"$f":"'دیده بان'!C915","v":0},{"$f":"'دیده بان'!D915","v":0},{"$f":"'دیده بان'!E915","v":0},{"$f":"'دیده بان'!G915","v":0},{"$f":"'دیده بان'!I915","v":0},0,0,{"$error":"#DIV/0!"},0]
[{"$f":"'دیده بان'!A916","v":0},{"$f":"'دیده بان'!B916","v":0},{"$f":"'دیده بان'!C916","v":0},{"$f":"'دیده بان'!D916","v":0},{"$f":"'دیده بان'!E916","v":0},{"$f":"'دیده بان'!G916","v":0},{"$f":"'دیده بان'!I916","v":0},0,0,{"$error":"#DIV/0!"},0]
[{"$f":"'دیده بان'!A917","v":0},{"$f":"'دیده بان'!B917","v":0},{"$f":"'دیده بان'!C917","v":0},{"$f":"'دیده بان'!D917","v":0},{"$f":"'دیده بان'!E917","v":0},{"$f":"'دیده بان'!G917","v":0},{"$f":"'دیده بان'!I917","v":0},0,0,{"$error":"#DIV/0!"},0]
[{"$f":"'دیده بان'!A918","v":0},{"$f":"'دیده بان'!B918","v":0},{"$f":"'دیده بان'!C918","v":0},{"$f":"'دیده بان'!D918","v":0},{"$f":"'دیده بان'!E918","v":0},{"$f":"'دیده بان'!G918","v":0},{"$f":"'دیده بان'!I918","v":0},0,0,{"$error":"#DIV/0!"},0]
[{"$f":"'دیده بان'!A919","v":0},{"$f":"'دیده بان'!B919","v":0},{"$f":"'دیده بان'!C919","v":0},{"$f":"'دیده بان'!D919","v":0},{"$f":"'دیده بان'!E919","v":0},{"$f":"'دیده بان'!G919","v":0},{"$f":"'دیده بان'!I919","v":0},0,0,{"$error":"#DIV/0!"},0]
[{"$f":"'دیده بان'!A920","v":0},{"$f":"'دیده بان'!B920","v":0},{"$f":"'دیده بان'!C920","v":0},{"$f":"'دیده بان'!D920","v":0},{"$f":"'دیده بان'!E920","v":0},{"$f":"'دیده بان'!G920","v":0},{"$f":"'دیده بان'!I920","v":0},0,0,{"$error":"#DIV/0!"},0]
[{"$f":"'دیده بان'!A921","v":0},{"$f":"'دیده بان'!B921","v":0},{"$f":"'دیده بان'!C921","v":0},{"$f":"'دیده بان'!D921","v":0},{"$f":"'دیده بان'!E921","v":0},{"$f":"'دیده بان'!G921","v":0},{"$f":"'دیده بان'!I921","v":0},0,0,{"$error":"#DIV/0!"},0]
[{"$f":"'دیده بان'!A922","v":0},{"$f":"'دیده بان'!B922","v":0},{"$f":"'دیده بان'!C922","v":0},{"$f":"'دیده بان'!D922","v":0},{"$f":"'دیده بان'!E922","v":0},{"$f":"'دیده بان'!G922","v":0},{"$f":"'دیده بان'!I922","v":0},0,0,{"$error":"#DIV/0!"},0]
[{"$f":"'دیده بان'!A923","v":0},{"$f":"'دیده بان'!B923","v":0},{"$f":"'دیده بان'!C923","v":0},{"$f":"'دیده بان'!D923","v":0},{"$f":"'دیده بان'!E923","v":0},{"$f":"'دیده بان'!G923","v":0},{"$f":"'دیده بان'!I923","v":0},0,0,{"$error":"#DIV/0!"},0]
[{"$f":"'دیده بان'!A924","v":0},{"$f":"'دیده بان'!B924","v":0},{"$f":"'دیده بان'!C924","v":0},{"$f":"'دیده بان'!D924","v":0},{"$f":"'دیده بان'!E924","v":0},{"$f":"'دیده بان'!G924","v":0},{"$f":"'دیده بان'!I924","v":0},0,0,{"$error":"#DIV/0!"},0]
[{"$f":"'دیده بان'!A925","v":0},{"$f":"'دیده بان'!B925","v":0},{"$f":"'دیده بان'!C925","v":0},{"$f":"'دیده بان'!D925","v":0},{"$f":"'دیده بان'!E925","v":0},{"$f":"'دیده بان'!G925","v":0},{"$f":"'دیده بان'!I925","v":0},0,0,{"$error":"#DIV/0!"},0]
[{"$f":"'دیده بان'!A926","v":0},{"$f":"'دیده بان'!B926","v":0},{"$f":"'دیده بان'!C926","v":0},{"$f":"'دیده بان'!D926","v":0},{"$f":"'دیده بان'!E926","v":0},{"$f":"'دیده بان'!G926","v":0},{"$f":"'دیده بان'!I926","v":0},0,0,{"$error":"#DIV/0!"},0]
[{"$f":"'دیده بان'!A927","v":0},{"$f":"'دیده بان'!B927","v":0},{"$f":"'دیده بان'!C927","v":0},{"$f":"'دیده بان'!D927","v":0},{"$f":"'دیده بان'!E927","v":0},{"$f":"'دیده بان'!G927","v":0},{"$f":"'دیده بان'!I927","v":0},0,0,{"$error":"#DIV/0!"},0]
[{"$f":"'دیده بان'!A928","v":0},{"$f":"'دیده بان'!B928","v":0},{"$f":"'دیده بان'!C928","v":0},{"$f":"'دیده بان'!D928","v":0},{"$f":"'دیده بان'!E928","v":0},{"$f":"'دیده بان'!G928","v":0},{"$f":"'دیده بان'!I928","v":0},0,0,{"$error":"#DIV/0!"},0]
[{"$f":"'دیده بان'!A929","v":0},{"$f":"'دیده بان'!B929","v":0},{"$f":"'دیده بان'!C929","v":0},{"$f":"'دیده بان'!D929","v":0},{"$f":"'دیده بان'!E929","v":0},{"$f":"'دیده بان'!G929","v":0},{"$f":"'دیده بان'!I929","v":0},0,0,{"$error":"#DIV/0!"},0]
[{"$f":"'دیده بان'!A930","v":0},{"$f":"'دیده بان'!B930","v":0},{"$f":"'دیده بان'!C930","v":0},{"$f":"'دیده بان'!D930","v":0},{"$f":"'دیده بان'!E930","v":0},{"$f":"'دیده بان'!G930","v":0},{"$f":"'دیده بان'!I930","v":0},0,0,{"$error":"#DIV/0!"},0]
[{"$f":"'دیده بان'!A931","v":0},{"$f":"'دیده بان'!B931","v":0},{"$f":"'دیده بان'!C931","v":0},{"$f":"'دیده بان'!D931","v":0},{"$f":"'دیده بان'!E931","v":0},{"$f":"'دیده بان'!G931","v":0},{"$f":"'دیده بان'!I931","v":0},0,0,{"$error":"#DIV/0!"},0]
[{"$f":"'دیده بان'!A932","v":0},{"$f":"'دیده بان'!B932","v":0},{"$f":"'دیده بان'!C932","v":0},{"$f":"'دیده بان'!D932","v":0},{"$f":"'دیده بان'!E932","v":0},{"$f":"'دیده بان'!G932","v":0},{"$f":"'دیده بان'!I932","v":0},0,0,{"$error":"#DIV/0!"},0]
[{"$f":"'دیده بان'!A933","v":0},{"$f":"'دیده بان'!B933","v":0},{"$f":"'دیده بان'!C933","v":0},{"$f":"'دیده بان'!D933","v":0},{"$f":"'دیده بان'!E933","v":0},{"$f":"'دیده بان'!G933","v":0},{"$f":"'دیده بان'!I933","v":0},0,0,{"$error":"#DIV/0!"},0]
[{"$f":"'دیده بان'!A934","v":0},{"$f":"'دیده بان'!B934","v":0},{"$f":"'دیده بان'!C934","v":0},{"$f":"'دیده بان'!D934","v":0},{"$f":"'دیده بان'!E934","v":0},{"$f":"'دیده بان'!G934","v":0},{"$f":"'دیده بان'!I934","v":0},0,0,{"$error":"#DIV/0!"},0]
[{"$f":"'دیده بان'!A935","v":0},{"$f":"'دیده بان'!B935","v":0},{"$f":"'دیده بان'!C935","v":0},{"$f":"'دیده بان'!D935","v":0},{"$f":"'دیده بان'!E935","v":0},{"$f":"'دیده بان'!G935","v":0},{"$f":"'دیده بان'!I935","v":0},0,0,{"$error":"#DIV/0!"},0]
[{"$f":"'دیده بان'!A936","v":0},{"$f":"'دیده بان'!B936","v":0},{"$f":"'دیده بان'!C936","v":0},{"$f":"'دیده بان'!D936","v":0},{"$f":"'دیده بان'!E936","v":0},{"$f":"'دیده بان'!G936","v":0},{"$f":"'دیده بان'!I936","v":0},0,0,{"$error":"#DIV/0!"},0]
[{"$f":"'دیده بان'!A937","v":0},{"$f":"'دیده بان'!B937","v":0},{"$f":"'دیده بان'!C937","v":0},{"$f":"'دیده بان'!D937","v":0},{"$f":"'دیده بان'!E937","v":0},{"$f":"'دیده بان'!G937","v":0},{"$f":"'دیده بان'!I937","v":0},0,0,{"$error":"#DIV/0!"},0]
[{"$f":"'دیده بان'!A938","v":0},{"$f":"'دیده بان'!B938","v":0},{"$f":"'دیده بان'!C938","v":0},{"$f":"'دیده بان'!D938","v":0},{"$f":"'دیده بان'!E938","v":0},{"$f":"'دیده بان'!G938","v":0},{"$f":"'دیده بان'!I938","v":0},0,0,{"$error":"#DIV/0!"},0]
[{"$f":"'دیده بان'!A939","v":0},{"$f":"'دیده بان'!B939","v":0},{"$f":"'دیده بان'!C939","v":0},{"$f":"'دیده بان'!D939","v":0},{"$f":"'دیده بان'!E939","v":0},{"$f":"'دیده بان'!G939","v":0},{"$f":"'دیده بان'!I939","v":0},0,0,{"$error":"#DIV/0!"},0]
[{"$f":"'دیده بان'!A940","v":0},{"$f":"'دیده بان'!B940","v":0},{"$f":"'دیده بان'!C940","v":0},{"$f":"'دیده بان'!D940","v":0},{"$f":"'دیده بان'!E940","v":0},{"$f":"'دیده بان'!G940","v":0},{"$f":"'دیده بان'!I940","v":0},0,0,{"$error":"#DIV/0!"},0]
[{"$f":"'دیده بان'!A941","v":0},{"$f":"'دیده بان'!B941","v":0},{"$f":"'دیده بان'!C941","v":0},{"$f":"'دیده بان'!D941","v":0},{"$f":"'دیده بان'!E941","v":0},{"$f":"'دیده بان'!G941","v":0},{"$f":"'دیده بان'!I941","v":0},0,0,{"$error":"#DIV/0!"},0]
[{"$f":"'دیده بان'!A942","v":0},{"$f":"'دیده بان'!B942","v":0},{"$f":"'دیده بان'!C942","v":0},{"$f":"'دیده بان'!D942","v":0},{"$f":"'دیده بان'!E942","v":0},{"$f":"'دیده بان'!G942","v":0},{"$f":"'دیده بان'!I942","v":0},0,0,{"$error":"#DIV/0!"},0]
[{"$f":"'دیده بان'!A943","v":0},{"$f":"'دیده بان'!B943","v":0},{"$f":"'دیده بان'!C943","v":0},{"$f":"'دیده بان'!D943","v":0},{"$f":"'دیده بان'!E943","v":0},{"$f":"'دیده بان'!G943","v":0},{"$f":"'دیده بان'!I943","v":0},0,0,{"$error":"#DIV/0!"},0]
[{"$f":"'دیده بان'!A944","v":0},{"$f":"'دیده بان'!B944","v":0},{"$f":"'دیده بان'!C944","v":0},{"$f":"'دیده بان'!D944","v":0},{"$f":"'دیده بان'!E944","v":0},{"$f":"'دیده بان'!G944","v":0},{"$f":"'دیده بان'!I944","v":0},0,0,{"$error":"#DIV/0!"},0]
[{"$f":"'دیده بان'!A945","v":0},{"$f":"'دیده بان'!B945","v":0},{"$f":"'دیده بان'!C945","v":0},{"$f":"'دیده بان'!D945","v":0},{"$f":"'دیده بان'!E945","v":0},{"$f":"'دیده بان'!G945","v":0},{"$f":"'دیده بان'!I945","v":0},0,0,{"$error":"#DIV/0!"},0]
[{"$f":"'دیده بان'!A946","v":0},{"$f":"'دیده بان'!B946","v":0},{"$f":"'دیده بان'!C946","v":0},{"$f":"'دیده بان'!D946","v":0},{"$f":"'دیده بان'!E946","v":0},{"$f":"'دیده بان'!G946","v":0},{"$f":"'دیده بان'!I946","v":0},0,0,{"$error":"#DIV/0!"},0]
[{"$f":"'دیده بان'!A947","v":0},{"$f":"'دیده بان'!B947","v":0},{"$f":"'دیده بان'!C947","v":0},{"$f":"'دیده بان'!D947","v":0},{"$f":"'دیده بان'!E947","v":0},{"$f":"'دیده بان'!G947","v":0},{"$f":"'دیده بان'!I947","v":0},0,0,{"$error":"#DIV/0!"},0]
[{"$f":"'دیده بان'!A948","v":0},{"$f":"'دیده بان'!B948","v":0},{"$f":"'دیده بان'!C948","v":0},{"$f":"'دیده بان'!D948","v":0},{"$f":"'دیده بان'!E948","v":0},{"$f":"'دیده بان'!G948","v":0},{"$f":"'دیده بان'!I948","v":0},0,0,{"$error":"#DIV/0!"},0]
[{"$f":"'دیده بان'!A949","v":0},{"$f":"'دیده بان'!B949","v":0},{"$f":"'دیده بان'!C949","v":0},{"$f":"'دیده بان'!D949","v":0},{"$f":"'دیده بان'!E949","v":0},{"$f":"'دیده بان'!G949","v":0},{"$f":"'دیده بان'!I949","v":0},0,0,{"$error":"#DIV/0!"},0]
[{"$f":"'دیده بان'!A950","v":0},{"$f":"'دیده بان'!B950","v":0},{"$f":"'دیده بان'!C950","v":0},{"$f":"'دیده بان'!D950","v":0},{"$f":"'دیده بان'!E950","v":0},{"$f":"'دیده بان'!G950","v":0},{"$f":"'دیده بان'!I950","v":0},0,0,{"$error":"#DIV/0!"},0]
[{"$f":"'دیده بان'!A951","v":0},{"$f":"'دیده بان'!B951","v":0},{"$f":"'دیده بان'!C951","v":0},{"$f":"'دیده بان'!D951","v":0},{"$f":"'دیده بان'!E951","v":0},{"$f":"'دیده بان'!G951","v":0},{"$f":"'دیده بان'!I951","v":0},0,0,{"$error":"#DIV/0!"},0]
[{"$f":"'دیده بان'!A952","v":0},{"$f":"'دیده بان'!B952","v":0},{"$f":"'دیده بان'!C952","v":0},{"$f":"'دیده بان'!D952","v":0},{"$f":"'دیده بان'!E952","v":0},{"$f":"'دیده بان'!G952","v":0},{"$f":"'دیده بان'!I952","v":0},0,0,{"$error":"#DIV/0!"},0]
[{"$f":"'دیده بان'!A953","v":0},{"$f":"'دیده بان'!B953","v":0},{"$f":"'دیده بان'!C953","v":0},{"$f":"'دیده بان'!D953","v":0},{"$f":"'دیده بان'!E953","v":0},{"$f":"'دیده بان'!G953","v":0},{"$f":"'دیده بان'!I953","v":0},0,0,{"$error":"#DIV/0!"},0]
[{"$f":"'دیده بان'!A954","v":0},{"$f":"'دیده بان'!B954","v":0},{"$f":"'دیده بان'!C954","v":0},{"$f":"'دیده بان'!D954","v":0},{"$f":"'دیده بان'!E954","v":0},{"$f":"'دیده بان'!G954","v":0},{"$f":"'دیده بان'!I954","v":0},0,0,{"$error":"#DIV/0!"},0]
[{"$f":"'دیده بان'!A955","v":0},{"$f":"'دیده بان'!B955","v":0},{"$f":"'دیده بان'!C955","v":0},{"$f":"'دیده بان'!D955","v":0},{"$f":"'دیده بان'!E955","v":0},{"$f":"'دیده بان'!G955","v":0},{"$f":"'دیده بان'!I955","v":0},0,0,{"$error":"#DIV/0!"},0]
[{"$f":"'دیده بان'!A956","v":0},{"$f":"'دیده بان'!B956","v":0},{"$f":"'دیده بان'!C956","v":0},{"$f":"'دیده بان'!D956","v":0},{"$f":"'دیده بان'!E956","v":0},{"$f":"'دیده بان'!G956","v":0},{"$f":"'دیده بان'!I956","v":0},0,0,{"$error":"#DIV/0!"},0]
[{"$f":"'دیده بان'!A957","v":0},{"$f":"'دیده بان'!B957","v":0},{"$f":"'دیده بان'!C957","v":0},{"$f":"'دیده بان'!D957","v":0},{"$f":"'دیده بان'!E957","v":0},{"$f":"'دیده بان'!G957","v":0},{"$f":"'دیده بان'!I957","v":0},0,0,{"$error":"#DIV/0!"},0]
[{"$f":"'دیده بان'!A958","v":0},{"$f":"'دیده بان'!B958","v":0},{"$f":"'دیده بان'!C958","v":0},{"$f":"'دیده بان'!D958","v":0},{"$f":"'دیده بان'!E958","v":0},{"$f":"'دیده بان'!G958","v":0},{"$f":"'دیده بان'!I958","v":0},0,0,{"$error":"#DIV/0!"},0]
[{"$f":"'دیده بان'!A959","v":0},{"$f":"'دیده بان'!B959","v":0},{"$f":"'دیده بان'!C959","v":0},{"$f":"'دیده بان'!D959","v":0},{"$f":"'دیده بان'!E959","v":0},{"$f":"'دیده بان'!G959","v":0},{"$f":"'دیده بان'!I959","v":0},0,0,{"$error":"#DIV/0!"},0]
[{"$f":"'دیده بان'!A960","v":0},{"$f":"'دیده بان'!B960","v":0},{"$f":"'دیده بان'!C960","v":0},{"$f":"'دیده بان'!D960","v":0},{"$f":"'دیده بان'!E960","v":0},{"$f":"'دیده بان'!G960","v":0},{"$f":"'دیده بان'!I960","v":0},0,0,{"$error":"#DIV/0!"},0]
[{"$f":"'دیده بان'!A961","v":0},{"$f":"'دیده بان'!B961","v":0},{"$f":"'دیده بان'!C961","v":0},{"$f":"'دیده بان'!D961","v":0},{"$f":"'دیده بان'!E961","v":0},{"$f":"'دیده بان'!G961","v":0},{"$f":"'دیده بان'!I961","v":0},0,0,{"$error":"#DIV/0!"},0]
[{"$f":"'دیده بان'!A962","v":0},{"$f":"'دیده بان'!B962","v":0},{"$f":"'دیده بان'!C962","v":0},{"$f":"'دیده بان'!D962","v":0},{"$f":"'دیده بان'!E962","v":0},{"$f":"'دیده بان'!G962","v":0},{"$f":"'دیده بان'!I962","v":0},{"$f":"C962-G962","v":0},{"$f":"IFERROR(-G962/C962,0)","v":0},{"$error":"#DIV/0!"},{"$f":"IFERROR((G962+B962-C962)/H962/E962*30,0)","v":0}]
[{"$f":"'دیده بان'!A963","v":0},{"$f":"'دیده بان'!B963","v":0},{"$f":"'دیده بان'!C963","v":0},{"$f":"'دیده بان'!D963","v":0},{"$f":"'دیده بان'!E963","v":0},{"$f":"'دیده بان'!G963","v":0},{"$f":"'دیده بان'!I963","v":0},0,0,{"$f":"IF(C963<=B963,G963,B963+G963-C963)/H963/E963*30","v":{"$error":"#DIV/0!"}},0]
[{"$f":"'دیده بان'!A964","v":0},{"$f":"'دیده بان'!B964","v":0},{"$f":"'دیده بان'!C964","v":0},{"$f":"'دیده بان'!D964","v":0},{"$f":"'دیده بان'!E964","v":0},{"$f":"'دیده بان'!G964","v":0},{"$f":"'دیده بان'!I964","v":0},0,0,{"$error":"#DIV/0!"},0]
[{"$f":"'دیده بان'!A965","v":0},{"$f":"'دیده بان'!B965","v":0},{"$f":"'دیده بان'!C965","v":0},{"$f":"'دیده بان'!D965","v":0},{"$f":"'دیده بان'!E965","v":0},{"$f":"'دیده بان'!G965","v":0},{"$f":"'دیده بان'!I965","v":0},0,0,{"$error":"#DIV/0!"},0]
[{"$f":"'دیده بان'!A966","v":0},{"$f":"'دیده بان'!B966","v":0},{"$f":"'دیده بان'!C966","v":0},{"$f":"'دیده بان'!D966","v":0},{"$f":"'دیده بان'!E966","v":0},{"$f":"'دیده بان'!G966","v":0},{"$f":"'دیده بان'!I966","v":0},0,0,{"$error":"#DIV/0!"},0]
[{"$f":"'دیده بان'!A967","v":0},{"$f":"'دیده بان'!B967","v":0},{"$f":"'دیده بان'!C967","v":0},{"$f":"'دیده بان'!D967","v":0},{"$f":"'دیده بان'!E967","v":0},{"$f":"'دیده بان'!G967","v":0},{"$f":"'دیده بان'!I967","v":0},0,0,{"$error":"#DIV/0!"},0]
[{"$f":"'دیده بان'!A968","v":0},{"$f":"'دیده بان'!B968","v":0},{"$f":"'دیده بان'!C968","v":0},{"$f":"'دیده بان'!D968","v":0},{"$f":"'دیده بان'!E968","v":0},{"$f":"'دیده بان'!G968","v":0},{"$f":"'دیده بان'!I968","v":0},0,0,{"$error":"#DIV/0!"},0]
[{"$f":"'دیده بان'!A969","v":0},{"$f":"'دیده بان'!B969","v":0},{"$f":"'دیده بان'!C969","v":0},{"$f":"'دیده بان'!D969","v":0},{"$f":"'دیده بان'!E969","v":0},{"$f":"'دیده بان'!G969","v":0},{"$f":"'دیده بان'!I969","v":0},0,0,{"$error":"#DIV/0!"},0]
[{"$f":"'دیده بان'!A970","v":0},{"$f":"'دیده بان'!B970","v":0},{"$f":"'دیده بان'!C970","v":0},{"$f":"'دیده بان'!D970","v":0},{"$f":"'دیده بان'!E970","v":0},{"$f":"'دیده بان'!G970","v":0},{"$f":"'دیده بان'!I970","v":0},0,0,{"$error":"#DIV/0!"},0]
[{"$f":"'دیده بان'!A971","v":0},{"$f":"'دیده بان'!B971","v":0},{"$f":"'دیده بان'!C971","v":0},{"$f":"'دیده بان'!D971","v":0},{"$f":"'دیده بان'!E971","v":0},{"$f":"'دیده بان'!G971","v":0},{"$f":"'دیده بان'!I971","v":0},0,0,{"$error":"#DIV/0!"},0]
[{"$f":"'دیده بان'!A972","v":0},{"$f":"'دیده بان'!B972","v":0},{"$f":"'دیده بان'!C972","v":0},{"$f":"'دیده بان'!D972","v":0},{"$f":"'دیده بان'!E972","v":0},{"$f":"'دیده بان'!G972","v":0},{"$f":"'دیده بان'!I972","v":0},0,0,{"$error":"#DIV/0!"},0]
[{"$f":"'دیده بان'!A973","v":0},{"$f":"'دیده بان'!B973","v":0},{"$f":"'دیده بان'!C973","v":0},{"$f":"'دیده بان'!D973","v":0},{"$f":"'دیده بان'!E973","v":0},{"$f":"'دیده بان'!G973","v":0},{"$f":"'دیده بان'!I973","v":0},0,0,{"$error":"#DIV/0!"},0]
[{"$f":"'دیده بان'!A974","v":0},{"$f":"'دیده بان'!B974","v":0},{"$f":"'دیده بان'!C974","v":0},{"$f":"'دیده بان'!D974","v":0},{"$f":"'دیده بان'!E974","v":0},{"$f":"'دیده بان'!G974","v":0},{"$f":"'دیده بان'!I974","v":0},0,0,{"$error":"#DIV/0!"},0]
[{"$f":"'دیده بان'!A975","v":0},{"$f":"'دیده بان'!B975","v":0},{"$f":"'دیده بان'!C975","v":0},{"$f":"'دیده بان'!D975","v":0},{"$f":"'دیده بان'!E975","v":0},{"$f":"'دیده بان'!G975","v":0},{"$f":"'دیده بان'!I975","v":0},0,0,{"$error":"#DIV/0!"},0]
[{"$f":"'دیده بان'!A976","v":0},{"$f":"'دیده بان'!B976","v":0},{"$f":"'دیده بان'!C976","v":0},{"$f":"'دیده بان'!D976","v":0},{"$f":"'دیده بان'!E976","v":0},{"$f":"'دیده بان'!G976","v":0},{"$f":"'دیده بان'!I976","v":0},0,0,{"$error":"#DIV/0!"},0]
[{"$f":"'دیده بان'!A977","v":0},{"$f":"'دیده بان'!B977","v":0},{"$f":"'دیده بان'!C977","v":0},{"$f":"'دیده بان'!D977","v":0},{"$f":"'دیده بان'!E977","v":0},{"$f":"'دیده بان'!G977","v":0},{"$f":"'دیده بان'!I977","v":0},0,0,{"$error":"#DIV/0!"},0]
[{"$f":"'دیده بان'!A978","v":0},{"$f":"'دیده بان'!B978","v":0},{"$f":"'دیده بان'!C978","v":0},{"$f":"'دیده بان'!D978","v":0},{"$f":"'دیده بان'!E978","v":0},{"$f":"'دیده بان'!G978","v":0},{"$f":"'دیده بان'!I978","v":0},0,0,{"$error":"#DIV/0!"},0]
[{"$f":"'دیده بان'!A979","v":0},{"$f":"'دیده بان'!B979","v":0},{"$f":"'دیده بان'!C979","v":0},{"$f":"'دیده بان'!D979","v":0},{"$f":"'دیده بان'!E979","v":0},{"$f":"'دیده بان'!G979","v":0},{"$f":"'دیده بان'!I979","v":0},0,0,{"$error":"#DIV/0!"},0]
[{"$f":"'دیده بان'!A980","v":0},{"$f":"'دیده بان'!B980","v":0},{"$f":"'دیده بان'!C980","v":0},{"$f":"'دیده بان'!D980","v":0},{"$f":"'دیده بان'!E980","v":0},{"$f":"'دیده بان'!G980","v":0},{"$f":"'دیده بان'!I980","v":0},0,0,{"$error":"#DIV/0!"},0]
[{"$f":"'دیده بان'!A981","v":0},{"$f":"'دیده بان'!B981","v":0},{"$f":"'دیده بان'!C981","v":0},{"$f":"'دیده بان'!D981","v":0},{"$f":"'دیده بان'!E981","v":0},{"$f":"'دیده بان'!G981","v":0},{"$f":"'دیده بان'!I981","v":0},0,0,{"$error":"#DIV/0!"},0]
[{"$f":"'دیده بان'!A982","v":0},{"$f":"'دیده بان'!B982","v":0},{"$f":"'دیده بان'!C982","v":0},{"$f":"'دیده بان'!D982","v":0},{"$f":"'دیده بان'!E982","v":0},{"$f":"'دیده بان'!G982","v":0},{"$f":"'دیده بان'!I982","v":0},0,0,{"$error":"#DIV/0!"},0]
[{"$f":"'دیده بان'!A983","v":0},{"$f":"'دیده بان'!B983","v":0},{"$f":"'دیده بان'!C983","v":0},{"$f":"'دیده بان'!D983","v":0},{"$f":"'دیده بان'!E983","v":0},{"$f":"'دیده بان'!G983","v":0},{"$f":"'دیده بان'!I983","v":0},0,0,{"$error":"#DIV/0!"},0]
[{"$f":"'دیده بان'!A984","v":0},{"$f":"'دیده بان'!B984","v":0},{"$f":"'دیده بان'!C984","v":0},{"$f":"'دیده بان'!D984","v":0},{"$f":"'دیده بان'!E984","v":0},{"$f":"'دیده بان'!G984","v":0},{"$f":"'دیده بان'!I984","v":0},0,0,{"$error":"#DIV/0!"},0]
[{"$f":"'دیده بان'!A985","v":0},{"$f":"'دیده بان'!B985","v":0},{"$f":"'دیده بان'!C985","v":0},{"$f":"'دیده بان'!D985","v":0},{"$f":"'دیده بان'!E985","v":0},{"$f":"'دیده بان'!G985","v":0},{"$f":"'دیده بان'!I985","v":0},0,0,{"$error":"#DIV/0!"},0]
[{"$f":"'دیده بان'!A986","v":0},{"$f":"'دیده بان'!B986","v":0},{"$f":"'دیده بان'!C986","v":0},{"$f":"'دیده بان'!D986","v":0},{"$f":"'دیده بان'!E986","v":0},{"$f":"'دیده بان'!G986","v":0},{"$f":"'دیده بان'!I986","v":0},0,0,{"$error":"#DIV/0!"},0]
[{"$f":"'دیده بان'!A987","v":0},{"$f":"'دیده بان'!B987","v":0},{"$f":"'دیده بان'!C987","v":0},{"$f":"'دیده بان'!D987","v":0},{"$f":"'دیده بان'!E987","v":0},{"$f":"'دیده بان'!G987","v":0},{"$f":"'دیده بان'!I987","v":0},0,0,{"$error":"#DIV/0!"},0]
[{"$f":"'دیده بان'!A988","v":0},{"$f":"'دیده بان'!B988","v":0},{"$f":"'دیده بان'!C988","v":0},{"$f":"'دیده بان'!D988","v":0},{"$f":"'دیده بان'!E988","v":0},{"$f":"'دیده بان'!G988","v":0},{"$f":"'دیده بان'!I988","v":0},0,0,{"$error":"#DIV/0!"},0]
[{"$f":"'دیده بان'!A989","v":0},{"$f":"'دیده بان'!B989","v":0},{"$f":"'دیده بان'!C989","v":0},{"$f":"'دیده بان'!D989","v":0},{"$f":"'دیده بان'!E989","v":0},{"$f":"'دیده بان'!G989","v":0},{"$f":"'دیده بان'!I989","v":0},0,0,{"$error":"#DIV/0!"},0]
[{"$f":"'دیده بان'!A990","v":0},{"$f":"'دیده بان'!B990","v":0},{"$f":"'دیده بان'!C990","v":0},{"$f":"'دیده بان'!D990","v":0},{"$f":"'دیده بان'!E990","v":0},{"$f":"'دیده بان'!G990","v":0},{"$f":"'دیده بان'!I990","v":0},0,0,{"$error":"#DIV/0!"},0]
[{"$f":"'دیده بان'!A991","v":0},{"$f":"'دیده بان'!B991","v":0},{"$f":"'دیده بان'!C991","v":0},{"$f":"'دیده بان'!D991","v":0},{"$f":"'دیده بان'!E991","v":0},{"$f":"'دیده بان'!G991","v":0},{"$f":"'دیده بان'!I991","v":0},0,0,{"$error":"#DIV/0!"},0]
[{"$f":"'دیده بان'!A992","v":0},{"$f":"'دیده بان'!B992","v":0},{"$f":"'دیده بان'!C992","v":0},{"$f":"'دیده بان'!D992","v":0},{"$f":"'دیده بان'!E992","v":0},{"$f":"'دیده بان'!G992","v":0},{"$f":"'دیده بان'!I992","v":0},0,0,{"$error":"#DIV/0!"},0]
[{"$f":"'دیده بان'!A993","v":0},{"$f":"'دیده بان'!B993","v":0},{"$f":"'دیده بان'!C993","v":0},{"$f":"'دیده بان'!D993","v":0},{"$f":"'دیده بان'!E993","v":0},{"$f":"'دیده بان'!G993","v":0},{"$f":"'دیده بان'!I993","v":0},0,0,{"$error":"#DIV/0!"},0]
[{"$f":"'دیده بان'!A994","v":0},{"$f":"'دیده بان'!B994","v":0},{"$f":"'دیده بان'!C994","v":0},{"$f":"'دیده بان'!D994","v":0},{"$f":"'دیده بان'!E994","v":0},{"$f":"'دیده بان'!G994","v":0},{"$f":"'دیده بان'!I994","v":0},0,0,{"$error":"#DIV/0!"},0]
[{"$f":"'دیده بان'!A995","v":0},{"$f":"'دیده بان'!B995","v":0},{"$f":"'دیده بان'!C995","v":0},{"$f":"'دیده بان'!D995","v":0},{"$f":"'دیده بان'!E995","v":0},{"$f":"'دیده بان'!G995","v":0},{"$f":"'دیده بان'!I995","v":0},0,0,{"$error":"#DIV/0!"},0]
[{"$f":"'دیده بان'!A996","v":0},{"$f":"'دیده بان'!B996","v":0},{"$f":"'دیده بان'!C996","v":0},{"$f":"'دیده بان'!D996","v":0},{"$f":"'دیده بان'!E996","v":0},{"$f":"'دیده بان'!G996","v":0},{"$f":"'دیده بان'!I996","v":0},0,0,{"$error":"#DIV/0!"},0]
[{"$f":"'دیده بان'!A997","v":0},{"$f":"'دیده بان'!B997","v":0},{"$f":"'دیده بان'!C997","v":0},{"$f":"'دیده بان'!D997","v":0},{"$f":"'دیده بان'!E997","v":0},{"$f":"'دیده بان'!G997","v":0},{"$f":"'دیده بان'!I997","v":0},0,0,{"$error":"#DIV/0!"},0]
[{"$f":"'دیده بان'!A998","v":0},{"$f":"'دیده بان'!B998","v":0},{"$f":"'دیده بان'!C998","v":0},{"$f":"'دیده بان'!D998","v":0},{"$f":"'دیده بان'!E998","v":0},{"$f":"'دیده بان'!G998","v":0},{"$f":"'دیده بان'!I998","v":0},0,0,{"$error":"#DIV/0!"},0]
[{"$f":"'دیده بان'!A999","v":0},{"$f":"'دیده بان'!B999","v":0},{"$f":"'دیده بان'!C999","v":0},{"$f":"'دیده بان'!D999","v":0},{"$f":"'دیده بان'!E999","v":0},{"$f":"'دیده بان'!G999","v":0},{"$f":"'دیده بان'!I999","v":0},0,0,{"$error":"#DIV/0!"},0]
[{"$f":"'دیده بان'!A1000","v":0},{"$f":"'دیده بان'!B1000","v":0},{"$f":"'دیده بان'!C1000","v":0},{"$f":"'دیده بان'!D1000","v":0},{"$f":"'دیده بان'!E1000","v":0},{"$f":"'دیده بان'!G1000","v":0},{"$f":"'دیده بان'!I1000","v":0},0,0,{"$error":"#DIV/0!"},0]
[{"$f":"'دیده بان'!A1001","v":0},{"$f":"'دیده بان'!B1001","v":0},{"$f":"'دیده بان'!C1001","v":0},{"$f":"'دیده بان'!D1001","v":0},{"$f":"'دیده بان'!E1001","v":0},{"$f":"'دیده بان'!G1001","v":0},{"$f":"'دیده بان'!I1001","v":0},0,0,{"$error":"#DIV/0!"},0]